Back to Multiple platform build/check report for BioC 3.14
AB[C]DEFGHIJKLMNOPQRSTUVWXYZ

This page was generated on 2021-07-24 12:05:50 -0400 (Sat, 24 Jul 2021).

INSTALL results for combi on riesling1

To the developers/maintainers of the combi package:
- Please allow up to 24 hours (and sometimes 48 hours) for your latest push to git@git.bioconductor.org:packages/combi.git to
reflect on this report. See How and When does the builder pull? When will my changes propagate? here for more information.
- Make sure to use the following settings in order to reproduce any error or warning you see on this page.

raw results

Package 357/2008HostnameOS / ArchINSTALLBUILDCHECKBUILD BIN
combi 1.5.0  (landing page)
Joris Meys
Snapshot Date: 2021-07-23 14:50:08 -0400 (Fri, 23 Jul 2021)
URL: https://git.bioconductor.org/packages/combi
Branch: master
Last Commit: 9f97750
Last Changed Date: 2021-05-19 12:50:35 -0400 (Wed, 19 May 2021)
nebbiolo2Linux (Ubuntu 20.04.2 LTS) / x86_64  OK    OK    OK  UNNEEDED, same version is already published
riesling1Windows Server 2019 Standard / x64  OK    OK    OK    OK  UNNEEDED, same version is already published
merida1macOS 10.14.6 Mojave / x86_64  OK    OK    OK    OK  UNNEEDED, same version is already published

Summary

Package: combi
Version: 1.5.0
Command: C:\cygwin\bin\curl.exe -O http://155.52.207.166/BBS/3.14/bioc/src/contrib/combi_1.5.0.tar.gz && rm -rf combi.buildbin-libdir && mkdir combi.buildbin-libdir && D:\biocbuild\bbs-3.14-bioc\R\bin\R.exe CMD INSTALL --merge-multiarch --build --library=combi.buildbin-libdir combi_1.5.0.tar.gz && D:\biocbuild\bbs-3.14-bioc\R\bin\R.exe CMD INSTALL combi_1.5.0.zip && rm combi_1.5.0.tar.gz combi_1.5.0.zip
StartedAt: 2021-07-23 17:36:41 -0400 (Fri, 23 Jul 2021)
EndedAt: 2021-07-23 17:39:16 -0400 (Fri, 23 Jul 2021)
EllapsedTime: 154.9 seconds
RetCode: 0
Status:   OK  

Command output

##############################################################################
##############################################################################
###
### Running command:
###
###   C:\cygwin\bin\curl.exe -O http://155.52.207.166/BBS/3.14/bioc/src/contrib/combi_1.5.0.tar.gz && rm -rf combi.buildbin-libdir && mkdir combi.buildbin-libdir && D:\biocbuild\bbs-3.14-bioc\R\bin\R.exe CMD INSTALL --merge-multiarch --build --library=combi.buildbin-libdir combi_1.5.0.tar.gz && D:\biocbuild\bbs-3.14-bioc\R\bin\R.exe CMD INSTALL combi_1.5.0.zip && rm combi_1.5.0.tar.gz combi_1.5.0.zip
###
##############################################################################
##############################################################################


  % Total    % Received % Xferd  Average Speed   Time    Time     Time  Current
                                 Dload  Upload   Total   Spent    Left  Speed

  0     0    0     0    0     0      0      0 --:--:-- --:--:-- --:--:--     0
100 1097k  100 1097k    0     0  4477k      0 --:--:-- --:--:-- --:--:-- 4496k

install for i386

* installing *source* package 'combi' ...
** using staged installation
** R
** data
** inst
** byte-compile and prepare package for lazy loading
** help
*** installing help indices
  converting help for package 'combi'
    finding HTML links ... done
    addLink                                 html  
    arrayMult                               html  
    buildCentMat                            html  
    buildCompMat                            html  
    buildConfMat                            html  
    buildCovMat                             html  
    buildEmptyJac                           html  
    buildMarginalOffset                     html  
    buildMu                                 html  
    buildMuMargins                          html  
    buildOffsetModel                        html  
    checkAlias                              html  
    checkMeanVarTrend                       html  
    checkMonotonicity                       html  
    combi                                   html  
    convPlot                                html  
    deriv2LagrangianFeatures                html  
    deriv2LagrangianLatentVars              html  
    deriv2LagrangianLatentVarsConstr        html  
    derivLagrangianFeatures                 html  
    derivLagrangianLatentVars               html  
    derivLagrangianLatentVarsConstr         html  
    estFeatureParameters                    html  
    estIndepModel                           html  
    estLatentVars                           html  
    estMeanVarTrend                         html  
    estOff                                  html  
    extractCoords                           html  
    extractData                             html  
    extractMat                              html  
    filterConfounders                       html  
    getInflLatentVar                        html  
    gramSchmidtOrth                         html  
    indentPlot                              html  
    inflPlot                                html  
    influence.combi                         html  
    jacConfounders                          html  
    jacConfoundersComp                      html  
    jacFeatures                             html  
    jacLatentVars                           html  
    jacLatentVarsConstr                     html  
    plot.combi                              html  
    polyHorner                              html  
    predictSpline                           html  
    prepareJacMat                           html  
    prepareJacMatComp                       html  
    prepareScoreMat                         html  
    print.combi                             html  
    quasiJacIndep                           html  
    quasiScoreIndep                         html  
    rowMultiply                             html  
    scaleCoords                             html  
    scoreConfounders                        html  
    scoreConfoundersComp                    html  
    scoreFeatureParams                      html  
    scoreLatentVars                         html  
    seqM                                    html  
    trimOnConfounders                       html  
    zhangMetabo                             html  
    zhangMetavars                           html  
    zhangMicrobio                           html  
** building package indices
** installing vignettes
** testing if installed package can be loaded from temporary location
** testing if installed package can be loaded from final location
** testing if installed package keeps a record of temporary installation path

install for x64

* installing *source* package 'combi' ...
** testing if installed package can be loaded
* MD5 sums
packaged installation of 'combi' as combi_1.5.0.zip
* DONE (combi)
* installing to library 'D:/biocbuild/bbs-3.14-bioc/R/library'
package 'combi' successfully unpacked and MD5 sums checked