Back to Multiple platform build/check report for BioC 3.14
AB[C]DEFGHIJKLMNOPQRSTUVWXYZ

This page was generated on 2021-07-24 12:06:25 -0400 (Sat, 24 Jul 2021).

BUILD results for combi on merida1

To the developers/maintainers of the combi package:
- Please allow up to 24 hours (and sometimes 48 hours) for your latest push to git@git.bioconductor.org:packages/combi.git to
reflect on this report. See How and When does the builder pull? When will my changes propagate? here for more information.
- Make sure to use the following settings in order to reproduce any error or warning you see on this page.

raw results

Package 357/2008HostnameOS / ArchINSTALLBUILDCHECKBUILD BIN
combi 1.5.0  (landing page)
Joris Meys
Snapshot Date: 2021-07-23 14:50:08 -0400 (Fri, 23 Jul 2021)
URL: https://git.bioconductor.org/packages/combi
Branch: master
Last Commit: 9f97750
Last Changed Date: 2021-05-19 12:50:35 -0400 (Wed, 19 May 2021)
nebbiolo2Linux (Ubuntu 20.04.2 LTS) / x86_64  OK    OK    OK  UNNEEDED, same version is already published
riesling1Windows Server 2019 Standard / x64  OK    OK    OK    OK  UNNEEDED, same version is already published
merida1macOS 10.14.6 Mojave / x86_64  OK    OK    OK    OK  UNNEEDED, same version is already published

Summary

Package: combi
Version: 1.5.0
Command: /Library/Frameworks/R.framework/Resources/bin/R CMD build --keep-empty-dirs --no-resave-data combi
StartedAt: 2021-07-23 18:56:45 -0400 (Fri, 23 Jul 2021)
EndedAt: 2021-07-23 19:00:06 -0400 (Fri, 23 Jul 2021)
EllapsedTime: 201.1 seconds
RetCode: 0
Status:   OK  
PackageFile: combi_1.5.0.tar.gz
PackageFileSize: 1.189 MiB

Command output

##############################################################################
##############################################################################
###
### Running command:
###
###   /Library/Frameworks/R.framework/Resources/bin/R CMD build --keep-empty-dirs --no-resave-data combi
###
##############################################################################
##############################################################################


* checking for file ‘combi/DESCRIPTION’ ... OK
* preparing ‘combi’:
* checking DESCRIPTION meta-information ... OK
* installing the package to build vignettes
* creating vignettes ... OK
* checking for LF line-endings in source and make files and shell scripts
* checking for empty or unneeded directories
* looking to see if a ‘data/datalist’ file should be added
  NB: this package now depends on R (>= 3.5.0)
  WARNING: Added dependency on R >= 3.5.0 because serialized objects in
  serialize/load version 3 cannot be read in older versions of R.
  File(s) containing such objects:
    ‘combi/data/Zhang.RData’ ‘combi/inst/extdata/zhangFits.RData’
* building ‘combi_1.5.0.tar.gz’