Back to Multiple platform build/check report for BioC 3.14
AB[C]DEFGHIJKLMNOPQRSTUVWXYZ

All results for package combi

This page was generated on 2021-06-16 12:04:12 -0400 (Wed, 16 Jun 2021).

Package 356/1993HostnameOS / ArchINSTALLBUILDCHECKBUILD BIN
combi 1.5.0  (landing page)
Joris Meys
Snapshot Date: 2021-06-15 14:50:06 -0400 (Tue, 15 Jun 2021)
URL: https://git.bioconductor.org/packages/combi
Branch: master
Last Commit: 9f97750
Last Changed Date: 2021-05-19 12:50:35 -0400 (Wed, 19 May 2021)
nebbiolo2Linux (Ubuntu 20.04.2 LTS) / x86_64  OK    OK    OK  UNNEEDED, same version is already published
riesling1Windows Server 2019 Standard / x64  OK    OK    OK    OK  UNNEEDED, same version is already published
merida1macOS 10.14.6 Mojave / x86_64  OK    OK    OK    OK  UNNEEDED, same version is already published