Index of /checkResults/devel/bioc-LATEST/cmapR/raw-results/nebbiolo2

[ICO]NameLast modifiedSizeDescription

[DIR]Parent Directory  -  
[TXT]buildsrc-out.txt16-Jun-2024 01:33 822  
[   ]buildsrc-summary.dcf16-Jun-2024 01:33 416  
[TXT]checksrc-out.txt16-Jun-2024 01:33 3.9K 
[   ]checksrc-summary.dcf16-Jun-2024 01:33 406  
[TXT]install-out.txt16-Jun-2024 01:33 1.0K 
[   ]install-summary.dcf16-Jun-2024 01:33 255