Index of /checkResults/devel/bioc-LATEST/cmapR/raw-results/kunpeng2

[ICO]NameLast modifiedSizeDescription

[DIR]Parent Directory  -  
[TXT]buildsrc-out.txt16-May-2024 02:46 809  
[   ]buildsrc-summary.dcf16-May-2024 02:46 422  
[TXT]checksrc-out.txt16-May-2024 02:46 4.0K 
[   ]checksrc-summary.dcf16-May-2024 02:46 443  
[TXT]install-out.txt16-May-2024 02:46 1.0K 
[   ]install-summary.dcf16-May-2024 02:46 266