Index of /checkResults/devel/bioc-LATEST/cmapR/raw-results/kjohnson3

[ICO]NameLast modifiedSizeDescription

[DIR]Parent Directory  -  
[TXT]buildbin-out.txt18-Jul-2024 00:42 1.2K 
[   ]buildbin-summary.dcf18-Jul-2024 00:42 518  
[TXT]buildsrc-out.txt18-Jul-2024 00:42 808  
[   ]buildsrc-summary.dcf18-Jul-2024 00:42 421  
[TXT]checksrc-out.txt18-Jul-2024 00:42 3.9K 
[   ]checksrc-summary.dcf18-Jul-2024 00:42 435  
[TXT]install-out.txt18-Jul-2024 00:42 1.0K 
[   ]install-summary.dcf18-Jul-2024 00:42 264