Back to Multiple platform build/check report for BioC 3.14
AB[C]DEFGHIJKLMNOPQRSTUVWXYZ

All results for package clustifyr

This page was generated on 2021-06-14 12:03:30 -0400 (Mon, 14 Jun 2021).

Package 327/1993HostnameOS / ArchINSTALLBUILDCHECKBUILD BIN
clustifyr 1.5.0  (landing page)
Rui Fu
Snapshot Date: 2021-06-13 14:50:05 -0400 (Sun, 13 Jun 2021)
URL: https://git.bioconductor.org/packages/clustifyr
Branch: master
Last Commit: 2a15c8b
Last Changed Date: 2021-05-21 05:13:09 -0400 (Fri, 21 May 2021)
nebbiolo2Linux (Ubuntu 20.04.2 LTS) / x86_64  OK    OK    OK  UNNEEDED, same version is already published
riesling1Windows Server 2019 Standard / x64  OK    OK    OK    OK  UNNEEDED, same version is already published
merida1macOS 10.14.6 Mojave / x86_64  OK    OK    OK    OK  UNNEEDED, same version is already published