Back to Multiple platform build/check report for BioC 3.14
AB[C]DEFGHIJKLMNOPQRSTUVWXYZ

This page was generated on 2021-09-25 12:05:25 -0400 (Sat, 25 Sep 2021).

INSTALL results for clipper on riesling1

To the developers/maintainers of the clipper package:
- Please allow up to 24 hours (and sometimes 48 hours) for your latest push to git@git.bioconductor.org:packages/clipper.git to
reflect on this report. See How and When does the builder pull? When will my changes propagate? here for more information.
- Make sure to use the following settings in order to reproduce any error or warning you see on this page.

raw results

Package 318/2034HostnameOS / ArchINSTALLBUILDCHECKBUILD BIN
clipper 1.33.0  (landing page)
Paolo Martini
Snapshot Date: 2021-09-24 14:50:08 -0400 (Fri, 24 Sep 2021)
git_url: https://git.bioconductor.org/packages/clipper
git_branch: master
git_last_commit: 2b5f6b6
git_last_commit_date: 2021-05-19 11:57:18 -0400 (Wed, 19 May 2021)
nebbiolo2Linux (Ubuntu 20.04.2 LTS) / x86_64  OK    OK    OK  UNNEEDED, same version is already published
riesling1Windows Server 2019 Standard / x64  OK    OK    OK    OK  UNNEEDED, same version is already published
merida1macOS 10.14.6 Mojave / x86_64  OK    OK    OK    OK  UNNEEDED, same version is already published

Summary

Package: clipper
Version: 1.33.0
Command: C:\cygwin\bin\curl.exe -O http://155.52.207.166/BBS/3.14/bioc/src/contrib/clipper_1.33.0.tar.gz && rm -rf clipper.buildbin-libdir && mkdir clipper.buildbin-libdir && D:\biocbuild\bbs-3.14-bioc\R\bin\R.exe CMD INSTALL --merge-multiarch --build --library=clipper.buildbin-libdir clipper_1.33.0.tar.gz && D:\biocbuild\bbs-3.14-bioc\R\bin\R.exe CMD INSTALL clipper_1.33.0.zip && rm clipper_1.33.0.tar.gz clipper_1.33.0.zip
StartedAt: 2021-09-24 18:45:09 -0400 (Fri, 24 Sep 2021)
EndedAt: 2021-09-24 18:48:09 -0400 (Fri, 24 Sep 2021)
EllapsedTime: 180.6 seconds
RetCode: 0
Status:   OK  

Command output

##############################################################################
##############################################################################
###
### Running command:
###
###   C:\cygwin\bin\curl.exe -O http://155.52.207.166/BBS/3.14/bioc/src/contrib/clipper_1.33.0.tar.gz && rm -rf clipper.buildbin-libdir && mkdir clipper.buildbin-libdir && D:\biocbuild\bbs-3.14-bioc\R\bin\R.exe CMD INSTALL --merge-multiarch --build --library=clipper.buildbin-libdir clipper_1.33.0.tar.gz && D:\biocbuild\bbs-3.14-bioc\R\bin\R.exe CMD INSTALL clipper_1.33.0.zip && rm clipper_1.33.0.tar.gz clipper_1.33.0.zip
###
##############################################################################
##############################################################################


  % Total    % Received % Xferd  Average Speed   Time    Time     Time  Current
                                 Dload  Upload   Total   Spent    Left  Speed

  0     0    0     0    0     0      0      0 --:--:-- --:--:-- --:--:--     0
100  417k  100  417k    0     0  1595k      0 --:--:-- --:--:-- --:--:-- 1595k

install for i386

* installing *source* package 'clipper' ...
** using staged installation
** R
** inst
** byte-compile and prepare package for lazy loading
No methods found in package 'GenomicRanges' for request: 'c' when loading 'qpgraph'
** help
*** installing help indices
  converting help for package 'clipper'
    finding HTML links ... done
    clipper                                 html  
    clipperAllRoots                         html  
    cliqueMeanTest                          html  
    cliqueMixedTest                         html  
    cliquePairedTest                        html  
    cliqueVarianceTest                      html  
    deleteEdge                              html  
    easyClip                                html  
    easyLook                                html  
    getGraphEntryGenes                      html  
    getJunctionTreePaths                    html  
    nameCliques                             html  
    pathwayTest                             html  
    plotInCytoscape                         html  
    prunePaths                              html  
** building package indices
** installing vignettes
** testing if installed package can be loaded from temporary location
No methods found in package 'GenomicRanges' for request: 'c' when loading 'qpgraph'
** testing if installed package can be loaded from final location
No methods found in package 'GenomicRanges' for request: 'c' when loading 'qpgraph'
** testing if installed package keeps a record of temporary installation path

install for x64

* installing *source* package 'clipper' ...
** testing if installed package can be loaded
No methods found in package 'GenomicRanges' for request: 'c' when loading 'qpgraph'
* MD5 sums
packaged installation of 'clipper' as clipper_1.33.0.zip
* DONE (clipper)
* installing to library 'D:/biocbuild/bbs-3.14-bioc/R/library'
package 'clipper' successfully unpacked and MD5 sums checked