Back to Multiple platform build/check report for BioC 3.14
AB[C]DEFGHIJKLMNOPQRSTUVWXYZ

This page was generated on 2021-09-28 12:05:20 -0400 (Tue, 28 Sep 2021).

CHECK results for clipper on riesling1

To the developers/maintainers of the clipper package:
- Please allow up to 24 hours (and sometimes 48 hours) for your latest push to git@git.bioconductor.org:packages/clipper.git to
reflect on this report. See How and When does the builder pull? When will my changes propagate? here for more information.
- Make sure to use the following settings in order to reproduce any error or warning you see on this page.

raw results

Package 318/2034HostnameOS / ArchINSTALLBUILDCHECKBUILD BIN
clipper 1.33.0  (landing page)
Paolo Martini
Snapshot Date: 2021-09-27 14:50:07 -0400 (Mon, 27 Sep 2021)
git_url: https://git.bioconductor.org/packages/clipper
git_branch: master
git_last_commit: 2b5f6b6
git_last_commit_date: 2021-05-19 11:57:18 -0400 (Wed, 19 May 2021)
nebbiolo2Linux (Ubuntu 20.04.2 LTS) / x86_64  OK    OK    OK  UNNEEDED, same version is already published
riesling1Windows Server 2019 Standard / x64  OK    OK    OK    OK  UNNEEDED, same version is already published
merida1macOS 10.14.6 Mojave / x86_64  OK    OK    OK    OK  UNNEEDED, same version is already published

Summary

Package: clipper
Version: 1.33.0
Command: D:\biocbuild\bbs-3.14-bioc\R\bin\R.exe CMD check --force-multiarch --install=check:clipper.install-out.txt --library=D:\biocbuild\bbs-3.14-bioc\R\library --no-vignettes --timings clipper_1.33.0.tar.gz
StartedAt: 2021-09-28 00:15:39 -0400 (Tue, 28 Sep 2021)
EndedAt: 2021-09-28 00:21:13 -0400 (Tue, 28 Sep 2021)
EllapsedTime: 334.1 seconds
RetCode: 0
Status:   OK  
CheckDir: clipper.Rcheck
Warnings: 0

Command output

##############################################################################
##############################################################################
###
### Running command:
###
###   D:\biocbuild\bbs-3.14-bioc\R\bin\R.exe CMD check --force-multiarch --install=check:clipper.install-out.txt --library=D:\biocbuild\bbs-3.14-bioc\R\library --no-vignettes --timings clipper_1.33.0.tar.gz
###
##############################################################################
##############################################################################


* using log directory 'D:/biocbuild/bbs-3.14-bioc/meat/clipper.Rcheck'
* using R version 4.1.1 (2021-08-10)
* using platform: x86_64-w64-mingw32 (64-bit)
* using session charset: ISO8859-1
* using option '--no-vignettes'
* checking for file 'clipper/DESCRIPTION' ... OK
* this is package 'clipper' version '1.33.0'
* checking package namespace information ... OK
* checking package dependencies ... OK
* checking if this is a source package ... OK
* checking if there is a namespace ... OK
* checking for hidden files and directories ... OK
* checking for portable file names ... OK
* checking whether package 'clipper' can be installed ... OK
* checking installed package size ... OK
* checking package directory ... OK
* checking 'build' directory ... OK
* checking DESCRIPTION meta-information ... OK
* checking top-level files ... OK
* checking for left-over files ... OK
* checking index information ... OK
* checking package subdirectories ... OK
* checking R files for non-ASCII characters ... OK
* checking R files for syntax errors ... OK
* loading checks for arch 'i386'
** checking whether the package can be loaded ... OK
** checking whether the package can be loaded with stated dependencies ... OK
** checking whether the package can be unloaded cleanly ... OK
** checking whether the namespace can be loaded with stated dependencies ... OK
** checking whether the namespace can be unloaded cleanly ... OK
* loading checks for arch 'x64'
** checking whether the package can be loaded ... OK
** checking whether the package can be loaded with stated dependencies ... OK
** checking whether the package can be unloaded cleanly ... OK
** checking whether the namespace can be loaded with stated dependencies ... OK
** checking whether the namespace can be unloaded cleanly ... OK
* checking dependencies in R code ... OK
* checking S3 generic/method consistency ... OK
* checking replacement functions ... OK
* checking foreign function calls ... OK
* checking R code for possible problems ... OK
* checking Rd files ... OK
* checking Rd metadata ... OK
* checking Rd cross-references ... OK
* checking for missing documentation entries ... OK
* checking for code/documentation mismatches ... OK
* checking Rd \usage sections ... OK
* checking Rd contents ... OK
* checking for unstated dependencies in examples ... OK
* checking files in 'vignettes' ... OK
* checking examples ...
** running examples for arch 'i386' ... OK
Examples with CPU (user + system) or elapsed time > 5s
                user system elapsed
clipperAllRoots 6.89   0.03    6.92
** running examples for arch 'x64' ... OK
Examples with CPU (user + system) or elapsed time > 5s
                user system elapsed
clipperAllRoots 7.88   0.07    7.95
* checking for unstated dependencies in 'tests' ... OK
* checking tests ...
** running tests for arch 'i386' ...
  Running 'runTests.R'
 OK
** running tests for arch 'x64' ...
  Running 'runTests.R'
 OK
* checking for unstated dependencies in vignettes ... OK
* checking package vignettes in 'inst/doc' ... OK
* checking running R code from vignettes ... SKIPPED
* checking re-building of vignette outputs ... SKIPPED
* checking PDF version of manual ... OK
* DONE

Status: OK


Installation output

clipper.Rcheck/00install.out

##############################################################################
##############################################################################
###
### Running command:
###
###   C:\cygwin\bin\curl.exe -O http://155.52.207.166/BBS/3.14/bioc/src/contrib/clipper_1.33.0.tar.gz && rm -rf clipper.buildbin-libdir && mkdir clipper.buildbin-libdir && D:\biocbuild\bbs-3.14-bioc\R\bin\R.exe CMD INSTALL --merge-multiarch --build --library=clipper.buildbin-libdir clipper_1.33.0.tar.gz && D:\biocbuild\bbs-3.14-bioc\R\bin\R.exe CMD INSTALL clipper_1.33.0.zip && rm clipper_1.33.0.tar.gz clipper_1.33.0.zip
###
##############################################################################
##############################################################################


  % Total    % Received % Xferd  Average Speed   Time    Time     Time  Current
                                 Dload  Upload   Total   Spent    Left  Speed

  0     0    0     0    0     0      0      0 --:--:-- --:--:-- --:--:--     0
  3  417k    3 14637    0     0   122k      0  0:00:03 --:--:--  0:00:03  121k
100  417k  100  417k    0     0  1503k      0 --:--:-- --:--:-- --:--:-- 1498k

install for i386

* installing *source* package 'clipper' ...
** using staged installation
** R
** inst
** byte-compile and prepare package for lazy loading
No methods found in package 'GenomicRanges' for request: 'c' when loading 'qpgraph'
** help
*** installing help indices
  converting help for package 'clipper'
    finding HTML links ... done
    clipper                                 html  
    clipperAllRoots                         html  
    cliqueMeanTest                          html  
    cliqueMixedTest                         html  
    cliquePairedTest                        html  
    cliqueVarianceTest                      html  
    deleteEdge                              html  
    easyClip                                html  
    easyLook                                html  
    getGraphEntryGenes                      html  
    getJunctionTreePaths                    html  
    nameCliques                             html  
    pathwayTest                             html  
    plotInCytoscape                         html  
    prunePaths                              html  
** building package indices
** installing vignettes
** testing if installed package can be loaded from temporary location
No methods found in package 'GenomicRanges' for request: 'c' when loading 'qpgraph'
** testing if installed package can be loaded from final location
No methods found in package 'GenomicRanges' for request: 'c' when loading 'qpgraph'
** testing if installed package keeps a record of temporary installation path

install for x64

* installing *source* package 'clipper' ...
** testing if installed package can be loaded
No methods found in package 'GenomicRanges' for request: 'c' when loading 'qpgraph'
* MD5 sums
packaged installation of 'clipper' as clipper_1.33.0.zip
* DONE (clipper)
* installing to library 'D:/biocbuild/bbs-3.14-bioc/R/library'
package 'clipper' successfully unpacked and MD5 sums checked

Tests output

clipper.Rcheck/tests_i386/runTests.Rout


R version 4.1.1 (2021-08-10) -- "Kick Things"
Copyright (C) 2021 The R Foundation for Statistical Computing
Platform: i386-w64-mingw32/i386 (32-bit)

R is free software and comes with ABSOLUTELY NO WARRANTY.
You are welcome to redistribute it under certain conditions.
Type 'license()' or 'licence()' for distribution details.

R is a collaborative project with many contributors.
Type 'contributors()' for more information and
'citation()' on how to cite R or R packages in publications.

Type 'demo()' for some demos, 'help()' for on-line help, or
'help.start()' for an HTML browser interface to help.
Type 'q()' to quit R.

> BiocGenerics:::testPackage("clipper")

Attaching package: 'BiocGenerics'

The following objects are masked from 'package:stats':

    IQR, mad, sd, var, xtabs

The following objects are masked from 'package:base':

    Filter, Find, Map, Position, Reduce, anyDuplicated, append,
    as.data.frame, basename, cbind, colnames, dirname, do.call,
    duplicated, eval, evalq, get, grep, grepl, intersect, is.unsorted,
    lapply, mapply, match, mget, order, paste, pmax, pmax.int, pmin,
    pmin.int, rank, rbind, rownames, sapply, setdiff, sort, table,
    tapply, union, unique, unsplit, which.max, which.min

No methods found in package 'GenomicRanges' for request: 'c' when loading 'qpgraph'


RUNIT TEST PROTOCOL -- Tue Sep 28 00:20:29 2021 
*********************************************** 
Number of test functions: 10 
Number of errors: 0 
Number of failures: 0 

 
1 Test Suite : 
clipper RUnit Tests - 10 test functions, 0 errors, 0 failures
Number of test functions: 10 
Number of errors: 0 
Number of failures: 0 
> 
> pattern="^test_.*\\.R$"
> 
> proc.time()
   user  system elapsed 
   8.71    0.51    9.20 

clipper.Rcheck/tests_x64/runTests.Rout


R version 4.1.1 (2021-08-10) -- "Kick Things"
Copyright (C) 2021 The R Foundation for Statistical Computing
Platform: x86_64-w64-mingw32/x64 (64-bit)

R is free software and comes with ABSOLUTELY NO WARRANTY.
You are welcome to redistribute it under certain conditions.
Type 'license()' or 'licence()' for distribution details.

R is a collaborative project with many contributors.
Type 'contributors()' for more information and
'citation()' on how to cite R or R packages in publications.

Type 'demo()' for some demos, 'help()' for on-line help, or
'help.start()' for an HTML browser interface to help.
Type 'q()' to quit R.

> BiocGenerics:::testPackage("clipper")

Attaching package: 'BiocGenerics'

The following objects are masked from 'package:stats':

    IQR, mad, sd, var, xtabs

The following objects are masked from 'package:base':

    Filter, Find, Map, Position, Reduce, anyDuplicated, append,
    as.data.frame, basename, cbind, colnames, dirname, do.call,
    duplicated, eval, evalq, get, grep, grepl, intersect, is.unsorted,
    lapply, mapply, match, mget, order, paste, pmax, pmax.int, pmin,
    pmin.int, rank, rbind, rownames, sapply, setdiff, sort, table,
    tapply, union, unique, unsplit, which.max, which.min

No methods found in package 'GenomicRanges' for request: 'c' when loading 'qpgraph'


RUNIT TEST PROTOCOL -- Tue Sep 28 00:20:41 2021 
*********************************************** 
Number of test functions: 10 
Number of errors: 0 
Number of failures: 0 

 
1 Test Suite : 
clipper RUnit Tests - 10 test functions, 0 errors, 0 failures
Number of test functions: 10 
Number of errors: 0 
Number of failures: 0 
> 
> pattern="^test_.*\\.R$"
> 
> proc.time()
   user  system elapsed 
  10.59    0.50   11.07 

Example timings

clipper.Rcheck/examples_i386/clipper-Ex.timings

nameusersystemelapsed
clipper4.250.114.36
clipperAllRoots6.890.036.92
cliqueMeanTest2.780.112.89
cliqueMixedTest2.300.032.33
cliquePairedTest3.040.043.09
cliqueVarianceTest2.920.052.97
deleteEdge0.690.030.72
easyClip2.310.082.39
getGraphEntryGenes0.640.050.68
getJunctionTreePaths0.720.030.75
nameCliques000
pathwayTest3.830.063.89
plotInCytoscape000
prunePaths000

clipper.Rcheck/examples_x64/clipper-Ex.timings

nameusersystemelapsed
clipper4.290.144.44
clipperAllRoots7.880.077.95
cliqueMeanTest2.640.022.65
cliqueMixedTest1.950.082.04
cliquePairedTest2.700.092.80
cliqueVarianceTest1.880.051.92
deleteEdge0.590.000.59
easyClip1.970.032.00
getGraphEntryGenes0.610.060.68
getJunctionTreePaths0.550.050.59
nameCliques0.010.000.02
pathwayTest3.690.053.73
plotInCytoscape000
prunePaths000