Back to Multiple platform build/check report for BioC 3.14
AB[C]DEFGHIJKLMNOPQRSTUVWXYZ

BUILD BIN results for clipper on riesling1

This page was generated on 2021-06-16 12:04:57 -0400 (Wed, 16 Jun 2021).

Package 312/1993HostnameOS / ArchINSTALLBUILDCHECKBUILD BIN
clipper 1.33.0  (landing page)
Paolo Martini
Snapshot Date: 2021-06-15 14:50:06 -0400 (Tue, 15 Jun 2021)
URL: https://git.bioconductor.org/packages/clipper
Branch: master
Last Commit: 2b5f6b6
Last Changed Date: 2021-05-19 11:57:18 -0400 (Wed, 19 May 2021)
nebbiolo2Linux (Ubuntu 20.04.2 LTS) / x86_64  OK    OK    OK  UNNEEDED, same version is already published
riesling1Windows Server 2019 Standard / x64  OK    OK    OK    OK  NO, package depends on 'qpgraph' which is not available
merida1macOS 10.14.6 Mojave / x86_64  OK    OK    OK    OK  UNNEEDED, same version is already published
To the developers/maintainers of the clipper package:
- Please allow up to 24 hours (and sometimes 48 hours) for your latest push to git@git.bioconductor.org:packages/clipper.git to
reflect on this report. See How and When does the builder pull? When will my changes propagate? here for more information.
- Make sure to use the following settings in order to reproduce any error or warning you see on this page.

Summary

Package: clipper
Version: 1.33.0
Command: rm -rf clipper.buildbin-libdir && mkdir clipper.buildbin-libdir && D:\biocbuild\bbs-3.14-bioc\R\bin\R.exe CMD INSTALL --merge-multiarch --build --library=clipper.buildbin-libdir clipper_1.33.0.tar.gz
StartedAt: 2021-06-16 03:11:37 -0400 (Wed, 16 Jun 2021)
EndedAt: 2021-06-16 03:15:39 -0400 (Wed, 16 Jun 2021)
EllapsedTime: 242.2 seconds
RetCode: 0
Status:   OK   
PackageFile: clipper_1.33.0.zip
PackageFileSize: 738.5 KiB

Command output

##############################################################################
##############################################################################
###
### Running command:
###
###   rm -rf clipper.buildbin-libdir && mkdir clipper.buildbin-libdir && D:\biocbuild\bbs-3.14-bioc\R\bin\R.exe CMD INSTALL --merge-multiarch --build --library=clipper.buildbin-libdir clipper_1.33.0.tar.gz
###
##############################################################################
##############################################################################



install for i386

* installing *source* package 'clipper' ...
** using staged installation
** R
** inst
** byte-compile and prepare package for lazy loading
No methods found in package 'GenomicRanges' for request: 'c' when loading 'qpgraph'
** help
*** installing help indices
  converting help for package 'clipper'
    finding HTML links ... done
    clipper                                 html  
    clipperAllRoots                         html  
    cliqueMeanTest                          html  
    cliqueMixedTest                         html  
    cliquePairedTest                        html  
    cliqueVarianceTest                      html  
    deleteEdge                              html  
    easyClip                                html  
    easyLook                                html  
    getGraphEntryGenes                      html  
    getJunctionTreePaths                    html  
    nameCliques                             html  
    pathwayTest                             html  
    plotInCytoscape                         html  
    prunePaths                              html  
** building package indices
** installing vignettes
** testing if installed package can be loaded from temporary location
No methods found in package 'GenomicRanges' for request: 'c' when loading 'qpgraph'
** testing if installed package can be loaded from final location
No methods found in package 'GenomicRanges' for request: 'c' when loading 'qpgraph'
** testing if installed package keeps a record of temporary installation path

install for x64

* installing *source* package 'clipper' ...
** testing if installed package can be loaded
No methods found in package 'GenomicRanges' for request: 'c' when loading 'qpgraph'
* MD5 sums
packaged installation of 'clipper' as clipper_1.33.0.zip
* DONE (clipper)