Back to Multiple platform build/check report for BioC 3.14
AB[C]DEFGHIJKLMNOPQRSTUVWXYZ

This page was generated on 2021-06-18 12:04:02 -0400 (Fri, 18 Jun 2021).

All results for package categoryCompare

To the developers/maintainers of the categoryCompare package:
- Please allow up to 24 hours (and sometimes 48 hours) for your latest push to git@git.bioconductor.org:packages/categoryCompare.git to
reflect on this report. See How and When does the builder pull? When will my changes propagate? here for more information.
- Make sure to use the following settings in order to reproduce any error or warning you see on this page.

raw results

Package 239/1993HostnameOS / ArchINSTALLBUILDCHECKBUILD BIN
categoryCompare 1.37.1  (landing page)
Robert M. Flight
Snapshot Date: 2021-06-17 14:50:06 -0400 (Thu, 17 Jun 2021)
URL: https://git.bioconductor.org/packages/categoryCompare
Branch: master
Last Commit: 1da4bb2
Last Changed Date: 2021-06-17 14:46:47 -0400 (Thu, 17 Jun 2021)
nebbiolo2Linux (Ubuntu 20.04.2 LTS) / x86_64  OK    OK    OK  YES
riesling1Windows Server 2019 Standard / x64  OK    OK    OK    OK  NO, package depends on 'GOstats' which is not available
merida1macOS 10.14.6 Mojave / x86_64  OK    OK    OK    OK  YES