Back to Multiple platform build/check report for BioC 3.20:   simplified   long
AB[C]DEFGHIJKLMNOPQRSTUVWXYZ

This page was generated on 2024-06-11 15:39 -0400 (Tue, 11 Jun 2024).

HostnameOSArch (*)R versionInstalled pkgs
nebbiolo2Linux (Ubuntu 22.04.3 LTS)x86_644.4.0 RC (2024-04-16 r86468) -- "Puppy Cup" 4679
palomino4Windows Server 2022 Datacenterx644.4.0 RC (2024-04-16 r86468 ucrt) -- "Puppy Cup" 4414
merida1macOS 12.7.4 Montereyx86_644.4.0 Patched (2024-04-24 r86482) -- "Puppy Cup" 4441
kjohnson1macOS 13.6.6 Venturaarm644.4.0 Patched (2024-04-24 r86482) -- "Puppy Cup" 4394
Click on any hostname to see more info about the system (e.g. compilers)      (*) as reported by 'uname -p', except on Windows and Mac OS X

Package 266/2239HostnameOS / ArchINSTALLBUILDCHECKBUILD BIN
cardelino 1.7.0  (landing page)
Davis McCarthy
Snapshot Date: 2024-06-09 14:00 -0400 (Sun, 09 Jun 2024)
git_url: https://git.bioconductor.org/packages/cardelino
git_branch: devel
git_last_commit: abf5cef
git_last_commit_date: 2024-04-30 11:45:30 -0400 (Tue, 30 Apr 2024)
nebbiolo2Linux (Ubuntu 22.04.3 LTS) / x86_64  OK    OK    OK  UNNEEDED, same version is already published
palomino4Windows Server 2022 Datacenter / x64  OK    OK    OK    OK  UNNEEDED, same version is already published
merida1macOS 12.7.4 Monterey / x86_64  OK    OK    OK    OK  UNNEEDED, same version is already published
kjohnson1macOS 13.6.6 Ventura / arm64  OK    OK    OK    OK  UNNEEDED, same version is already published


CHECK results for cardelino on nebbiolo2

To the developers/maintainers of the cardelino package:
- Allow up to 24 hours (and sometimes 48 hours) for your latest push to git@git.bioconductor.org:packages/cardelino.git to reflect on this report. See Troubleshooting Build Report for more information.
- Use the following Renviron settings to reproduce errors and warnings.
- If 'R CMD check' started to fail recently on the Linux builder(s) over a missing dependency, add the missing dependency to 'Suggests:' in your DESCRIPTION file. See Renviron.bioc for more information.

raw results


Summary

Package: cardelino
Version: 1.7.0
Command: /home/biocbuild/bbs-3.20-bioc/R/bin/R CMD check --install=check:cardelino.install-out.txt --library=/home/biocbuild/bbs-3.20-bioc/R/site-library --timings cardelino_1.7.0.tar.gz
StartedAt: 2024-06-09 21:16:09 -0400 (Sun, 09 Jun 2024)
EndedAt: 2024-06-09 21:23:28 -0400 (Sun, 09 Jun 2024)
EllapsedTime: 438.8 seconds
RetCode: 0
Status:   OK  
CheckDir: cardelino.Rcheck
Warnings: 0

Command output

##############################################################################
##############################################################################
###
### Running command:
###
###   /home/biocbuild/bbs-3.20-bioc/R/bin/R CMD check --install=check:cardelino.install-out.txt --library=/home/biocbuild/bbs-3.20-bioc/R/site-library --timings cardelino_1.7.0.tar.gz
###
##############################################################################
##############################################################################


* using log directory ‘/home/biocbuild/bbs-3.20-bioc/meat/cardelino.Rcheck’
* using R version 4.4.0 RC (2024-04-16 r86468)
* using platform: x86_64-pc-linux-gnu
* R was compiled by
    gcc (Ubuntu 11.4.0-1ubuntu1~22.04) 11.4.0
    GNU Fortran (Ubuntu 11.4.0-1ubuntu1~22.04) 11.4.0
* running under: Ubuntu 22.04.4 LTS
* using session charset: UTF-8
* checking for file ‘cardelino/DESCRIPTION’ ... OK
* checking extension type ... Package
* this is package ‘cardelino’ version ‘1.7.0’
* package encoding: UTF-8
* checking package namespace information ... OK
* checking package dependencies ... OK
* checking if this is a source package ... OK
* checking if there is a namespace ... OK
* checking for hidden files and directories ... OK
* checking for portable file names ... OK
* checking for sufficient/correct file permissions ... OK
* checking whether package ‘cardelino’ can be installed ... OK
* checking installed package size ... OK
* checking package directory ... OK
* checking ‘build’ directory ... OK
* checking DESCRIPTION meta-information ... OK
* checking top-level files ... OK
* checking for left-over files ... OK
* checking index information ... OK
* checking package subdirectories ... OK
* checking code files for non-ASCII characters ... OK
* checking R files for syntax errors ... OK
* checking whether the package can be loaded ... OK
* checking whether the package can be loaded with stated dependencies ... OK
* checking whether the package can be unloaded cleanly ... OK
* checking whether the namespace can be loaded with stated dependencies ... OK
* checking whether the namespace can be unloaded cleanly ... OK
* checking loading without being on the library search path ... OK
* checking dependencies in R code ... OK
* checking S3 generic/method consistency ... OK
* checking replacement functions ... OK
* checking foreign function calls ... OK
* checking R code for possible problems ... OK
* checking Rd files ... OK
* checking Rd metadata ... OK
* checking Rd cross-references ... OK
* checking for missing documentation entries ... OK
* checking for code/documentation mismatches ... OK
* checking Rd \usage sections ... OK
* checking Rd contents ... OK
* checking for unstated dependencies in examples ... OK
* checking contents of ‘data’ directory ... OK
* checking data for non-ASCII characters ... OK
* checking data for ASCII and uncompressed saves ... OK
* checking files in ‘vignettes’ ... OK
* checking examples ... OK
Examples with CPU (user + system) or elapsed time > 5s
                   user system elapsed
vc_heatmap       59.174  0.759  59.933
get_snp_matrices 13.808  1.199  15.009
clone_id         12.338  0.256  12.594
* checking for unstated dependencies in ‘tests’ ... OK
* checking tests ...
  Running ‘testthat.R’
 OK
* checking for unstated dependencies in vignettes ... OK
* checking package vignettes ... OK
* checking re-building of vignette outputs ... OK
* checking PDF version of manual ... OK
* DONE

Status: OK


Installation output

cardelino.Rcheck/00install.out

##############################################################################
##############################################################################
###
### Running command:
###
###   /home/biocbuild/bbs-3.20-bioc/R/bin/R CMD INSTALL cardelino
###
##############################################################################
##############################################################################


* installing to library ‘/home/biocbuild/bbs-3.20-bioc/R/site-library’
* installing *source* package ‘cardelino’ ...
** using staged installation
** R
** data
** inst
** byte-compile and prepare package for lazy loading
** help
*** installing help indices
** building package indices
** installing vignettes
** testing if installed package can be loaded from temporary location
** testing if installed package can be loaded from final location
** testing if installed package keeps a record of temporary installation path
* DONE (cardelino)

Tests output

cardelino.Rcheck/tests/testthat.Rout


R version 4.4.0 RC (2024-04-16 r86468) -- "Puppy Cup"
Copyright (C) 2024 The R Foundation for Statistical Computing
Platform: x86_64-pc-linux-gnu

R is free software and comes with ABSOLUTELY NO WARRANTY.
You are welcome to redistribute it under certain conditions.
Type 'license()' or 'licence()' for distribution details.

R is a collaborative project with many contributors.
Type 'contributors()' for more information and
'citation()' on how to cite R or R packages in publications.

Type 'demo()' for some demos, 'help()' for on-line help, or
'help.start()' for an HTML browser interface to help.
Type 'q()' to quit R.

> Sys.setenv("R_TESTS" = "")
> library(testthat)
> library(cardelino)
> 
> test_check("cardelino")
[1] "Total iterations: 11"
100% converged.
[1] "Converged in 200 iterations."
DIC: 3098.96 D_mean: 2505.32 D_post: 2397.9 logLik_var: 175.27 
     [,1] [,2] [,3] [,4]
[1,]    1    2    3    4
[1] "62 samples have multiple labels."
Scanning file to determine attributes.
File attributes:
  meta lines: 37
  header_line: 38
  variant count: 112
  column count: 86

Meta line 37 read in.
All meta lines processed.
gt matrix initialized.
Character matrix gt created.
  Character matrix gt rows: 112
  Character matrix gt cols: 86
  skip: 0
  nrows: 112
  row_num: 0

Processed variant: 112
All variants processed
[1] "112 out of 112 SNPs passed."
Scanning file to determine attributes.
File attributes:
  meta lines: 37
  header_line: 38
  variant count: 112
  column count: 86

Meta line 37 read in.
All meta lines processed.
gt matrix initialized.
Character matrix gt created.
  Character matrix gt rows: 112
  Character matrix gt cols: 86
  skip: 0
  nrows: 112
  row_num: 0

Processed variant: 112
All variants processed
[ FAIL 0 | WARN 2 | SKIP 0 | PASS 20 ]

[ FAIL 0 | WARN 2 | SKIP 0 | PASS 20 ]
> 
> # check test coverage with covr in Rstudio
> # covr::package_coverage()
> 
> proc.time()
   user  system elapsed 
 20.663   1.051  21.706 

Example timings

cardelino.Rcheck/cardelino-Ex.timings

nameusersystemelapsed
assign_cells_to_clones0.0790.0000.079
binaryPRC0.0070.0000.007
binaryROC0.0070.0000.007
clone_id12.338 0.25612.594
colMatch0.0010.0000.001
get_snp_matrices13.808 1.19915.009
get_tree0.3250.0040.328
heat_matrix0.5690.0010.569
load_GT_vcf0.2080.0030.212
load_cellSNP_vcf0.0180.0010.019
mixBinom0.0090.0000.009
mtx_to_df0.0020.0000.002
plot_config_diffs0.1260.0030.130
plot_tree0.2370.0010.237
predMixBinom0.010.000.01
prob_heatmap0.0780.0030.082
pub.theme0.0260.0000.026
read_vcf3.3220.7324.054
rowArgmax000
rowMax0.0000.0000.001
sample_seq_depth1.3540.0691.422
sample_tree_SNV0.0040.0000.004
sim_read_count0.9860.0000.986
vc_heatmap59.174 0.75959.933