Back to Multiple platform build/check report for BioC 3.14
A[B]CDEFGHIJKLMNOPQRSTUVWXYZ

This page was generated on 2021-07-24 12:06:23 -0400 (Sat, 24 Jul 2021).

INSTALL results for bnem on merida1

To the developers/maintainers of the bnem package:
- Please allow up to 24 hours (and sometimes 48 hours) for your latest push to git@git.bioconductor.org:packages/bnem.git to
reflect on this report. See How and When does the builder pull? When will my changes propagate? here for more information.
- Make sure to use the following settings in order to reproduce any error or warning you see on this page.

raw results

Package 198/2008HostnameOS / ArchINSTALLBUILDCHECKBUILD BIN
bnem 1.1.0  (landing page)
Martin Pirkl
Snapshot Date: 2021-07-23 14:50:08 -0400 (Fri, 23 Jul 2021)
URL: https://git.bioconductor.org/packages/bnem
Branch: master
Last Commit: c064841
Last Changed Date: 2021-05-21 04:13:55 -0400 (Fri, 21 May 2021)
nebbiolo2Linux (Ubuntu 20.04.2 LTS) / x86_64  OK    ERROR  skipped
riesling1Windows Server 2019 Standard / x64  OK    ERROR  skippedskipped
merida1macOS 10.14.6 Mojave / x86_64  OK    ERROR  skippedskipped

Summary

Package: bnem
Version: 1.1.0
Command: /Library/Frameworks/R.framework/Resources/bin/R CMD INSTALL bnem
StartedAt: 2021-07-23 18:02:33 -0400 (Fri, 23 Jul 2021)
EndedAt: 2021-07-23 18:03:14 -0400 (Fri, 23 Jul 2021)
EllapsedTime: 41.1 seconds
RetCode: 0
Status:   OK  

Command output

##############################################################################
##############################################################################
###
### Running command:
###
###   /Library/Frameworks/R.framework/Resources/bin/R CMD INSTALL bnem
###
##############################################################################
##############################################################################


* installing to library ‘/Library/Frameworks/R.framework/Versions/4.1/Resources/library’
* installing *source* package ‘bnem’ ...
** using staged installation
** R
** data
** inst
** byte-compile and prepare package for lazy loading
** help
*** installing help indices
** building package indices
** installing vignettes
** testing if installed package can be loaded from temporary location
** testing if installed package can be loaded from final location
** testing if installed package keeps a record of temporary installation path
* DONE (bnem)