Back to Multiple platform build/check report for BioC 3.13
A[B]CDEFGHIJKLMNOPQRSTUVWXYZ

Multiple platform build/check report for BioC 3.13

All results for package biscuiteer

This page was generated on 2021-05-07 12:13:08 -0400 (Fri, 07 May 2021).

Package 193/2007HostnameOS / ArchINSTALLBUILDCHECKBUILD BIN
biscuiteer 1.5.1  (landing page)
"Jacob Morrison"
Snapshot Date: 2021-05-06 14:50:10 -0400 (Thu, 06 May 2021)
URL: https://git.bioconductor.org/packages/biscuiteer
Branch: master
Last Commit: d6fa967
Last Changed Date: 2021-02-18 10:38:16 -0400 (Thu, 18 Feb 2021)
nebbiolo1Linux (Ubuntu 20.04.2 LTS) / x86_64  OK    OK    WARNINGS  UNNEEDED, same version exists in internal repository
riesling1Windows Server 2019 Standard / x64  OK    OK    WARNINGS    OK  UNNEEDED, same version exists in internal repository
machv2macOS 10.14.6 Mojave / x86_64  OK    OK    WARNINGS    OK  UNNEEDED, same version exists in internal repository