Back to Multiple platform build/check report for BioC 3.20:   simplified   long
A[B]CDEFGHIJKLMNOPQRSTUVWXYZ

This page was generated on 2024-05-26 11:34:15 -0400 (Sun, 26 May 2024).

HostnameOSArch (*)R versionInstalled pkgs
nebbiolo2Linux (Ubuntu 22.04.3 LTS)x86_644.4.0 RC (2024-04-16 r86468) -- "Puppy Cup" 4665
merida1macOS 12.7.4 Montereyx86_644.4.0 Patched (2024-04-24 r86482) -- "Puppy Cup" 4427
Click on any hostname to see more info about the system (e.g. compilers)      (*) as reported by 'uname -p', except on Windows and Mac OS X

All results for package biomformat


To the developers/maintainers of the biomformat package:
- Allow up to 24 hours (and sometimes 48 hours) for your latest push to git@git.bioconductor.org:packages/biomformat.git to reflect on this report. See Troubleshooting Build Report for more information.
- Use the following Renviron settings to reproduce errors and warnings.
- If 'R CMD check' started to fail recently on the Linux builder(s) over a missing dependency, add the missing dependency to 'Suggests:' in your DESCRIPTION file. See Renviron.bioc for more information.

raw results

Package 206/2233HostnameOS / ArchINSTALLBUILDCHECKBUILD BIN
biomformat 1.33.0  (landing page)
Paul J. McMurdie
Snapshot Date: 2024-05-24 14:05:03 -0400 (Fri, 24 May 2024)
git_url: https://git.bioconductor.org/packages/biomformat
git_branch: devel
git_last_commit: 7eee05a
git_last_commit_date: 2024-04-30 10:47:04 -0400 (Tue, 30 Apr 2024)
nebbiolo2Linux (Ubuntu 22.04.3 LTS) / x86_64  OK    OK    OK  UNNEEDED, same version is already published
merida1macOS 12.7.4 Monterey / x86_64  OK    OK    OK    OK  UNNEEDED, same version is already published
kjohnson1macOS 13.6.6 Ventura / arm64see weekly results here

Results for Bioconductor software packages that depend directly on package biomformat

QUICK STATSOS / ArchINSTALLBUILDCHECKBUILD BIN
nebbiolo2Linux (Ubuntu 22.04.3 LTS) / x86_64
003
003
0111
merida1macOS 12.7.4 Monterey / x86_64
003
003
0111
003
Package 1/3HostnameOS / ArchINSTALLBUILDCHECKBUILD BIN
microbiomeExplorer 1.15.0  (landing page)
Janina Reeder
git_last_commit: 3036201
git_last_commit_date: 2024-04-30 11:28:04 -0400
nebbiolo2Linux (Ubuntu 22.04.3 LTS) / x86_64  OK    OK    OK  UNNEEDED, same version is already published
merida1macOS 12.7.4 Monterey / x86_64  OK    OK    OK    OK  UNNEEDED, same version is already published
kjohnson1macOS 13.6.6 Ventura / arm64see weekly results here
Package 2/3HostnameOS / ArchINSTALLBUILDCHECKBUILD BIN
microbiomeMarker 1.11.0  (landing page)
Yang Cao
git_last_commit: 0197460
git_last_commit_date: 2024-04-30 11:37:55 -0400
nebbiolo2Linux (Ubuntu 22.04.3 LTS) / x86_64  OK    OK    ERROR  
merida1macOS 12.7.4 Monterey / x86_64  OK    OK    ERROR    OK  
kjohnson1macOS 13.6.6 Ventura / arm64see weekly results here
Package 3/3HostnameOS / ArchINSTALLBUILDCHECKBUILD BIN
phyloseq 1.49.0  (landing page)
Paul J. McMurdie
git_last_commit: 6bb7e90
git_last_commit_date: 2024-04-30 10:26:52 -0400
nebbiolo2Linux (Ubuntu 22.04.3 LTS) / x86_64  OK    OK    WARNINGS  UNNEEDED, same version is already published
merida1macOS 12.7.4 Monterey / x86_64  OK    OK    WARNINGS    OK  UNNEEDED, same version is already published
kjohnson1macOS 13.6.6 Ventura / arm64see weekly results here