Back to Multiple platform build/check report for BioC 3.14
A[B]CDEFGHIJKLMNOPQRSTUVWXYZ

This page was generated on 2021-06-17 12:05:24 -0400 (Thu, 17 Jun 2021).

BUILD results for biocViews on riesling1

To the developers/maintainers of the biocViews package:
- Please allow up to 24 hours (and sometimes 48 hours) for your latest push to git@git.bioconductor.org:packages/biocViews.git to
reflect on this report. See How and When does the builder pull? When will my changes propagate? here for more information.
- Make sure to use the following settings in order to reproduce any error or warning you see on this page.

raw results

Package 170/1993HostnameOS / ArchINSTALLBUILDCHECKBUILD BIN
biocViews 1.61.0  (landing page)
Bioconductor Package Maintainer
Snapshot Date: 2021-06-16 14:50:06 -0400 (Wed, 16 Jun 2021)
URL: https://git.bioconductor.org/packages/biocViews
Branch: master
Last Commit: 6e40d9e
Last Changed Date: 2021-05-19 11:36:22 -0400 (Wed, 19 May 2021)
nebbiolo2Linux (Ubuntu 20.04.2 LTS) / x86_64  OK    OK    OK  UNNEEDED, same version is already published
riesling1Windows Server 2019 Standard / x64  OK    OK    OK    OK  UNNEEDED, same version is already published
merida1macOS 10.14.6 Mojave / x86_64  OK    OK    OK    OK  UNNEEDED, same version is already published

Summary

Package: biocViews
Version: 1.61.0
Command: chmod a+r biocViews -R && D:\biocbuild\bbs-3.14-bioc\R\bin\R.exe CMD build --keep-empty-dirs --no-resave-data biocViews
StartedAt: 2021-06-16 18:52:50 -0400 (Wed, 16 Jun 2021)
EndedAt: 2021-06-16 18:56:50 -0400 (Wed, 16 Jun 2021)
EllapsedTime: 240.4 seconds
RetCode: 0
Status:   OK  
PackageFile: biocViews_1.61.0.tar.gz
PackageFileSize: 282.8 KiB

Command output

##############################################################################
##############################################################################
###
### Running command:
###
###   chmod a+r biocViews -R && D:\biocbuild\bbs-3.14-bioc\R\bin\R.exe CMD build --keep-empty-dirs --no-resave-data biocViews
###
##############################################################################
##############################################################################


* checking for file 'biocViews/DESCRIPTION' ... OK
* preparing 'biocViews':
* checking DESCRIPTION meta-information ... OK
* installing the package to build vignettes
* creating vignettes ... OK
* checking for LF line-endings in source and make files and shell scripts
* checking for empty or unneeded directories
* looking to see if a 'data/datalist' file should be added
* building 'biocViews_1.61.0.tar.gz'