Back to Multiple platform build/check report for BioC 3.14
A[B]CDEFGHIJKLMNOPQRSTUVWXYZ

This page was generated on 2021-07-31 12:05:31 -0400 (Sat, 31 Jul 2021).

INSTALL results for biocViews on nebbiolo2

To the developers/maintainers of the biocViews package:
- Please allow up to 24 hours (and sometimes 48 hours) for your latest push to git@git.bioconductor.org:packages/biocViews.git to
reflect on this report. See How and When does the builder pull? When will my changes propagate? here for more information.
- Make sure to use the following settings in order to reproduce any error or warning you see on this page.

raw results

Package 171/2015HostnameOS / ArchINSTALLBUILDCHECKBUILD BIN
biocViews 1.61.1  (landing page)
Bioconductor Package Maintainer
Snapshot Date: 2021-07-30 14:50:06 -0400 (Fri, 30 Jul 2021)
URL: https://git.bioconductor.org/packages/biocViews
Branch: master
Last Commit: f059205
Last Changed Date: 2021-07-30 09:56:02 -0400 (Fri, 30 Jul 2021)
nebbiolo2Linux (Ubuntu 20.04.2 LTS) / x86_64  OK    OK    OK  YES
riesling1Windows Server 2019 Standard / x64  OK    OK    OK    OK  YES
merida1macOS 10.14.6 Mojave / x86_64  OK    OK    OK    OK  YES

Summary

Package: biocViews
Version: 1.61.1
Command: /home/biocbuild/bbs-3.14-bioc/R/bin/R CMD INSTALL biocViews
StartedAt: 2021-07-30 16:07:14 -0400 (Fri, 30 Jul 2021)
EndedAt: 2021-07-30 16:07:23 -0400 (Fri, 30 Jul 2021)
EllapsedTime: 8.9 seconds
RetCode: 0
Status:   OK  

Command output

##############################################################################
##############################################################################
###
### Running command:
###
###   /home/biocbuild/bbs-3.14-bioc/R/bin/R CMD INSTALL biocViews
###
##############################################################################
##############################################################################


* installing to library ‘/home/biocbuild/bbs-3.14-bioc/R/library’
* installing *source* package ‘biocViews’ ...
** using staged installation
** R
** data
** inst
** byte-compile and prepare package for lazy loading
** help
*** installing help indices
** building package indices
** installing vignettes
   ‘HOWTO-BCV.Rnw’ 
   ‘createReposHtml.Rnw’ 
** testing if installed package can be loaded from temporary location
** testing if installed package can be loaded from final location
** testing if installed package keeps a record of temporary installation path
* DONE (biocViews)