Back to Multiple platform build/check report for BioC 3.14
A[B]CDEFGHIJKLMNOPQRSTUVWXYZ

This page was generated on 2021-07-31 12:06:32 -0400 (Sat, 31 Jul 2021).

BUILD results for biocViews on merida1

To the developers/maintainers of the biocViews package:
- Please allow up to 24 hours (and sometimes 48 hours) for your latest push to git@git.bioconductor.org:packages/biocViews.git to
reflect on this report. See How and When does the builder pull? When will my changes propagate? here for more information.
- Make sure to use the following settings in order to reproduce any error or warning you see on this page.

raw results

Package 171/2015HostnameOS / ArchINSTALLBUILDCHECKBUILD BIN
biocViews 1.61.1  (landing page)
Bioconductor Package Maintainer
Snapshot Date: 2021-07-30 14:50:06 -0400 (Fri, 30 Jul 2021)
URL: https://git.bioconductor.org/packages/biocViews
Branch: master
Last Commit: f059205
Last Changed Date: 2021-07-30 09:56:02 -0400 (Fri, 30 Jul 2021)
nebbiolo2Linux (Ubuntu 20.04.2 LTS) / x86_64  OK    OK    OK  YES
riesling1Windows Server 2019 Standard / x64  OK    OK    OK    OK  YES
merida1macOS 10.14.6 Mojave / x86_64  OK    OK    OK    OK  YES

Summary

Package: biocViews
Version: 1.61.1
Command: /Library/Frameworks/R.framework/Resources/bin/R CMD build --keep-empty-dirs --no-resave-data biocViews
StartedAt: 2021-07-30 18:27:53 -0400 (Fri, 30 Jul 2021)
EndedAt: 2021-07-30 18:28:20 -0400 (Fri, 30 Jul 2021)
EllapsedTime: 27.3 seconds
RetCode: 0
Status:   OK  
PackageFile: biocViews_1.61.1.tar.gz
PackageFileSize: 282.3 KiB

Command output

##############################################################################
##############################################################################
###
### Running command:
###
###   /Library/Frameworks/R.framework/Resources/bin/R CMD build --keep-empty-dirs --no-resave-data biocViews
###
##############################################################################
##############################################################################


* checking for file ‘biocViews/DESCRIPTION’ ... OK
* preparing ‘biocViews’:
* checking DESCRIPTION meta-information ... OK
* installing the package to build vignettes
* creating vignettes ... OK
* checking for LF line-endings in source and make files and shell scripts
* checking for empty or unneeded directories
* looking to see if a ‘data/datalist’ file should be added
* building ‘biocViews_1.61.1.tar.gz’