Back to Multiple platform build/check report for BioC 3.14
A[B]CDEFGHIJKLMNOPQRSTUVWXYZ

CHECK results for biocGraph on riesling1

This page was generated on 2021-06-16 12:04:55 -0400 (Wed, 16 Jun 2021).

Package 157/1993HostnameOS / ArchINSTALLBUILDCHECKBUILD BIN
biocGraph 1.55.0  (landing page)
Florian Hahne
Snapshot Date: 2021-06-15 14:50:06 -0400 (Tue, 15 Jun 2021)
URL: https://git.bioconductor.org/packages/biocGraph
Branch: master
Last Commit: b612c58
Last Changed Date: 2021-05-19 11:39:20 -0400 (Wed, 19 May 2021)
nebbiolo2Linux (Ubuntu 20.04.2 LTS) / x86_64  OK    OK    OK  UNNEEDED, same version is already published
riesling1Windows Server 2019 Standard / x64  OK    OK    OK    OK  NO, package depends on 'Rgraphviz' which is not available
merida1macOS 10.14.6 Mojave / x86_64  OK    OK    OK    OK  UNNEEDED, same version is already published
To the developers/maintainers of the biocGraph package:
- Please allow up to 24 hours (and sometimes 48 hours) for your latest push to git@git.bioconductor.org:packages/biocGraph.git to
reflect on this report. See How and When does the builder pull? When will my changes propagate? here for more information.
- Make sure to use the following settings in order to reproduce any error or warning you see on this page.

Summary

Package: biocGraph
Version: 1.55.0
Command: D:\biocbuild\bbs-3.14-bioc\R\bin\R.exe CMD check --force-multiarch --install=check:biocGraph.install-out.txt --library=D:\biocbuild\bbs-3.14-bioc\R\library --no-vignettes --timings biocGraph_1.55.0.tar.gz
StartedAt: 2021-06-15 23:13:42 -0400 (Tue, 15 Jun 2021)
EndedAt: 2021-06-15 23:15:59 -0400 (Tue, 15 Jun 2021)
EllapsedTime: 136.7 seconds
RetCode: 0
Status:   OK   
CheckDir: biocGraph.Rcheck
Warnings: 0

Command output

##############################################################################
##############################################################################
###
### Running command:
###
###   D:\biocbuild\bbs-3.14-bioc\R\bin\R.exe CMD check --force-multiarch --install=check:biocGraph.install-out.txt --library=D:\biocbuild\bbs-3.14-bioc\R\library --no-vignettes --timings biocGraph_1.55.0.tar.gz
###
##############################################################################
##############################################################################


* using log directory 'D:/biocbuild/bbs-3.14-bioc/meat/biocGraph.Rcheck'
* using R version 4.1.0 (2021-05-18)
* using platform: x86_64-w64-mingw32 (64-bit)
* using session charset: ISO8859-1
* using option '--no-vignettes'
* checking for file 'biocGraph/DESCRIPTION' ... OK
* this is package 'biocGraph' version '1.55.0'
* checking package namespace information ... OK
* checking package dependencies ... OK
* checking if this is a source package ... OK
* checking if there is a namespace ... OK
* checking for hidden files and directories ... OK
* checking for portable file names ... OK
* checking whether package 'biocGraph' can be installed ... OK
* checking installed package size ... OK
* checking package directory ... OK
* checking 'build' directory ... OK
* checking DESCRIPTION meta-information ... NOTE
Packages listed in more than one of Depends, Imports, Suggests, Enhances:
  'Rgraphviz' 'graph' 'geneplotter'
A package should be listed in only one of these fields.
* checking top-level files ... OK
* checking for left-over files ... OK
* checking index information ... OK
* checking package subdirectories ... OK
* checking R files for non-ASCII characters ... OK
* checking R files for syntax errors ... OK
* loading checks for arch 'i386'
** checking whether the package can be loaded ... OK
** checking whether the package can be loaded with stated dependencies ... OK
** checking whether the package can be unloaded cleanly ... OK
** checking whether the namespace can be loaded with stated dependencies ... OK
** checking whether the namespace can be unloaded cleanly ... OK
* loading checks for arch 'x64'
** checking whether the package can be loaded ... OK
** checking whether the package can be loaded with stated dependencies ... OK
** checking whether the package can be unloaded cleanly ... OK
** checking whether the namespace can be loaded with stated dependencies ... OK
** checking whether the namespace can be unloaded cleanly ... OK
* checking dependencies in R code ... OK
* checking S3 generic/method consistency ... OK
* checking replacement functions ... OK
* checking foreign function calls ... OK
* checking R code for possible problems ... NOTE
imageMap,Ragraph-connection-list-character: no visible global function
  definition for 'par'
imageMap,Ragraph-connection-list-character: no visible global function
  definition for 'AgNode'
imageMap,Ragraph-connection-list-character: no visible global function
  definition for 'getNodeXY'
imageMap,Ragraph-connection-list-character: no visible global function
  definition for 'getNodeHeight'
imageMap,Ragraph-connection-list-character: no visible global function
  definition for 'getNodeLW'
imageMap,Ragraph-connection-list-character: no visible global function
  definition for 'getNodeRW'
imageMap,graph-connection-list-character: no visible global function
  definition for 'nodes'
imageMap,graph-connection-list-character: no visible global function
  definition for 'graphRenderInfo'
Undefined global functions or variables:
  AgNode getNodeHeight getNodeLW getNodeRW getNodeXY graphRenderInfo
  nodes par
Consider adding
  importFrom("graphics", "par")
to your NAMESPACE file.
* checking Rd files ... OK
* checking Rd metadata ... OK
* checking Rd cross-references ... OK
* checking for missing documentation entries ... OK
* checking for code/documentation mismatches ... OK
* checking Rd \usage sections ... OK
* checking Rd contents ... OK
* checking for unstated dependencies in examples ... OK
* checking files in 'vignettes' ... OK
* checking examples ...
** running examples for arch 'i386' ... OK
** running examples for arch 'x64' ... OK
* checking for unstated dependencies in vignettes ... OK
* checking package vignettes in 'inst/doc' ... OK
* checking running R code from vignettes ... SKIPPED
* checking re-building of vignette outputs ... SKIPPED
* checking PDF version of manual ... OK
* DONE

Status: 2 NOTEs
See
  'D:/biocbuild/bbs-3.14-bioc/meat/biocGraph.Rcheck/00check.log'
for details.



Installation output

biocGraph.Rcheck/00install.out

##############################################################################
##############################################################################
###
### Running command:
###
###   C:\cygwin\bin\curl.exe -O http://155.52.207.166/BBS/3.14/bioc/src/contrib/biocGraph_1.55.0.tar.gz && rm -rf biocGraph.buildbin-libdir && mkdir biocGraph.buildbin-libdir && D:\biocbuild\bbs-3.14-bioc\R\bin\R.exe CMD INSTALL --merge-multiarch --build --library=biocGraph.buildbin-libdir biocGraph_1.55.0.tar.gz && D:\biocbuild\bbs-3.14-bioc\R\bin\R.exe CMD INSTALL biocGraph_1.55.0.zip && rm biocGraph_1.55.0.tar.gz biocGraph_1.55.0.zip
###
##############################################################################
##############################################################################


  % Total    % Received % Xferd  Average Speed   Time    Time     Time  Current
                                 Dload  Upload   Total   Spent    Left  Speed

  0     0    0     0    0     0      0      0 --:--:-- --:--:-- --:--:--     0
100 31548  100 31548    0     0   238k      0 --:--:-- --:--:-- --:--:--  238k

install for i386

* installing *source* package 'biocGraph' ...
** using staged installation
** R
** byte-compile and prepare package for lazy loading
** help
*** installing help indices
  converting help for package 'biocGraph'
    finding HTML links ... done
    imageMap                                html  
** building package indices
** installing vignettes
** testing if installed package can be loaded from temporary location
** testing if installed package can be loaded from final location
** testing if installed package keeps a record of temporary installation path

install for x64

* installing *source* package 'biocGraph' ...
** testing if installed package can be loaded
* MD5 sums
packaged installation of 'biocGraph' as biocGraph_1.55.0.zip
* DONE (biocGraph)
* installing to library 'D:/biocbuild/bbs-3.14-bioc/R/library'
package 'biocGraph' successfully unpacked and MD5 sums checked

Tests output


Example timings

biocGraph.Rcheck/examples_i386/biocGraph-Ex.timings

nameusersystemelapsed
imageMap000

biocGraph.Rcheck/examples_x64/biocGraph-Ex.timings

nameusersystemelapsed
imageMap0.010.000.02