Back to Multiple platform build/check report for BioC 3.14
A[B]CDEFGHIJKLMNOPQRSTUVWXYZ

This page was generated on 2021-07-31 12:05:31 -0400 (Sat, 31 Jul 2021).

BUILD results for biocGraph on nebbiolo2

To the developers/maintainers of the biocGraph package:
- Please allow up to 24 hours (and sometimes 48 hours) for your latest push to git@git.bioconductor.org:packages/biocGraph.git to
reflect on this report. See How and When does the builder pull? When will my changes propagate? here for more information.
- Make sure to use the following settings in order to reproduce any error or warning you see on this page.

raw results

Package 158/2015HostnameOS / ArchINSTALLBUILDCHECKBUILD BIN
biocGraph 1.55.0  (landing page)
Florian Hahne
Snapshot Date: 2021-07-30 14:50:06 -0400 (Fri, 30 Jul 2021)
URL: https://git.bioconductor.org/packages/biocGraph
Branch: master
Last Commit: b612c58
Last Changed Date: 2021-05-19 11:39:20 -0400 (Wed, 19 May 2021)
nebbiolo2Linux (Ubuntu 20.04.2 LTS) / x86_64  OK    OK    OK  UNNEEDED, same version is already published
riesling1Windows Server 2019 Standard / x64  OK    OK    OK    OK  NO, package depends on 'Rgraphviz' which is not available
merida1macOS 10.14.6 Mojave / x86_64  OK    OK    OK    OK  UNNEEDED, same version is already published

Summary

Package: biocGraph
Version: 1.55.0
Command: /home/biocbuild/bbs-3.14-bioc/R/bin/R CMD build --keep-empty-dirs --no-resave-data biocGraph
StartedAt: 2021-07-30 16:45:49 -0400 (Fri, 30 Jul 2021)
EndedAt: 2021-07-30 16:46:17 -0400 (Fri, 30 Jul 2021)
EllapsedTime: 27.7 seconds
RetCode: 0
Status:   OK  
PackageFile: biocGraph_1.55.0.tar.gz
PackageFileSize: 536.9 KiB

Command output

##############################################################################
##############################################################################
###
### Running command:
###
###   /home/biocbuild/bbs-3.14-bioc/R/bin/R CMD build --keep-empty-dirs --no-resave-data biocGraph
###
##############################################################################
##############################################################################


* checking for file ‘biocGraph/DESCRIPTION’ ... OK
* preparing ‘biocGraph’:
* checking DESCRIPTION meta-information ... OK
* installing the package to build vignettes
* creating vignettes ... OK
* checking for LF line-endings in source and make files and shell scripts
* checking for empty or unneeded directories
* building ‘biocGraph_1.55.0.tar.gz’