Back to Multiple platform build/check report for BioC 3.14
A[B]CDEFGHIJKLMNOPQRSTUVWXYZ

This page was generated on 2021-07-31 12:06:31 -0400 (Sat, 31 Jul 2021).

INSTALL results for biocGraph on merida1

To the developers/maintainers of the biocGraph package:
- Please allow up to 24 hours (and sometimes 48 hours) for your latest push to git@git.bioconductor.org:packages/biocGraph.git to
reflect on this report. See How and When does the builder pull? When will my changes propagate? here for more information.
- Make sure to use the following settings in order to reproduce any error or warning you see on this page.

raw results

Package 158/2015HostnameOS / ArchINSTALLBUILDCHECKBUILD BIN
biocGraph 1.55.0  (landing page)
Florian Hahne
Snapshot Date: 2021-07-30 14:50:06 -0400 (Fri, 30 Jul 2021)
URL: https://git.bioconductor.org/packages/biocGraph
Branch: master
Last Commit: b612c58
Last Changed Date: 2021-05-19 11:39:20 -0400 (Wed, 19 May 2021)
nebbiolo2Linux (Ubuntu 20.04.2 LTS) / x86_64  OK    OK    OK  UNNEEDED, same version is already published
riesling1Windows Server 2019 Standard / x64  OK    OK    OK    OK  NO, package depends on 'Rgraphviz' which is not available
merida1macOS 10.14.6 Mojave / x86_64  OK    OK    OK    OK  UNNEEDED, same version is already published

Summary

Package: biocGraph
Version: 1.55.0
Command: /Library/Frameworks/R.framework/Resources/bin/R CMD INSTALL biocGraph
StartedAt: 2021-07-30 17:07:06 -0400 (Fri, 30 Jul 2021)
EndedAt: 2021-07-30 17:07:46 -0400 (Fri, 30 Jul 2021)
EllapsedTime: 40.2 seconds
RetCode: 0
Status:   OK  

Command output

##############################################################################
##############################################################################
###
### Running command:
###
###   /Library/Frameworks/R.framework/Resources/bin/R CMD INSTALL biocGraph
###
##############################################################################
##############################################################################


* installing to library ‘/Library/Frameworks/R.framework/Versions/4.1/Resources/library’
* installing *source* package ‘biocGraph’ ...
** using staged installation
** R
** byte-compile and prepare package for lazy loading
** help
*** installing help indices
** building package indices
** installing vignettes
** testing if installed package can be loaded from temporary location
** testing if installed package can be loaded from final location
** testing if installed package keeps a record of temporary installation path
* DONE (biocGraph)