Index of /checkResults/devel/bioc-LATEST/barcodetrackR/raw-results/nebbiolo2

[ICO]NameLast modifiedSizeDescription

[DIR]Parent Directory  -  
[TXT]buildsrc-out.txt16-Jul-2024 00:38 917  
[   ]buildsrc-summary.dcf16-Jul-2024 00:38 441  
[TXT]checksrc-out.txt16-Jul-2024 00:38 3.3K 
[   ]checksrc-summary.dcf16-Jul-2024 00:38 438  
[TXT]install-out.txt16-Jul-2024 00:38 1.0K 
[   ]install-summary.dcf16-Jul-2024 00:38 271