Index of /checkResults/devel/bioc-LATEST/barcodetrackR/raw-results/kjohnson3

[ICO]NameLast modifiedSizeDescription

[DIR]Parent Directory  -  
[TXT]buildbin-out.txt13-Jul-2024 01:33 1.2K 
[   ]buildbin-summary.dcf13-Jul-2024 01:33 566  
[TXT]buildsrc-out.txt13-Jul-2024 01:33 903  
[   ]buildsrc-summary.dcf13-Jul-2024 01:33 445  
[TXT]checksrc-out.txt13-Jul-2024 01:33 3.3K 
[   ]checksrc-summary.dcf13-Jul-2024 01:33 467  
[TXT]install-out.txt13-Jul-2024 01:33 1.0K 
[   ]install-summary.dcf13-Jul-2024 01:33 280