Index of /checkResults/devel/bioc-LATEST/appreci8R/raw-results/kjohnson3

[ICO]NameLast modifiedSizeDescription

[DIR]Parent Directory  -  
[TXT]buildbin-out.txt19-Jul-2024 00:42 3.2K 
[   ]buildbin-summary.dcf19-Jul-2024 00:42 542  
[TXT]buildsrc-out.txt19-Jul-2024 00:42 896  
[   ]buildsrc-summary.dcf19-Jul-2024 00:42 432  
[TXT]checksrc-out.txt19-Jul-2024 00:42 4.6K 
[   ]checksrc-summary.dcf19-Jul-2024 00:42 452  
[TXT]install-out.txt19-Jul-2024 00:42 3.0K 
[   ]install-summary.dcf19-Jul-2024 00:42 273