Index of /checkResults/devel/bioc-LATEST/apeglm/raw-results

[ICO]NameLast modifiedSizeDescription

[DIR]Parent Directory  -  
[   ]info.dcf29-May-2024 18:33 258  
[DIR]kunpeng2/16-May-2024 02:46 -  
[DIR]merida1/27-May-2024 00:35 -  
[DIR]nebbiolo2/29-May-2024 18:33 -  
[DIR]palomino4/23-May-2024 00:36 -