Back to Multiple platform build/check report for BioC 3.14
[A]BCDEFGHIJKLMNOPQRSTUVWXYZ

This page was generated on 2021-09-20 12:04:59 -0400 (Mon, 20 Sep 2021).

BUILD results for alpine on riesling1

To the developers/maintainers of the alpine package:
- Please allow up to 24 hours (and sometimes 48 hours) for your latest push to git@git.bioconductor.org:packages/alpine.git to
reflect on this report. See How and When does the builder pull? When will my changes propagate? here for more information.
- Make sure to use the following settings in order to reproduce any error or warning you see on this page.

raw results

Package 44/2029HostnameOS / ArchINSTALLBUILDCHECKBUILD BIN
alpine 1.19.1  (landing page)
Michael Love
Snapshot Date: 2021-09-19 14:50:04 -0400 (Sun, 19 Sep 2021)
git_url: https://git.bioconductor.org/packages/alpine
git_branch: master
git_last_commit: 63a3bc2
git_last_commit_date: 2021-07-26 17:07:33 -0400 (Mon, 26 Jul 2021)
nebbiolo2Linux (Ubuntu 20.04.2 LTS) / x86_64  OK    OK    OK  UNNEEDED, same version is already published
riesling1Windows Server 2019 Standard / x64  OK    OK    OK    OK  UNNEEDED, same version is already published
merida1macOS 10.14.6 Mojave / x86_64  OK    OK    OK    OK  UNNEEDED, same version is already published

Summary

Package: alpine
Version: 1.19.1
Command: chmod a+r alpine -R && D:\biocbuild\bbs-3.14-bioc\R\bin\R.exe CMD build --keep-empty-dirs --no-resave-data alpine
StartedAt: 2021-09-19 19:15:26 -0400 (Sun, 19 Sep 2021)
EndedAt: 2021-09-19 19:24:57 -0400 (Sun, 19 Sep 2021)
EllapsedTime: 571.4 seconds
RetCode: 0
Status:   OK  
PackageFile: alpine_1.19.1.tar.gz
PackageFileSize: 254.4 KiB

Command output

##############################################################################
##############################################################################
###
### Running command:
###
###   chmod a+r alpine -R && D:\biocbuild\bbs-3.14-bioc\R\bin\R.exe CMD build --keep-empty-dirs --no-resave-data alpine
###
##############################################################################
##############################################################################


* checking for file 'alpine/DESCRIPTION' ... OK
* preparing 'alpine':
* checking DESCRIPTION meta-information ... OK
* installing the package to build vignettes
* creating vignettes ... OK
* checking for LF line-endings in source and make files and shell scripts
* checking for empty or unneeded directories
* looking to see if a 'data/datalist' file should be added
* building 'alpine_1.19.1.tar.gz'