Back to Multiple platform build/check report for BioC 3.14
[A]BCDEFGHIJKLMNOPQRSTUVWXYZ

This page was generated on 2021-06-19 12:05:40 -0400 (Sat, 19 Jun 2021).

BUILD BIN results for alpine on riesling1

To the developers/maintainers of the alpine package:
- Please allow up to 24 hours (and sometimes 48 hours) for your latest push to git@git.bioconductor.org:packages/alpine.git to
reflect on this report. See How and When does the builder pull? When will my changes propagate? here for more information.
- Make sure to use the following settings in order to reproduce any error or warning you see on this page.

raw results

Package 44/1993HostnameOS / ArchINSTALLBUILDCHECKBUILD BIN
alpine 1.19.0  (landing page)
Michael Love
Snapshot Date: 2021-06-18 14:50:08 -0400 (Fri, 18 Jun 2021)
URL: https://git.bioconductor.org/packages/alpine
Branch: master
Last Commit: df30590
Last Changed Date: 2021-05-19 12:22:33 -0400 (Wed, 19 May 2021)
nebbiolo2Linux (Ubuntu 20.04.2 LTS) / x86_64  OK    ERROR  skipped
riesling1Windows Server 2019 Standard / x64  OK    OK    OK    OK  UNNEEDED, same version is already published
merida1macOS 10.14.6 Mojave / x86_64  OK    ERROR  skippedskipped

Summary

Package: alpine
Version: 1.19.0
Command: rm -rf alpine.buildbin-libdir && mkdir alpine.buildbin-libdir && D:\biocbuild\bbs-3.14-bioc\R\bin\R.exe CMD INSTALL --merge-multiarch --build --library=alpine.buildbin-libdir alpine_1.19.0.tar.gz
StartedAt: 2021-06-19 03:03:55 -0400 (Sat, 19 Jun 2021)
EndedAt: 2021-06-19 03:07:39 -0400 (Sat, 19 Jun 2021)
EllapsedTime: 224.1 seconds
RetCode: 0
Status:   OK  
PackageFile: alpine_1.19.0.zip
PackageFileSize: 391 KiB

Command output

##############################################################################
##############################################################################
###
### Running command:
###
###   rm -rf alpine.buildbin-libdir && mkdir alpine.buildbin-libdir && D:\biocbuild\bbs-3.14-bioc\R\bin\R.exe CMD INSTALL --merge-multiarch --build --library=alpine.buildbin-libdir alpine_1.19.0.tar.gz
###
##############################################################################
##############################################################################



install for i386

* installing *source* package 'alpine' ...
** using staged installation
** R
** data
** inst
** byte-compile and prepare package for lazy loading
** help
*** installing help indices
  converting help for package 'alpine'
    finding HTML links ... done
    alpine-package                          html  
    buildFragtypes                          html  
    estimateAbundance                       html  
    extractAlpine                           html  
    fitBiasModels                           html  
    getFragmentWidths                       html  
    getReadLength                           html  
    mergeGenes                              html  
    normalizeDESeq                          html  
    plotFragLen                             html  
    plotGC                                  html  
    plotGRL                                 html  
    plotOrder0                              html  
    plotRelPos                              html  
    predictCoverage                         html  
    preprocessedData                        html  
    splitGenesAcrossChroms                  html  
    splitLongGenes                          html  
** building package indices
** installing vignettes
** testing if installed package can be loaded from temporary location
** testing if installed package can be loaded from final location
** testing if installed package keeps a record of temporary installation path

install for x64

* installing *source* package 'alpine' ...
** testing if installed package can be loaded
* MD5 sums
packaged installation of 'alpine' as alpine_1.19.0.zip
* DONE (alpine)