Back to Multiple platform build/check report for BioC 3.14
[A]BCDEFGHIJKLMNOPQRSTUVWXYZ

This page was generated on 2021-07-31 12:05:30 -0400 (Sat, 31 Jul 2021).

INSTALL results for alpine on nebbiolo2

To the developers/maintainers of the alpine package:
- Please allow up to 24 hours (and sometimes 48 hours) for your latest push to git@git.bioconductor.org:packages/alpine.git to
reflect on this report. See How and When does the builder pull? When will my changes propagate? here for more information.
- Make sure to use the following settings in order to reproduce any error or warning you see on this page.

raw results

Package 44/2015HostnameOS / ArchINSTALLBUILDCHECKBUILD BIN
alpine 1.19.1  (landing page)
Michael Love
Snapshot Date: 2021-07-30 14:50:06 -0400 (Fri, 30 Jul 2021)
URL: https://git.bioconductor.org/packages/alpine
Branch: master
Last Commit: 63a3bc2
Last Changed Date: 2021-07-26 17:07:33 -0400 (Mon, 26 Jul 2021)
nebbiolo2Linux (Ubuntu 20.04.2 LTS) / x86_64  OK    OK    OK  UNNEEDED, same version is already published
riesling1Windows Server 2019 Standard / x64  OK    OK    OK    OK  UNNEEDED, same version is already published
merida1macOS 10.14.6 Mojave / x86_64  OK    OK    OK    OK  UNNEEDED, same version is already published

Summary

Package: alpine
Version: 1.19.1
Command: /home/biocbuild/bbs-3.14-bioc/R/bin/R CMD INSTALL alpine
StartedAt: 2021-07-30 16:26:33 -0400 (Fri, 30 Jul 2021)
EndedAt: 2021-07-30 16:27:10 -0400 (Fri, 30 Jul 2021)
EllapsedTime: 36.9 seconds
RetCode: 0
Status:   OK  

Command output

##############################################################################
##############################################################################
###
### Running command:
###
###   /home/biocbuild/bbs-3.14-bioc/R/bin/R CMD INSTALL alpine
###
##############################################################################
##############################################################################


* installing to library ‘/home/biocbuild/bbs-3.14-bioc/R/library’
* installing *source* package ‘alpine’ ...
** using staged installation
** R
** data
** inst
** byte-compile and prepare package for lazy loading
** help
*** installing help indices
** building package indices
** installing vignettes
** testing if installed package can be loaded from temporary location
** testing if installed package can be loaded from final location
** testing if installed package keeps a record of temporary installation path
* DONE (alpine)