Back to Multiple platform build/check report for BioC 3.14
[A]BCDEFGHIJKLMNOPQRSTUVWXYZ

This page was generated on 2021-09-22 12:04:40 -0400 (Wed, 22 Sep 2021).

CHECK results for alpine on nebbiolo2

To the developers/maintainers of the alpine package:
- Please allow up to 24 hours (and sometimes 48 hours) for your latest push to git@git.bioconductor.org:packages/alpine.git to
reflect on this report. See How and When does the builder pull? When will my changes propagate? here for more information.
- Make sure to use the following settings in order to reproduce any error or warning you see on this page.

raw results

Package 44/2029HostnameOS / ArchINSTALLBUILDCHECKBUILD BIN
alpine 1.19.1  (landing page)
Michael Love
Snapshot Date: 2021-09-21 14:50:05 -0400 (Tue, 21 Sep 2021)
git_url: https://git.bioconductor.org/packages/alpine
git_branch: master
git_last_commit: 63a3bc2
git_last_commit_date: 2021-07-26 17:07:33 -0400 (Mon, 26 Jul 2021)
nebbiolo2Linux (Ubuntu 20.04.2 LTS) / x86_64  OK    OK    OK  UNNEEDED, same version is already published
riesling1Windows Server 2019 Standard / x64  OK    OK    OK    OK  UNNEEDED, same version is already published
merida1macOS 10.14.6 Mojave / x86_64  OK    OK    OK    OK  UNNEEDED, same version is already published

Summary

Package: alpine
Version: 1.19.1
Command: /home/biocbuild/bbs-3.14-bioc/R/bin/R CMD check --install=check:alpine.install-out.txt --library=/home/biocbuild/bbs-3.14-bioc/R/library --no-vignettes --timings alpine_1.19.1.tar.gz
StartedAt: 2021-09-21 18:52:53 -0400 (Tue, 21 Sep 2021)
EndedAt: 2021-09-21 18:58:23 -0400 (Tue, 21 Sep 2021)
EllapsedTime: 329.8 seconds
RetCode: 0
Status:   OK  
CheckDir: alpine.Rcheck
Warnings: 0

Command output

##############################################################################
##############################################################################
###
### Running command:
###
###   /home/biocbuild/bbs-3.14-bioc/R/bin/R CMD check --install=check:alpine.install-out.txt --library=/home/biocbuild/bbs-3.14-bioc/R/library --no-vignettes --timings alpine_1.19.1.tar.gz
###
##############################################################################
##############################################################################


* using log directory ‘/home/biocbuild/bbs-3.14-bioc/meat/alpine.Rcheck’
* using R version 4.1.1 (2021-08-10)
* using platform: x86_64-pc-linux-gnu (64-bit)
* using session charset: UTF-8
* using option ‘--no-vignettes’
* checking for file ‘alpine/DESCRIPTION’ ... OK
* this is package ‘alpine’ version ‘1.19.1’
* checking package namespace information ... OK
* checking package dependencies ... OK
* checking if this is a source package ... OK
* checking if there is a namespace ... OK
* checking for hidden files and directories ... OK
* checking for portable file names ... OK
* checking for sufficient/correct file permissions ... OK
* checking whether package ‘alpine’ can be installed ... OK
* checking installed package size ... OK
* checking package directory ... OK
* checking ‘build’ directory ... OK
* checking DESCRIPTION meta-information ... OK
* checking top-level files ... OK
* checking for left-over files ... OK
* checking index information ... OK
* checking package subdirectories ... OK
* checking R files for non-ASCII characters ... OK
* checking R files for syntax errors ... OK
* checking whether the package can be loaded ... OK
* checking whether the package can be loaded with stated dependencies ... OK
* checking whether the package can be unloaded cleanly ... OK
* checking whether the namespace can be loaded with stated dependencies ... OK
* checking whether the namespace can be unloaded cleanly ... OK
* checking dependencies in R code ... OK
* checking S3 generic/method consistency ... OK
* checking replacement functions ... OK
* checking foreign function calls ... OK
* checking R code for possible problems ... OK
* checking Rd files ... OK
* checking Rd metadata ... OK
* checking Rd cross-references ... OK
* checking for missing documentation entries ... OK
* checking for code/documentation mismatches ... OK
* checking Rd \usage sections ... OK
* checking Rd contents ... OK
* checking for unstated dependencies in examples ... OK
* checking contents of ‘data’ directory ... OK
* checking data for non-ASCII characters ... OK
* checking data for ASCII and uncompressed saves ... OK
* checking files in ‘vignettes’ ... OK
* checking examples ... OK
Examples with CPU (user + system) or elapsed time > 5s
                    user system elapsed
fitBiasModels     18.941  0.999  20.273
estimateAbundance 15.066  1.672  17.504
predictCoverage    9.666  0.324  10.372
getFragmentWidths  6.181  0.072   6.668
getReadLength      5.049  0.076   5.436
* checking for unstated dependencies in ‘tests’ ... OK
* checking tests ...
  Running ‘testthat.R’
 OK
* checking for unstated dependencies in vignettes ... OK
* checking package vignettes in ‘inst/doc’ ... OK
* checking running R code from vignettes ... SKIPPED
* checking re-building of vignette outputs ... SKIPPED
* checking PDF version of manual ... OK
* DONE

Status: OK


Installation output

alpine.Rcheck/00install.out

##############################################################################
##############################################################################
###
### Running command:
###
###   /home/biocbuild/bbs-3.14-bioc/R/bin/R CMD INSTALL alpine
###
##############################################################################
##############################################################################


* installing to library ‘/home/biocbuild/bbs-3.14-bioc/R/library’
* installing *source* package ‘alpine’ ...
** using staged installation
** R
** data
** inst
** byte-compile and prepare package for lazy loading
** help
*** installing help indices
** building package indices
** installing vignettes
** testing if installed package can be loaded from temporary location
** testing if installed package can be loaded from final location
** testing if installed package keeps a record of temporary installation path
* DONE (alpine)

Tests output

alpine.Rcheck/tests/testthat.Rout


R version 4.1.1 (2021-08-10) -- "Kick Things"
Copyright (C) 2021 The R Foundation for Statistical Computing
Platform: x86_64-pc-linux-gnu (64-bit)

R is free software and comes with ABSOLUTELY NO WARRANTY.
You are welcome to redistribute it under certain conditions.
Type 'license()' or 'licence()' for distribution details.

R is a collaborative project with many contributors.
Type 'contributors()' for more information and
'citation()' on how to cite R or R packages in publications.

Type 'demo()' for some demos, 'help()' for on-line help, or
'help.start()' for an HTML browser interface to help.
Type 'q()' to quit R.

> library(testthat)
> library(alpine)
> test_check("alpine")
[ FAIL 0 | WARN 4 | SKIP 0 | PASS 1 ]
> 
> proc.time()
   user  system elapsed 
 53.696   4.317  58.659 

Example timings

alpine.Rcheck/alpine-Ex.timings

nameusersystemelapsed
buildFragtypes2.4530.1282.581
estimateAbundance15.066 1.67217.504
extractAlpine0.0220.0000.023
fitBiasModels18.941 0.99920.273
getFragmentWidths6.1810.0726.668
getReadLength5.0490.0765.436
mergeGenes0.3230.0000.323
normalizeDESeq0.0010.0000.001
plotFragLen0.0240.0000.023
plotGC0.0360.0000.036
plotGRL0.1930.0000.193
plotOrder00.0550.0000.054
plotRelPos0.0260.0000.026
predictCoverage 9.666 0.32410.372
splitGenesAcrossChroms0.3580.0000.358
splitLongGenes0.4730.0000.473