Back to Multiple platform build/check report for BioC 3.14
[A]BCDEFGHIJKLMNOPQRSTUVWXYZ

This page was generated on 2021-09-22 12:05:31 -0400 (Wed, 22 Sep 2021).

BUILD BIN results for alpine on merida1

To the developers/maintainers of the alpine package:
- Please allow up to 24 hours (and sometimes 48 hours) for your latest push to git@git.bioconductor.org:packages/alpine.git to
reflect on this report. See How and When does the builder pull? When will my changes propagate? here for more information.
- Make sure to use the following settings in order to reproduce any error or warning you see on this page.

raw results

Package 44/2029HostnameOS / ArchINSTALLBUILDCHECKBUILD BIN
alpine 1.19.1  (landing page)
Michael Love
Snapshot Date: 2021-09-21 14:50:05 -0400 (Tue, 21 Sep 2021)
git_url: https://git.bioconductor.org/packages/alpine
git_branch: master
git_last_commit: 63a3bc2
git_last_commit_date: 2021-07-26 17:07:33 -0400 (Mon, 26 Jul 2021)
nebbiolo2Linux (Ubuntu 20.04.2 LTS) / x86_64  OK    OK    OK  UNNEEDED, same version is already published
riesling1Windows Server 2019 Standard / x64  OK    OK    OK    OK  UNNEEDED, same version is already published
merida1macOS 10.14.6 Mojave / x86_64  OK    OK    OK    OK  UNNEEDED, same version is already published

Summary

Package: alpine
Version: 1.19.1
Command: rm -rf alpine.buildbin-libdir && mkdir alpine.buildbin-libdir && /Users/biocbuild/BBS/utils/build-universal.sh alpine_1.19.1.tar.gz /Library/Frameworks/R.framework/Resources/bin/R alpine.buildbin-libdir
StartedAt: 2021-09-22 09:39:05 -0400 (Wed, 22 Sep 2021)
EndedAt: 2021-09-22 09:39:52 -0400 (Wed, 22 Sep 2021)
EllapsedTime: 46.8 seconds
RetCode: 0
Status:   OK  
PackageFile: alpine_1.19.1.tgz
PackageFileSize: 545.9 KiB

Command output

##############################################################################
##############################################################################
###
### Running command:
###
###   rm -rf alpine.buildbin-libdir && mkdir alpine.buildbin-libdir && /Users/biocbuild/BBS/utils/build-universal.sh alpine_1.19.1.tar.gz /Library/Frameworks/R.framework/Resources/bin/R alpine.buildbin-libdir
###
##############################################################################
##############################################################################


>>>>>>> 
>>>>>>> INSTALLATION WITH 'R CMD INSTALL --preclean --no-multiarch --library=alpine.buildbin-libdir alpine_1.19.1.tar.gz'
>>>>>>> 

* installing *source* package ‘alpine’ ...
** using staged installation
** R
** data
** inst
** byte-compile and prepare package for lazy loading
** help
*** installing help indices
** building package indices
** installing vignettes
** testing if installed package can be loaded from temporary location
** testing if installed package can be loaded from final location
** testing if installed package keeps a record of temporary installation path
* DONE (alpine)