Index of /checkResults/devel/bioc-LATEST/Voyager/raw-results

[ICO]NameLast modifiedSizeDescription

[DIR]Parent Directory  -  
[   ]info.dcf21-May-2024 00:35 259  
[DIR]kunpeng2/16-May-2024 02:46 -  
[DIR]merida1/21-May-2024 00:38 -  
[DIR]nebbiolo2/21-May-2024 00:36 -  
[DIR]palomino4/21-May-2024 00:37 -