Back to Multiple platform build/check report for BioC 3.14
ABCDEFGHIJKLMNOPQRSTU[V]WXYZ

This page was generated on 2021-06-22 12:06:19 -0400 (Tue, 22 Jun 2021).

BUILD results for VariantFiltering on riesling1

To the developers/maintainers of the VariantFiltering package:
- Please allow up to 24 hours (and sometimes 48 hours) for your latest push to git@git.bioconductor.org:packages/VariantFiltering.git to
reflect on this report. See How and When does the builder pull? When will my changes propagate? here for more information.
- Make sure to use the following settings in order to reproduce any error or warning you see on this page.

raw results

Package 1951/1993HostnameOS / ArchINSTALLBUILDCHECKBUILD BIN
VariantFiltering 1.29.0  (landing page)
Robert Castelo
Snapshot Date: 2021-06-21 14:50:06 -0400 (Mon, 21 Jun 2021)
URL: https://git.bioconductor.org/packages/VariantFiltering
Branch: master
Last Commit: 633fbd5
Last Changed Date: 2021-05-19 12:04:28 -0400 (Wed, 19 May 2021)
nebbiolo2Linux (Ubuntu 20.04.2 LTS) / x86_64  OK    OK    OK  UNNEEDED, same version is already published
riesling1Windows Server 2019 Standard / x64  OK    OK    OK    OK  UNNEEDED, same version is already published
merida1macOS 10.14.6 Mojave / x86_64  OK    OK    OK    OK  UNNEEDED, same version is already published

Summary

Package: VariantFiltering
Version: 1.29.0
Command: chmod a+r VariantFiltering -R && D:\biocbuild\bbs-3.14-bioc\R\bin\R.exe CMD build --keep-empty-dirs --no-resave-data VariantFiltering
StartedAt: 2021-06-21 22:29:17 -0400 (Mon, 21 Jun 2021)
EndedAt: 2021-06-21 22:32:22 -0400 (Mon, 21 Jun 2021)
EllapsedTime: 185.5 seconds
RetCode: 0
Status:   OK  
PackageFile: VariantFiltering_1.29.0.tar.gz
PackageFileSize: 3.567 MiB

Command output

##############################################################################
##############################################################################
###
### Running command:
###
###   chmod a+r VariantFiltering -R && D:\biocbuild\bbs-3.14-bioc\R\bin\R.exe CMD build --keep-empty-dirs --no-resave-data VariantFiltering
###
##############################################################################
##############################################################################


* checking for file 'VariantFiltering/DESCRIPTION' ... OK
* preparing 'VariantFiltering':
* checking DESCRIPTION meta-information ... OK
* cleaning src
* installing the package to build vignettes
* creating vignettes ... OK
* cleaning src
* checking for LF line-endings in source and make files and shell scripts
* checking for empty or unneeded directories
Omitted 'LazyData' from DESCRIPTION
* building 'VariantFiltering_1.29.0.tar.gz'