Index of /checkResults/devel/bioc-LATEST/VariantFiltering/raw-results

[ICO]NameLast modifiedSizeDescription

[DIR]Parent Directory  -  
[DIR]merida1/25-Jul-2021 01:06 -  
[DIR]nebbiolo2/25-Jul-2021 01:05 -  
[DIR]riesling1/25-Jul-2021 01:06 -