Back to Multiple platform build/check report for BioC 3.14
ABCDEFGHIJKLMNOPQRSTU[V]WXYZ

This page was generated on 2021-07-24 12:05:44 -0400 (Sat, 24 Jul 2021).

CHECK results for VariantFiltering on nebbiolo2

To the developers/maintainers of the VariantFiltering package:
- Please allow up to 24 hours (and sometimes 48 hours) for your latest push to git@git.bioconductor.org:packages/VariantFiltering.git to
reflect on this report. See How and When does the builder pull? When will my changes propagate? here for more information.
- Make sure to use the following settings in order to reproduce any error or warning you see on this page.

raw results

Package 1966/2008HostnameOS / ArchINSTALLBUILDCHECKBUILD BIN
VariantFiltering 1.29.0  (landing page)
Robert Castelo
Snapshot Date: 2021-07-23 14:50:08 -0400 (Fri, 23 Jul 2021)
URL: https://git.bioconductor.org/packages/VariantFiltering
Branch: master
Last Commit: 633fbd5
Last Changed Date: 2021-05-19 12:04:28 -0400 (Wed, 19 May 2021)
nebbiolo2Linux (Ubuntu 20.04.2 LTS) / x86_64  OK    OK    OK  UNNEEDED, same version is already published
riesling1Windows Server 2019 Standard / x64  OK    OK    OK    OK  UNNEEDED, same version is already published
merida1macOS 10.14.6 Mojave / x86_64  OK    OK    OK    OK  UNNEEDED, same version is already published

Summary

Package: VariantFiltering
Version: 1.29.0
Command: /home/biocbuild/bbs-3.14-bioc/R/bin/R CMD check --install=check:VariantFiltering.install-out.txt --library=/home/biocbuild/bbs-3.14-bioc/R/library --no-vignettes --timings VariantFiltering_1.29.0.tar.gz
StartedAt: 2021-07-23 21:34:30 -0400 (Fri, 23 Jul 2021)
EndedAt: 2021-07-23 21:41:05 -0400 (Fri, 23 Jul 2021)
EllapsedTime: 395.6 seconds
RetCode: 0
Status:   OK  
CheckDir: VariantFiltering.Rcheck
Warnings: 0

Command output

##############################################################################
##############################################################################
###
### Running command:
###
###   /home/biocbuild/bbs-3.14-bioc/R/bin/R CMD check --install=check:VariantFiltering.install-out.txt --library=/home/biocbuild/bbs-3.14-bioc/R/library --no-vignettes --timings VariantFiltering_1.29.0.tar.gz
###
##############################################################################
##############################################################################


* using log directory ‘/home/biocbuild/bbs-3.14-bioc/meat/VariantFiltering.Rcheck’
* using R version 4.1.0 beta (2021-05-03 r80259)
* using platform: x86_64-pc-linux-gnu (64-bit)
* using session charset: UTF-8
* using option ‘--no-vignettes’
* checking for file ‘VariantFiltering/DESCRIPTION’ ... OK
* checking extension type ... Package
* this is package ‘VariantFiltering’ version ‘1.29.0’
* checking package namespace information ... OK
* checking package dependencies ... OK
* checking if this is a source package ... OK
* checking if there is a namespace ... OK
* checking for hidden files and directories ... OK
* checking for portable file names ... OK
* checking for sufficient/correct file permissions ... OK
* checking whether package ‘VariantFiltering’ can be installed ... OK
* checking installed package size ... NOTE
  installed size is  5.1Mb
  sub-directories of 1Mb or more:
    R         1.0Mb
    extdata   3.7Mb
* checking package directory ... OK
* checking ‘build’ directory ... OK
* checking DESCRIPTION meta-information ... OK
* checking top-level files ... OK
* checking for left-over files ... OK
* checking index information ... OK
* checking package subdirectories ... OK
* checking R files for non-ASCII characters ... OK
* checking R files for syntax errors ... OK
* checking whether the package can be loaded ... OK
* checking whether the package can be loaded with stated dependencies ... OK
* checking whether the package can be unloaded cleanly ... OK
* checking whether the namespace can be loaded with stated dependencies ... OK
* checking whether the namespace can be unloaded cleanly ... OK
* checking dependencies in R code ... NOTE
Unexported objects imported by ':::' calls:
  'S4Vectors:::labeledLine' 'VariantAnnotation:::.checkArgs'
  'VariantAnnotation:::.consolidateHits'
  'VariantAnnotation:::.returnEmpty'
  See the note in ?`:::` about the use of this operator.
There are ::: calls to the package's namespace in its code. A package
  almost never needs to use ::: for its own objects:
  '.adjustForStrandSense' '.ancestorsSO' '.findSOIDs'
* checking S3 generic/method consistency ... OK
* checking replacement functions ... OK
* checking foreign function calls ... OK
* checking R code for possible problems ... OK
* checking Rd files ... OK
* checking Rd metadata ... OK
* checking Rd cross-references ... OK
* checking for missing documentation entries ... OK
* checking for code/documentation mismatches ... OK
* checking Rd \usage sections ... OK
* checking Rd contents ... OK
* checking for unstated dependencies in examples ... OK
* checking line endings in C/C++/Fortran sources/headers ... OK
* checking compiled code ... NOTE
Note: information on .o files is not available
* checking files in ‘vignettes’ ... OK
* checking examples ... OK
Examples with CPU (user + system) or elapsed time > 5s
                             user system elapsed
VariantFilteringParam-class 4.691  0.372   5.312
* checking for unstated dependencies in ‘tests’ ... OK
* checking tests ...
  Running ‘runTests.R’
 OK
* checking for unstated dependencies in vignettes ... OK
* checking package vignettes in ‘inst/doc’ ... OK
* checking running R code from vignettes ... SKIPPED
* checking re-building of vignette outputs ... SKIPPED
* checking PDF version of manual ... OK
* DONE

Status: 3 NOTEs
See
  ‘/home/biocbuild/bbs-3.14-bioc/meat/VariantFiltering.Rcheck/00check.log’
for details.



Installation output

VariantFiltering.Rcheck/00install.out

##############################################################################
##############################################################################
###
### Running command:
###
###   /home/biocbuild/bbs-3.14-bioc/R/bin/R CMD INSTALL VariantFiltering
###
##############################################################################
##############################################################################


* installing to library ‘/home/biocbuild/bbs-3.14-bioc/R/library’
* installing *source* package ‘VariantFiltering’ ...
** using staged installation
** libs
gcc -I"/home/biocbuild/bbs-3.14-bioc/R/include" -DNDEBUG  -I'/home/biocbuild/bbs-3.14-bioc/R/library/S4Vectors/include' -I'/home/biocbuild/bbs-3.14-bioc/R/library/IRanges/include' -I'/home/biocbuild/bbs-3.14-bioc/R/library/XVector/include' -I'/home/biocbuild/bbs-3.14-bioc/R/library/Biostrings/include' -I/usr/local/include   -fpic  -g -O2  -Wall -c Biostrings_stubs.c -o Biostrings_stubs.o
gcc -I"/home/biocbuild/bbs-3.14-bioc/R/include" -DNDEBUG  -I'/home/biocbuild/bbs-3.14-bioc/R/library/S4Vectors/include' -I'/home/biocbuild/bbs-3.14-bioc/R/library/IRanges/include' -I'/home/biocbuild/bbs-3.14-bioc/R/library/XVector/include' -I'/home/biocbuild/bbs-3.14-bioc/R/library/Biostrings/include' -I/usr/local/include   -fpic  -g -O2  -Wall -c R_init_VariantFiltering.c -o R_init_VariantFiltering.o
gcc -I"/home/biocbuild/bbs-3.14-bioc/R/include" -DNDEBUG  -I'/home/biocbuild/bbs-3.14-bioc/R/library/S4Vectors/include' -I'/home/biocbuild/bbs-3.14-bioc/R/library/IRanges/include' -I'/home/biocbuild/bbs-3.14-bioc/R/library/XVector/include' -I'/home/biocbuild/bbs-3.14-bioc/R/library/Biostrings/include' -I/usr/local/include   -fpic  -g -O2  -Wall -c methods-WeightMatrix.c -o methods-WeightMatrix.o
gcc -shared -L/home/biocbuild/bbs-3.14-bioc/R/lib -L/usr/local/lib -o VariantFiltering.so Biostrings_stubs.o R_init_VariantFiltering.o methods-WeightMatrix.o -L/home/biocbuild/bbs-3.14-bioc/R/lib -lR
installing to /home/biocbuild/bbs-3.14-bioc/R/library/00LOCK-VariantFiltering/00new/VariantFiltering/libs
** R
** inst
** byte-compile and prepare package for lazy loading
** help
*** installing help indices
** building package indices
** installing vignettes
** testing if installed package can be loaded from temporary location
** checking absolute paths in shared objects and dynamic libraries
** testing if installed package can be loaded from final location
** testing if installed package keeps a record of temporary installation path
* DONE (VariantFiltering)

Tests output

VariantFiltering.Rcheck/tests/runTests.Rout


R version 4.1.0 beta (2021-05-03 r80259) -- "Camp Pontanezen"
Copyright (C) 2021 The R Foundation for Statistical Computing
Platform: x86_64-pc-linux-gnu (64-bit)

R is free software and comes with ABSOLUTELY NO WARRANTY.
You are welcome to redistribute it under certain conditions.
Type 'license()' or 'licence()' for distribution details.

R is a collaborative project with many contributors.
Type 'contributors()' for more information and
'citation()' on how to cite R or R packages in publications.

Type 'demo()' for some demos, 'help()' for on-line help, or
'help.start()' for an HTML browser interface to help.
Type 'q()' to quit R.

> BiocGenerics:::testPackage("VariantFiltering")

Attaching package: 'BiocGenerics'

The following objects are masked from 'package:stats':

    IQR, mad, sd, var, xtabs

The following objects are masked from 'package:base':

    Filter, Find, Map, Position, Reduce, anyDuplicated, append,
    as.data.frame, basename, cbind, colnames, dirname, do.call,
    duplicated, eval, evalq, get, grep, grepl, intersect, is.unsorted,
    lapply, mapply, match, mget, order, paste, pmax, pmax.int, pmin,
    pmin.int, rank, rbind, rownames, sapply, setdiff, sort, table,
    tapply, union, unique, unsplit, which.max, which.min


Attaching package: 'MatrixGenerics'

The following objects are masked from 'package:matrixStats':

    colAlls, colAnyNAs, colAnys, colAvgsPerRowSet, colCollapse,
    colCounts, colCummaxs, colCummins, colCumprods, colCumsums,
    colDiffs, colIQRDiffs, colIQRs, colLogSumExps, colMadDiffs,
    colMads, colMaxs, colMeans2, colMedians, colMins, colOrderStats,
    colProds, colQuantiles, colRanges, colRanks, colSdDiffs, colSds,
    colSums2, colTabulates, colVarDiffs, colVars, colWeightedMads,
    colWeightedMeans, colWeightedMedians, colWeightedSds,
    colWeightedVars, rowAlls, rowAnyNAs, rowAnys, rowAvgsPerColSet,
    rowCollapse, rowCounts, rowCummaxs, rowCummins, rowCumprods,
    rowCumsums, rowDiffs, rowIQRDiffs, rowIQRs, rowLogSumExps,
    rowMadDiffs, rowMads, rowMaxs, rowMeans2, rowMedians, rowMins,
    rowOrderStats, rowProds, rowQuantiles, rowRanges, rowRanks,
    rowSdDiffs, rowSds, rowSums2, rowTabulates, rowVarDiffs, rowVars,
    rowWeightedMads, rowWeightedMeans, rowWeightedMedians,
    rowWeightedSds, rowWeightedVars


Attaching package: 'S4Vectors'

The following objects are masked from 'package:base':

    I, expand.grid, unname

Welcome to Bioconductor

    Vignettes contain introductory material; view with
    'browseVignettes()'. To cite Bioconductor, see
    'citation("Biobase")', and for packages 'citation("pkgname")'.


Attaching package: 'Biobase'

The following object is masked from 'package:MatrixGenerics':

    rowMedians

The following objects are masked from 'package:matrixStats':

    anyMissing, rowMedians


Attaching package: 'Biostrings'

The following object is masked from 'package:base':

    strsplit


Attaching package: 'VariantAnnotation'

The following object is masked from 'package:base':

    tabulate

Loading BSgenome annotation package BSgenome.Hsapiens.1000genomes.hs37d5
Loading OrgDb annotation package org.Hs.eg.db
Loading TxDb annotation package TxDb.Hsapiens.UCSC.hg19.knownGene
Assuming the genome build of the input variants is hs37d5.
Switching to the UCSC chromosome-name style from the transcript-centric annotation package.
Chromosome chrM has different lengths between the input VCF and the input TxDb pakage. This chromosome will be discarded from further analysis
Assumming hs37d5 and hg19 represent the same genome build.
Discarding scaffold sequences.
Annotating variant type (SNV, Insertion, Deletion, MNV, Delins)
Annotating location with VariantAnnotation::locateVariants()
Annotating coding variants VariantAnnotation::predictCoding()
Annotating codon usage frequencies in coding synonymous variants
Scoring binding sites with weight matrix donorSites.
Scoring binding sites with weight matrix acceptorSites.
1000 variants processed


RUNIT TEST PROTOCOL -- Fri Jul 23 21:41:02 2021 
*********************************************** 
Number of test functions: 6 
Number of errors: 0 
Number of failures: 0 

 
1 Test Suite : 
VariantFiltering RUnit Tests - 6 test functions, 0 errors, 0 failures
Number of test functions: 6 
Number of errors: 0 
Number of failures: 0 
Warning messages:
1: In valid.GenomicRanges.seqinfo(x, suggest.trim = TRUE) :
  GRanges object contains 597 out-of-bound ranges located on sequences
  29194, 29195, 29196, 72038, 72039, 72040, 72041, 72044, 72220, 72222,
  72223, 72224, 71343, 71344, 73323, 73324, 73326, 72882, 72883, 74544,
  73782, 73852, 74055, 74056, 74057, 74058, 74171, 75259, 76673, 76674,
  76675, 76676, 76677, 76679, and 76680. Note that ranges located on a
  sequence whose length is unknown (NA) or on a circular sequence are not
  considered out-of-bound (use seqlengths() and isCircular() to get the
  lengths and circularity flags of the underlying sequences). You can use
  trim() to trim these ranges. See ?`trim,GenomicRanges-method` for more
  information.
2: In (function (seqlevels, genome, new_style)  :
  cannot switch some of hg19's seqlevels from UCSC to NCBI style
3: In annotationEngine(variants, param, annotationCache, BPPARAM = BPPARAM) :
  Assumming GRCh37.p13 and hs37d5 represent the same genome build.
4: In valid.GenomicRanges.seqinfo(x, suggest.trim = TRUE) :
  GRanges object contains 597 out-of-bound ranges located on sequences
  29194, 29195, 29196, 72038, 72039, 72040, 72041, 72044, 72220, 72222,
  72223, 72224, 71343, 71344, 73323, 73324, 73326, 72882, 72883, 74544,
  73782, 73852, 74055, 74056, 74057, 74058, 74171, 75259, 76673, 76674,
  76675, 76676, 76677, 76679, and 76680. Note that ranges located on a
  sequence whose length is unknown (NA) or on a circular sequence are not
  considered out-of-bound (use seqlengths() and isCircular() to get the
  lengths and circularity flags of the underlying sequences). You can use
  trim() to trim these ranges. See ?`trim,GenomicRanges-method` for more
  information.
5: In .scoreBindingSiteVariants(variantsVR_annotated, weightMatrices,  :
  Assumming GRCh37.p13 and hs37d5 represent the same genome build.
6: In recycleSingleBracketReplacementValue(value, x, nsbs) :
  number of values supplied is not a sub-multiple of the number of values to be replaced
7: In recycleSingleBracketReplacementValue(value, x, nsbs) :
  number of values supplied is not a sub-multiple of the number of values to be replaced
> 
> proc.time()
   user  system elapsed 
 75.140   2.172  79.468 

Example timings

VariantFiltering.Rcheck/VariantFiltering-Ex.timings

nameusersystemelapsed
GenePhylostrataDb-class000
VariantFilteringParam-class4.6910.3725.312
VariantFilteringResults-class0.0010.0000.000
VariantType-class0.0010.0000.001
WeightMatrix-class0.010.000.01
autosomalDominant000
autosomalRecessiveHeterozygous000
autosomalRecessiveHomozygous000
deNovo000
readAAradicalChangeMatrix0.0000.0030.003
unrelatedIndividuals000
xLinked000