Index of /checkResults/devel/bioc-LATEST/Uniquorn/raw-results/kunpeng2

[ICO]NameLast modifiedSizeDescription

[DIR]Parent Directory  -  
[TXT]buildsrc-out.txt09-Jul-2024 00:45 798  
[   ]buildsrc-summary.dcf09-Jul-2024 00:45 408  
[TXT]checksrc-out.txt09-Jul-2024 00:45 5.1K 
[   ]checksrc-summary.dcf09-Jul-2024 00:45 409  
[TXT]install-out.txt07-Jul-2024 00:45 937  
[   ]install-summary.dcf07-Jul-2024 00:45 249