Back to Multiple platform build/check report for BioC 3.20:   simplified   long
ABCDEFGHIJKLMNOPQRST[U]VWXYZ

This page was generated on 2024-06-19 12:10 -0400 (Wed, 19 Jun 2024).

HostnameOSArch (*)R versionInstalled pkgs
nebbiolo2Linux (Ubuntu 22.04.3 LTS)x86_644.4.0 RC (2024-04-16 r86468) -- "Puppy Cup" 4687
lconwaymacOS 12.7.1 Montereyx86_644.4.1 RC (2024-06-06 r86719) -- "Race for Your Life" 4402
kjohnson3macOS 13.6.5 Venturaarm644.4.1 RC (2024-06-06 r86719) -- "Race for Your Life" 4351
Click on any hostname to see more info about the system (e.g. compilers)      (*) as reported by 'uname -p', except on Windows and Mac OS X

Package 2181/2242HostnameOS / ArchINSTALLBUILDCHECKBUILD BIN
Uniquorn 2.25.0  (landing page)
'Raik Otto'
Snapshot Date: 2024-06-18 14:00 -0400 (Tue, 18 Jun 2024)
git_url: https://git.bioconductor.org/packages/Uniquorn
git_branch: devel
git_last_commit: bcacad3
git_last_commit_date: 2024-04-30 10:48:52 -0400 (Tue, 30 Apr 2024)
nebbiolo2Linux (Ubuntu 22.04.3 LTS) / x86_64  OK    OK    OK  UNNEEDED, same version is already published
lconwaymacOS 12.7.1 Monterey / x86_64  OK    OK    OK    OK  UNNEEDED, same version is already published
kjohnson3macOS 13.6.5 Ventura / arm64  OK    OK    OK    OK  UNNEEDED, same version is already published


CHECK results for Uniquorn on nebbiolo2

To the developers/maintainers of the Uniquorn package:
- Allow up to 24 hours (and sometimes 48 hours) for your latest push to git@git.bioconductor.org:packages/Uniquorn.git to reflect on this report. See Troubleshooting Build Report for more information.
- Use the following Renviron settings to reproduce errors and warnings.
- If 'R CMD check' started to fail recently on the Linux builder(s) over a missing dependency, add the missing dependency to 'Suggests:' in your DESCRIPTION file. See Renviron.bioc for more information.

raw results


Summary

Package: Uniquorn
Version: 2.25.0
Command: /home/biocbuild/bbs-3.20-bioc/R/bin/R CMD check --install=check:Uniquorn.install-out.txt --library=/home/biocbuild/bbs-3.20-bioc/R/site-library --timings Uniquorn_2.25.0.tar.gz
StartedAt: 2024-06-19 04:41:46 -0400 (Wed, 19 Jun 2024)
EndedAt: 2024-06-19 04:46:29 -0400 (Wed, 19 Jun 2024)
EllapsedTime: 282.5 seconds
RetCode: 0
Status:   OK  
CheckDir: Uniquorn.Rcheck
Warnings: 0

Command output

##############################################################################
##############################################################################
###
### Running command:
###
###   /home/biocbuild/bbs-3.20-bioc/R/bin/R CMD check --install=check:Uniquorn.install-out.txt --library=/home/biocbuild/bbs-3.20-bioc/R/site-library --timings Uniquorn_2.25.0.tar.gz
###
##############################################################################
##############################################################################


* using log directory ‘/home/biocbuild/bbs-3.20-bioc/meat/Uniquorn.Rcheck’
* using R version 4.4.0 RC (2024-04-16 r86468)
* using platform: x86_64-pc-linux-gnu
* R was compiled by
    gcc (Ubuntu 11.4.0-1ubuntu1~22.04) 11.4.0
    GNU Fortran (Ubuntu 11.4.0-1ubuntu1~22.04) 11.4.0
* running under: Ubuntu 22.04.4 LTS
* using session charset: UTF-8
* checking for file ‘Uniquorn/DESCRIPTION’ ... OK
* checking extension type ... Package
* this is package ‘Uniquorn’ version ‘2.25.0’
* package encoding: UTF-8
* checking package namespace information ... OK
* checking package dependencies ... OK
* checking if this is a source package ... OK
* checking if there is a namespace ... OK
* checking for hidden files and directories ... OK
* checking for portable file names ... OK
* checking for sufficient/correct file permissions ... OK
* checking whether package ‘Uniquorn’ can be installed ... OK
* checking installed package size ... NOTE
  installed size is  7.6Mb
  sub-directories of 1Mb or more:
    extdata   6.5Mb
* checking package directory ... OK
* checking ‘build’ directory ... OK
* checking DESCRIPTION meta-information ... OK
* checking top-level files ... OK
* checking for left-over files ... OK
* checking index information ... OK
* checking package subdirectories ... OK
* checking code files for non-ASCII characters ... OK
* checking R files for syntax errors ... OK
* checking whether the package can be loaded ... OK
* checking whether the package can be loaded with stated dependencies ... OK
* checking whether the package can be unloaded cleanly ... OK
* checking whether the namespace can be loaded with stated dependencies ... OK
* checking whether the namespace can be unloaded cleanly ... OK
* checking loading without being on the library search path ... OK
* checking dependencies in R code ... OK
* checking S3 generic/method consistency ... OK
* checking replacement functions ... OK
* checking foreign function calls ... OK
* checking R code for possible problems ... NOTE
add_p_q_values_statistics: no visible binding for '<<-' assignment to
  ‘sig_vec’
add_p_q_values_statistics: no visible binding for global variable
  ‘sig_vec’
create_bed_file: no visible binding for global variable ‘res_table’
create_bed_file: no visible binding for global variable ‘sim_list’
identify_vcf_file: no visible binding for global variable
  ‘vcf_fingerprint’
identify_vcf_file: no visible binding for global variable
  ‘output_file_xls’
init_and_load_identification: no visible global function definition for
  ‘tail’
parse_ccle_genotype_data: no visible binding for global variable
  ‘Cell_line’
parse_ccle_genotype_data: no visible binding for global variable ‘.SD’
parse_ccle_genotype_data: no visible binding for global variable
  ‘Index’
parse_cosmic_genotype_data: no visible binding for global variable
  ‘position’
parse_cosmic_genotype_data: no visible binding for global variable
  ‘.SD’
parse_cosmic_genotype_data: no visible binding for global variable
  ‘Index’
show_contained_ccls: no visible binding for '<<-' assignment to
  ‘ccls_all’
show_contained_ccls: no visible binding for global variable ‘ccls_all’
write_w0_and_split_w0_into_lower_weights: no visible binding for '<<-'
  assignment to ‘g_mat_exclude’
write_w0_and_split_w0_into_lower_weights: no visible binding for global
  variable ‘g_mat_exclude’
Undefined global functions or variables:
  .SD Cell_line Index ccls_all g_mat_exclude output_file_xls position
  res_table sig_vec sim_list tail vcf_fingerprint
Consider adding
  importFrom("utils", "tail")
to your NAMESPACE file.
* checking Rd files ... OK
* checking Rd metadata ... OK
* checking Rd cross-references ... OK
* checking for missing documentation entries ... OK
* checking for code/documentation mismatches ... OK
* checking Rd \usage sections ... OK
* checking Rd contents ... OK
* checking for unstated dependencies in examples ... OK
* checking files in ‘vignettes’ ... OK
* checking examples ... OK
Examples with CPU (user + system) or elapsed time > 5s
                           user system elapsed
add_custom_vcf_to_database 5.68  0.364   6.045
* checking for unstated dependencies in ‘tests’ ... OK
* checking tests ...
  Running ‘testthat.R’
 OK
* checking for unstated dependencies in vignettes ... OK
* checking package vignettes ... OK
* checking re-building of vignette outputs ... OK
* checking PDF version of manual ... OK
* DONE

Status: 2 NOTEs
See
  ‘/home/biocbuild/bbs-3.20-bioc/meat/Uniquorn.Rcheck/00check.log’
for details.


Installation output

Uniquorn.Rcheck/00install.out

##############################################################################
##############################################################################
###
### Running command:
###
###   /home/biocbuild/bbs-3.20-bioc/R/bin/R CMD INSTALL Uniquorn
###
##############################################################################
##############################################################################


* installing to library ‘/home/biocbuild/bbs-3.20-bioc/R/site-library’
* installing *source* package ‘Uniquorn’ ...
** using staged installation
** R
** inst
** byte-compile and prepare package for lazy loading
** help
*** installing help indices
** building package indices
** installing vignettes
** testing if installed package can be loaded from temporary location
** testing if installed package can be loaded from final location
** testing if installed package keeps a record of temporary installation path
* DONE (Uniquorn)

Tests output

Uniquorn.Rcheck/tests/testthat.Rout


R version 4.4.0 RC (2024-04-16 r86468) -- "Puppy Cup"
Copyright (C) 2024 The R Foundation for Statistical Computing
Platform: x86_64-pc-linux-gnu

R is free software and comes with ABSOLUTELY NO WARRANTY.
You are welcome to redistribute it under certain conditions.
Type 'license()' or 'licence()' for distribution details.

R is a collaborative project with many contributors.
Type 'contributors()' for more information and
'citation()' on how to cite R or R packages in publications.

Type 'demo()' for some demos, 'help()' for on-line help, or
'help.start()' for an HTML browser interface to help.
Type 'q()' to quit R.

> Sys.setenv(R_TESTS="")
> library("testthat")
> library("Uniquorn")
> 
> test_check("Uniquorn")
[ FAIL 0 | WARN 0 | SKIP 0 | PASS 21 ]
> 
> proc.time()
   user  system elapsed 
 18.959   0.823  19.772 

Example timings

Uniquorn.Rcheck/Uniquorn-Ex.timings

nameusersystemelapsed
add_custom_vcf_to_database5.6800.3646.045
identify_vcf_file0.4890.0320.522
initiate_canonical_databases0.0010.0000.000
read_library_names0.0010.0000.001
remove_ccls_from_database0.4710.0000.470
remove_library_from_database0.0020.0000.002
show_contained_ccls0.0030.0040.007
show_contained_variants_for_ccl0.0630.0040.067
show_contained_variants_in_library0.0340.0000.034
show_which_ccls_contain_variant0.0560.0000.056