Index of /checkResults/devel/bioc-LATEST/TEKRABber/raw-results/palomino4

[ICO]NameLast modifiedSizeDescription

[DIR]Parent Directory  -  
[TXT]buildbin-out.txt12-Jun-2024 04:41 2.1K 
[   ]buildbin-summary.dcf12-Jun-2024 04:41 525  
[TXT]buildsrc-out.txt12-Jun-2024 04:41 940  
[   ]buildsrc-summary.dcf12-Jun-2024 04:41 458  
[TXT]checksrc-out.txt12-Jun-2024 04:41 8.2K 
[   ]checksrc-summary.dcf12-Jun-2024 04:41 454  
[TXT]install-out.txt12-Jun-2024 04:41 2.0K 
[   ]install-summary.dcf12-Jun-2024 04:41 271