Index of /checkResults/devel/bioc-LATEST/TEKRABber/raw-results/lconway

[ICO]NameLast modifiedSizeDescription

[DIR]Parent Directory  -  
[TXT]buildbin-out.txt24-Jul-2024 00:41 4.2K 
[   ]buildbin-summary.dcf24-Jul-2024 00:41 539  
[TXT]buildsrc-out.txt24-Jul-2024 00:41 916  
[   ]buildsrc-summary.dcf24-Jul-2024 00:41 432  
[TXT]checksrc-out.txt24-Jul-2024 00:41 7.8K 
[   ]checksrc-summary.dcf24-Jul-2024 00:41 451  
[TXT]install-out.txt24-Jul-2024 00:41 2.1K 
[   ]install-summary.dcf24-Jul-2024 00:41 272