Index of /checkResults/devel/bioc-LATEST/TEKRABber/raw-results/kjohnson3

[ICO]NameLast modifiedSizeDescription

[DIR]Parent Directory  -  
[TXT]buildbin-out.txt14-Jul-2024 00:44 4.2K 
[   ]buildbin-summary.dcf14-Jul-2024 00:44 539  
[TXT]buildsrc-out.txt14-Jul-2024 00:44 916  
[   ]buildsrc-summary.dcf14-Jul-2024 00:44 430  
[TXT]checksrc-out.txt14-Jul-2024 00:44 7.8K 
[   ]checksrc-summary.dcf14-Jul-2024 00:44 450  
[TXT]install-out.txt14-Jul-2024 00:44 2.1K 
[   ]install-summary.dcf14-Jul-2024 00:44 272