Back to Multiple platform build/check report for BioC 3.20:   simplified   long
ABCDEFGHIJKLMNOPQRS[T]UVWXYZ

This page was generated on 2024-06-18 11:52 -0400 (Tue, 18 Jun 2024).

HostnameOSArch (*)R versionInstalled pkgs
nebbiolo2Linux (Ubuntu 22.04.3 LTS)x86_644.4.0 RC (2024-04-16 r86468) -- "Puppy Cup" 4687
lconwaymacOS 12.7.1 Montereyx86_644.4.1 RC (2024-06-06 r86719) -- "Race for Your Life" 4402
Click on any hostname to see more info about the system (e.g. compilers)      (*) as reported by 'uname -p', except on Windows and Mac OS X

Package 2085/2242HostnameOS / ArchINSTALLBUILDCHECKBUILD BIN
TDbasedUFEadv 1.5.0  (landing page)
Y-h. Taguchi
Snapshot Date: 2024-06-17 14:00 -0400 (Mon, 17 Jun 2024)
git_url: https://git.bioconductor.org/packages/TDbasedUFEadv
git_branch: devel
git_last_commit: 3b6739a
git_last_commit_date: 2024-04-30 11:48:13 -0400 (Tue, 30 Apr 2024)
nebbiolo2Linux (Ubuntu 22.04.3 LTS) / x86_64  OK    OK    OK  UNNEEDED, same version is already published
lconwaymacOS 12.7.1 Monterey / x86_64  OK    OK    OK    OK  UNNEEDED, same version is already published


BUILD results for TDbasedUFEadv on nebbiolo2

To the developers/maintainers of the TDbasedUFEadv package:
- Allow up to 24 hours (and sometimes 48 hours) for your latest push to git@git.bioconductor.org:packages/TDbasedUFEadv.git to reflect on this report. See Troubleshooting Build Report for more information.
- Use the following Renviron settings to reproduce errors and warnings.
- If 'R CMD check' started to fail recently on the Linux builder(s) over a missing dependency, add the missing dependency to 'Suggests:' in your DESCRIPTION file. See Renviron.bioc for more information.

raw results


Summary

Package: TDbasedUFEadv
Version: 1.5.0
Command: /home/biocbuild/bbs-3.20-bioc/R/bin/R CMD build --keep-empty-dirs --no-resave-data --md5 TDbasedUFEadv
StartedAt: 2024-06-17 20:05:47 -0400 (Mon, 17 Jun 2024)
EndedAt: 2024-06-17 20:08:49 -0400 (Mon, 17 Jun 2024)
EllapsedTime: 182.6 seconds
RetCode: 0
Status:   OK  
PackageFile: TDbasedUFEadv_1.5.0.tar.gz
PackageFileSize: 3.506 MiB

Command output

##############################################################################
##############################################################################
###
### Running command:
###
###   /home/biocbuild/bbs-3.20-bioc/R/bin/R CMD build --keep-empty-dirs --no-resave-data --md5 TDbasedUFEadv
###
##############################################################################
##############################################################################


* checking for file ‘TDbasedUFEadv/DESCRIPTION’ ... OK
* preparing ‘TDbasedUFEadv’:
* checking DESCRIPTION meta-information ... OK
* installing the package to build vignettes
* creating vignettes ... OK
* checking for LF line-endings in source and make files and shell scripts
* checking for empty or unneeded directories
* adding MD5 file
* building ‘TDbasedUFEadv_1.5.0.tar.gz’