Back to Multiple platform build/check report for BioC 3.14
ABCDEFGHIJKLMNOPQR[S]TUVWXYZ

This page was generated on 2021-06-18 12:05:10 -0400 (Fri, 18 Jun 2021).

BUILD BIN results for Streamer on riesling1

To the developers/maintainers of the Streamer package:
- Please allow up to 24 hours (and sometimes 48 hours) for your latest push to git@git.bioconductor.org:packages/Streamer.git to
reflect on this report. See How and When does the builder pull? When will my changes propagate? here for more information.
- Make sure to use the following settings in order to reproduce any error or warning you see on this page.

raw results

Package 1814/1993HostnameOS / ArchINSTALLBUILDCHECKBUILD BIN
Streamer 1.39.0  (landing page)
Martin Morgan
Snapshot Date: 2021-06-17 14:50:06 -0400 (Thu, 17 Jun 2021)
URL: https://git.bioconductor.org/packages/Streamer
Branch: master
Last Commit: ef69ecd
Last Changed Date: 2021-05-19 11:49:23 -0400 (Wed, 19 May 2021)
nebbiolo2Linux (Ubuntu 20.04.2 LTS) / x86_64  OK    OK    OK  UNNEEDED, same version is already published
riesling1Windows Server 2019 Standard / x64  OK    OK    OK    OK  UNNEEDED, same version is already published
merida1macOS 10.14.6 Mojave / x86_64  OK    OK    OK    OK  UNNEEDED, same version is already published

Summary

Package: Streamer
Version: 1.39.0
Command: rm -rf Streamer.buildbin-libdir && mkdir Streamer.buildbin-libdir && D:\biocbuild\bbs-3.14-bioc\R\bin\R.exe CMD INSTALL --merge-multiarch --build --library=Streamer.buildbin-libdir Streamer_1.39.0.tar.gz
StartedAt: 2021-06-18 06:09:03 -0400 (Fri, 18 Jun 2021)
EndedAt: 2021-06-18 06:12:54 -0400 (Fri, 18 Jun 2021)
EllapsedTime: 231.0 seconds
RetCode: 0
Status:   OK  
PackageFile: Streamer_1.39.0.zip
PackageFileSize: 601.2 KiB

Command output

##############################################################################
##############################################################################
###
### Running command:
###
###   rm -rf Streamer.buildbin-libdir && mkdir Streamer.buildbin-libdir && D:\biocbuild\bbs-3.14-bioc\R\bin\R.exe CMD INSTALL --merge-multiarch --build --library=Streamer.buildbin-libdir Streamer_1.39.0.tar.gz
###
##############################################################################
##############################################################################



install for i386

* installing *source* package 'Streamer' ...
** using staged installation
** libs
"C:/rtools40/mingw32/bin/"gcc  -I"D:/biocbuild/bbs-3.14-bioc/R/include" -DNDEBUG     -I"C:/extsoft/include"     -O2 -Wall  -std=gnu99 -mfpmath=sse -msse2 -mstackrealign  -c R_init_Streamer.c -o R_init_Streamer.o
"C:/rtools40/mingw32/bin/"gcc  -I"D:/biocbuild/bbs-3.14-bioc/R/include" -DNDEBUG     -I"C:/extsoft/include"     -O2 -Wall  -std=gnu99 -mfpmath=sse -msse2 -mstackrealign  -c raw_input.c -o raw_input.o
C:/rtools40/mingw32/bin/gcc -shared -s -static-libgcc -o Streamer.dll tmp.def R_init_Streamer.o raw_input.o -LC:/extsoft/lib/i386 -LC:/extsoft/lib -LD:/biocbuild/bbs-3.14-bioc/R/bin/i386 -lR
installing to D:/biocbuild/bbs-3.14-bioc/meat/Streamer.buildbin-libdir/00LOCK-Streamer/00new/Streamer/libs/i386
** R
** inst
** byte-compile and prepare package for lazy loading
** help
*** installing help indices
  converting help for package 'Streamer'
    finding HTML links ... done
    ConnectionProducer-classes              html  
    Consumer-class                          html  
    DAGTeam-class                           html  
    finding level-2 HTML links ... done

    Downsample-class                        html  
    FunctionProducerConsumer-classes        html  
REDIRECT:topic	 Function* -> FunctionProducerConsumer-classes.html [ FAIL ]
    ParallelParam-classes                   html  
    Producer-class                          html  
    RawInput-class                          html  
    Reducer-class                           html  
    Seq-class                               html  
    Stream-class                            html  
    Streamer-package                        html  
    Team-class                              html  
    Utility-classes                         html  
    reset                                   html  
    status                                  html  
    yield                                   html  
** building package indices
** installing vignettes
** testing if installed package can be loaded from temporary location
** testing if installed package can be loaded from final location
** testing if installed package keeps a record of temporary installation path

install for x64

* installing *source* package 'Streamer' ...
** libs
"C:/rtools40/mingw64/bin/"gcc  -I"D:/biocbuild/bbs-3.14-bioc/R/include" -DNDEBUG     -I"C:/extsoft/include"     -O2 -Wall  -std=gnu99 -mfpmath=sse -msse2 -mstackrealign  -c R_init_Streamer.c -o R_init_Streamer.o
"C:/rtools40/mingw64/bin/"gcc  -I"D:/biocbuild/bbs-3.14-bioc/R/include" -DNDEBUG     -I"C:/extsoft/include"     -O2 -Wall  -std=gnu99 -mfpmath=sse -msse2 -mstackrealign  -c raw_input.c -o raw_input.o
C:/rtools40/mingw64/bin/gcc -shared -s -static-libgcc -o Streamer.dll tmp.def R_init_Streamer.o raw_input.o -LC:/extsoft/lib/x64 -LC:/extsoft/lib -LD:/biocbuild/bbs-3.14-bioc/R/bin/x64 -lR
installing to D:/biocbuild/bbs-3.14-bioc/meat/Streamer.buildbin-libdir/Streamer/libs/x64
** testing if installed package can be loaded
* MD5 sums
packaged installation of 'Streamer' as Streamer_1.39.0.zip
* DONE (Streamer)