Back to Multiple platform build/check report for BioC 3.14
ABCDEFGHIJKLMNOPQR[S]TUVWXYZ

BUILD BIN results for SplicingGraphs on riesling1

This page was generated on 2021-06-16 12:05:17 -0400 (Wed, 16 Jun 2021).

Package 1786/1993HostnameOS / ArchINSTALLBUILDCHECKBUILD BIN
SplicingGraphs 1.33.0  (landing page)
H. Pag├Ęs
Snapshot Date: 2021-06-15 14:50:06 -0400 (Tue, 15 Jun 2021)
URL: https://git.bioconductor.org/packages/SplicingGraphs
Branch: master
Last Commit: 6f313b4
Last Changed Date: 2021-05-19 11:58:48 -0400 (Wed, 19 May 2021)
nebbiolo2Linux (Ubuntu 20.04.2 LTS) / x86_64  OK    OK    WARNINGS  UNNEEDED, same version is already published
riesling1Windows Server 2019 Standard / x64  OK    OK    WARNINGS    OK  NO, package depends on 'Rgraphviz' which is not available
merida1macOS 10.14.6 Mojave / x86_64  OK    OK    WARNINGS    OK  UNNEEDED, same version is already published
To the developers/maintainers of the SplicingGraphs package:
- Please allow up to 24 hours (and sometimes 48 hours) for your latest push to git@git.bioconductor.org:packages/SplicingGraphs.git to
reflect on this report. See How and When does the builder pull? When will my changes propagate? here for more information.
- Make sure to use the following settings in order to reproduce any error or warning you see on this page.

Summary

Package: SplicingGraphs
Version: 1.33.0
Command: rm -rf SplicingGraphs.buildbin-libdir && mkdir SplicingGraphs.buildbin-libdir && D:\biocbuild\bbs-3.14-bioc\R\bin\R.exe CMD INSTALL --merge-multiarch --build --library=SplicingGraphs.buildbin-libdir SplicingGraphs_1.33.0.tar.gz
StartedAt: 2021-06-16 05:38:09 -0400 (Wed, 16 Jun 2021)
EndedAt: 2021-06-16 05:41:58 -0400 (Wed, 16 Jun 2021)
EllapsedTime: 228.9 seconds
RetCode: 0
Status:   OK   
PackageFile: SplicingGraphs_1.33.0.zip
PackageFileSize: 4.698 MiB

Command output

##############################################################################
##############################################################################
###
### Running command:
###
###   rm -rf SplicingGraphs.buildbin-libdir && mkdir SplicingGraphs.buildbin-libdir && D:\biocbuild\bbs-3.14-bioc\R\bin\R.exe CMD INSTALL --merge-multiarch --build --library=SplicingGraphs.buildbin-libdir SplicingGraphs_1.33.0.tar.gz
###
##############################################################################
##############################################################################



install for i386

* installing *source* package 'SplicingGraphs' ...
** using staged installation
** R
** inst
** byte-compile and prepare package for lazy loading
Warning: replacing previous import 'IRanges::from' by 'Rgraphviz::from' when loading 'SplicingGraphs'
Warning: replacing previous import 'IRanges::to' by 'Rgraphviz::to' when loading 'SplicingGraphs'
** help
*** installing help indices
  converting help for package 'SplicingGraphs'
    finding HTML links ... done
    SplicingGraphs-class                    html  
REDIRECT:topic	 class:GeneModel -> SplicingGraphs-class.html [ FAIL ]
REDIRECT:topic	 class:SplicingGraphs -> SplicingGraphs-class.html [ FAIL ]
REDIRECT:topic	 isCircular<-,GeneModel-method -> SplicingGraphs-class.html [ FAIL ]
REDIRECT:topic	 isCircular<-,SplicingGraphs-method -> SplicingGraphs-class.html [ FAIL ]
    SplicingGraphs-package                  html  
    TSPCsg                                  html  
    assignReads                             html  
    bubbles-methods                         html  
    countReads-methods                      html  
    plotTranscripts-methods                 html  
    rsgedgesByGene-methods                  html  
    sgedges-methods                         html  
    sgedgesByGene-methods                   html  
    sgraph-methods                          html  
    toy_data                                html  
    txpath-methods                          html  
REDIRECT:topic	 txweight<- -> txpath-methods.html [ FAIL ]
REDIRECT:topic	 txweight<-,SplicingGraphs-method -> txpath-methods.html [ FAIL ]
** building package indices
** installing vignettes
** testing if installed package can be loaded from temporary location
Warning: replacing previous import 'IRanges::from' by 'Rgraphviz::from' when loading 'SplicingGraphs'
Warning: replacing previous import 'IRanges::to' by 'Rgraphviz::to' when loading 'SplicingGraphs'
** testing if installed package can be loaded from final location
Warning: replacing previous import 'IRanges::from' by 'Rgraphviz::from' when loading 'SplicingGraphs'
Warning: replacing previous import 'IRanges::to' by 'Rgraphviz::to' when loading 'SplicingGraphs'
** testing if installed package keeps a record of temporary installation path

install for x64

* installing *source* package 'SplicingGraphs' ...
** testing if installed package can be loaded
Warning: replacing previous import 'IRanges::from' by 'Rgraphviz::from' when loading 'SplicingGraphs'
Warning: replacing previous import 'IRanges::to' by 'Rgraphviz::to' when loading 'SplicingGraphs'
* MD5 sums
packaged installation of 'SplicingGraphs' as SplicingGraphs_1.33.0.zip
* DONE (SplicingGraphs)