Back to Multiple platform build/check report for BioC 3.14
ABCDEFGHIJKLMNOPQR[S]TUVWXYZ

This page was generated on 2021-08-05 12:06:10 -0400 (Thu, 05 Aug 2021).

INSTALL results for SplicingGraphs on nebbiolo2

To the developers/maintainers of the SplicingGraphs package:
- Please allow up to 24 hours (and sometimes 48 hours) for your latest push to git@git.bioconductor.org:packages/SplicingGraphs.git to
reflect on this report. See How and When does the builder pull? When will my changes propagate? here for more information.
- Make sure to use the following settings in order to reproduce any error or warning you see on this page.

raw results

Package 1806/2015HostnameOS / ArchINSTALLBUILDCHECKBUILD BIN
SplicingGraphs 1.33.0  (landing page)
H. Pagès
Snapshot Date: 2021-08-04 14:50:10 -0400 (Wed, 04 Aug 2021)
URL: https://git.bioconductor.org/packages/SplicingGraphs
Branch: master
Last Commit: 6f313b4
Last Changed Date: 2021-05-19 11:58:48 -0400 (Wed, 19 May 2021)
nebbiolo2Linux (Ubuntu 20.04.2 LTS) / x86_64  OK    OK    WARNINGS  UNNEEDED, same version is already published
riesling1Windows Server 2019 Standard / x64  OK    OK    WARNINGS    OK  NO, package depends on 'Rgraphviz' which is not available
merida1macOS 10.14.6 Mojave / x86_64  OK    OK    WARNINGS    OK  UNNEEDED, same version is already published

Summary

Package: SplicingGraphs
Version: 1.33.0
Command: /home/biocbuild/bbs-3.14-bioc/R/bin/R CMD INSTALL SplicingGraphs
StartedAt: 2021-08-04 16:30:08 -0400 (Wed, 04 Aug 2021)
EndedAt: 2021-08-04 16:30:45 -0400 (Wed, 04 Aug 2021)
EllapsedTime: 37.0 seconds
RetCode: 0
Status:   OK  

Command output

##############################################################################
##############################################################################
###
### Running command:
###
###   /home/biocbuild/bbs-3.14-bioc/R/bin/R CMD INSTALL SplicingGraphs
###
##############################################################################
##############################################################################


* installing to library ‘/home/biocbuild/bbs-3.14-bioc/R/library’
* installing *source* package ‘SplicingGraphs’ ...
** using staged installation
** R
** inst
** byte-compile and prepare package for lazy loading
Warning: replacing previous import ‘IRanges::from’ by ‘Rgraphviz::from’ when loading ‘SplicingGraphs’
Warning: replacing previous import ‘IRanges::to’ by ‘Rgraphviz::to’ when loading ‘SplicingGraphs’
** help
*** installing help indices
** building package indices
** installing vignettes
** testing if installed package can be loaded from temporary location
Warning: replacing previous import ‘IRanges::from’ by ‘Rgraphviz::from’ when loading ‘SplicingGraphs’
Warning: replacing previous import ‘IRanges::to’ by ‘Rgraphviz::to’ when loading ‘SplicingGraphs’
** testing if installed package can be loaded from final location
Warning: replacing previous import ‘IRanges::from’ by ‘Rgraphviz::from’ when loading ‘SplicingGraphs’
Warning: replacing previous import ‘IRanges::to’ by ‘Rgraphviz::to’ when loading ‘SplicingGraphs’
** testing if installed package keeps a record of temporary installation path
* DONE (SplicingGraphs)