Back to Multiple platform build/check report for BioC 3.14
ABCDEFGHIJKLMNOPQR[S]TUVWXYZ

This page was generated on 2021-06-19 12:05:10 -0400 (Sat, 19 Jun 2021).

All results for package SplicingGraphs

To the developers/maintainers of the SplicingGraphs package:
- Please allow up to 24 hours (and sometimes 48 hours) for your latest push to git@git.bioconductor.org:packages/SplicingGraphs.git to
reflect on this report. See How and When does the builder pull? When will my changes propagate? here for more information.
- Make sure to use the following settings in order to reproduce any error or warning you see on this page.

raw results

Package 1786/1993HostnameOS / ArchINSTALLBUILDCHECKBUILD BIN
SplicingGraphs 1.33.0  (landing page)
H. Pag├Ęs
Snapshot Date: 2021-06-18 14:50:08 -0400 (Fri, 18 Jun 2021)
URL: https://git.bioconductor.org/packages/SplicingGraphs
Branch: master
Last Commit: 6f313b4
Last Changed Date: 2021-05-19 11:58:48 -0400 (Wed, 19 May 2021)
nebbiolo2Linux (Ubuntu 20.04.2 LTS) / x86_64  OK    OK    WARNINGS  UNNEEDED, same version is already published
riesling1Windows Server 2019 Standard / x64  OK    OK    WARNINGS    OK  NO, package depends on 'Rgraphviz' which is not available
merida1macOS 10.14.6 Mojave / x86_64  OK    OK    WARNINGS    OK  UNNEEDED, same version is already published