Back to Multiple platform build/check report for BioC 3.20:   simplified   long
ABCDEFGHIJKLMNOPQR[S]TUVWXYZ

This page was generated on 2024-07-24 11:41 -0400 (Wed, 24 Jul 2024).

HostnameOSArch (*)R versionInstalled pkgs
nebbiolo2Linux (Ubuntu 22.04.3 LTS)x86_644.4.1 (2024-06-14) -- "Race for Your Life" 4688
palomino8Windows Server 2022 Datacenterx644.4.1 (2024-06-14 ucrt) -- "Race for Your Life" 4284
lconwaymacOS 12.7.1 Montereyx86_644.4.1 (2024-06-14) -- "Race for Your Life" 4455
kjohnson3macOS 13.6.5 Venturaarm644.4.1 (2024-06-14) -- "Race for Your Life" 4404
Click on any hostname to see more info about the system (e.g. compilers)      (*) as reported by 'uname -p', except on Windows and Mac OS X

Package 1861/2248HostnameOS / ArchINSTALLBUILDCHECKBUILD BIN
Sconify 1.25.0  (landing page)
Tyler J Burns
Snapshot Date: 2024-07-23 14:00 -0400 (Tue, 23 Jul 2024)
git_url: https://git.bioconductor.org/packages/Sconify
git_branch: devel
git_last_commit: 49aeaa1
git_last_commit_date: 2024-04-30 11:04:59 -0400 (Tue, 30 Apr 2024)
nebbiolo2Linux (Ubuntu 22.04.3 LTS) / x86_64  OK    OK    OK  UNNEEDED, same version is already published
palomino8Windows Server 2022 Datacenter / x64  OK    OK    OK    OK  UNNEEDED, same version is already published
lconwaymacOS 12.7.1 Monterey / x86_64  OK    OK    OK    OK  UNNEEDED, same version is already published
kjohnson3macOS 13.6.5 Ventura / arm64  OK    OK    OK    OK  UNNEEDED, same version is already published


BUILD BIN results for Sconify on lconway

To the developers/maintainers of the Sconify package:
- Allow up to 24 hours (and sometimes 48 hours) for your latest push to git@git.bioconductor.org:packages/Sconify.git to reflect on this report. See Troubleshooting Build Report for more information.
- Use the following Renviron settings to reproduce errors and warnings.
- If 'R CMD check' started to fail recently on the Linux builder(s) over a missing dependency, add the missing dependency to 'Suggests:' in your DESCRIPTION file. See Renviron.bioc for more information.

raw results


Summary

Package: Sconify
Version: 1.25.0
Command: rm -rf Sconify.buildbin-libdir && mkdir Sconify.buildbin-libdir && /Users/biocbuild/BBS/utils/build-universal.sh Sconify_1.25.0.tar.gz /Library/Frameworks/R.framework/Resources/bin/R Sconify.buildbin-libdir
StartedAt: 2024-07-24 02:00:02 -0400 (Wed, 24 Jul 2024)
EndedAt: 2024-07-24 02:00:20 -0400 (Wed, 24 Jul 2024)
EllapsedTime: 18.1 seconds
RetCode: 0
Status:   OK  
PackageFile: Sconify_1.25.0.tgz
PackageFileSize: 3.614 MiB

Command output

##############################################################################
##############################################################################
###
### Running command:
###
###   rm -rf Sconify.buildbin-libdir && mkdir Sconify.buildbin-libdir && /Users/biocbuild/BBS/utils/build-universal.sh Sconify_1.25.0.tar.gz /Library/Frameworks/R.framework/Resources/bin/R Sconify.buildbin-libdir
###
##############################################################################
##############################################################################


>>>>>>> 
>>>>>>> INSTALLATION WITH 'R CMD INSTALL --preclean --no-multiarch --library=Sconify.buildbin-libdir Sconify_1.25.0.tar.gz'
>>>>>>> 

* installing *source* package ‘Sconify’ ...
** using staged installation
** R
** data
*** moving datasets to lazyload DB
** inst
** byte-compile and prepare package for lazy loading
Note: wrong number of arguments to '/' 
Note: wrong number of arguments to 'asinh' 
** help
*** installing help indices
** building package indices
** installing vignettes
** testing if installed package can be loaded from temporary location
** testing if installed package can be loaded from final location
** testing if installed package keeps a record of temporary installation path
* DONE (Sconify)