Back to Multiple platform build/check report for BioC 3.20:   simplified   long
ABCDEFGHIJKLMNOPQR[S]TUVWXYZ

This page was generated on 2024-07-24 11:41 -0400 (Wed, 24 Jul 2024).

HostnameOSArch (*)R versionInstalled pkgs
nebbiolo2Linux (Ubuntu 22.04.3 LTS)x86_644.4.1 (2024-06-14) -- "Race for Your Life" 4688
palomino8Windows Server 2022 Datacenterx644.4.1 (2024-06-14 ucrt) -- "Race for Your Life" 4284
lconwaymacOS 12.7.1 Montereyx86_644.4.1 (2024-06-14) -- "Race for Your Life" 4455
kjohnson3macOS 13.6.5 Venturaarm644.4.1 (2024-06-14) -- "Race for Your Life" 4404
Click on any hostname to see more info about the system (e.g. compilers)      (*) as reported by 'uname -p', except on Windows and Mac OS X

Package 2008/2248HostnameOS / ArchINSTALLBUILDCHECKBUILD BIN
SPLINTER 1.31.0  (landing page)
Diana Low
Snapshot Date: 2024-07-23 14:00 -0400 (Tue, 23 Jul 2024)
git_url: https://git.bioconductor.org/packages/SPLINTER
git_branch: devel
git_last_commit: f70b793
git_last_commit_date: 2024-04-30 10:53:54 -0400 (Tue, 30 Apr 2024)
nebbiolo2Linux (Ubuntu 22.04.3 LTS) / x86_64  OK    OK    OK  UNNEEDED, same version is already published
palomino8Windows Server 2022 Datacenter / x64  OK    OK    WARNINGS    OK  UNNEEDED, same version is already published
lconwaymacOS 12.7.1 Monterey / x86_64  OK    OK    OK    OK  UNNEEDED, same version is already published
kjohnson3macOS 13.6.5 Ventura / arm64  OK    ERROR  skippedskipped


BUILD results for SPLINTER on lconway

To the developers/maintainers of the SPLINTER package:
- Allow up to 24 hours (and sometimes 48 hours) for your latest push to git@git.bioconductor.org:packages/SPLINTER.git to reflect on this report. See Troubleshooting Build Report for more information.
- Use the following Renviron settings to reproduce errors and warnings.
- If 'R CMD check' started to fail recently on the Linux builder(s) over a missing dependency, add the missing dependency to 'Suggests:' in your DESCRIPTION file. See Renviron.bioc for more information.

raw results


Summary

Package: SPLINTER
Version: 1.31.0
Command: /Library/Frameworks/R.framework/Resources/bin/R CMD build --keep-empty-dirs --no-resave-data SPLINTER
StartedAt: 2024-07-23 18:30:26 -0400 (Tue, 23 Jul 2024)
EndedAt: 2024-07-23 18:32:17 -0400 (Tue, 23 Jul 2024)
EllapsedTime: 110.1 seconds
RetCode: 0
Status:   OK  
PackageFile: SPLINTER_1.31.0.tar.gz
PackageFileSize: 960.2 KiB

Command output

##############################################################################
##############################################################################
###
### Running command:
###
###   /Library/Frameworks/R.framework/Resources/bin/R CMD build --keep-empty-dirs --no-resave-data SPLINTER
###
##############################################################################
##############################################################################


* checking for file ‘SPLINTER/DESCRIPTION’ ... OK
* preparing ‘SPLINTER’:
* checking DESCRIPTION meta-information ... OK
* installing the package to build vignettes
* creating vignettes ... OK
* checking for LF line-endings in source and make files and shell scripts
* checking for empty or unneeded directories
* building ‘SPLINTER_1.31.0.tar.gz’