Back to Multiple platform build/check report for BioC 3.14
ABCDEFGHIJKLMNOPQ[R]STUVWXYZ

BUILD results for Rtreemix on riesling1

This page was generated on 2021-06-16 12:05:15 -0400 (Wed, 16 Jun 2021).

Package 1610/1993HostnameOS / ArchINSTALLBUILDCHECKBUILD BIN
Rtreemix 1.55.0  (landing page)
Jasmina Bogojeska
Snapshot Date: 2021-06-15 14:50:06 -0400 (Tue, 15 Jun 2021)
URL: https://git.bioconductor.org/packages/Rtreemix
Branch: master
Last Commit: 3b0fa17
Last Changed Date: 2021-05-19 11:39:55 -0400 (Wed, 19 May 2021)
nebbiolo2Linux (Ubuntu 20.04.2 LTS) / x86_64  OK    OK    OK  UNNEEDED, same version is already published
riesling1Windows Server 2019 Standard / x64  OK    OK    OK    OK  UNNEEDED, same version is already published
merida1macOS 10.14.6 Mojave / x86_64  OK    OK    OK    OK  UNNEEDED, same version is already published
To the developers/maintainers of the Rtreemix package:
- Please allow up to 24 hours (and sometimes 48 hours) for your latest push to git@git.bioconductor.org:packages/Rtreemix.git to
reflect on this report. See How and When does the builder pull? When will my changes propagate? here for more information.
- Make sure to use the following settings in order to reproduce any error or warning you see on this page.

Summary

Package: Rtreemix
Version: 1.55.0
Command: chmod a+r Rtreemix -R && D:\biocbuild\bbs-3.14-bioc\R\bin\R.exe CMD build --keep-empty-dirs --no-resave-data Rtreemix
StartedAt: 2021-06-15 21:46:59 -0400 (Tue, 15 Jun 2021)
EndedAt: 2021-06-15 21:50:54 -0400 (Tue, 15 Jun 2021)
EllapsedTime: 235.0 seconds
RetCode: 0
Status:   OK   
PackageFile: Rtreemix_1.55.0.tar.gz
PackageFileSize: 688.7 KiB

Command output

##############################################################################
##############################################################################
###
### Running command:
###
###   chmod a+r Rtreemix -R && D:\biocbuild\bbs-3.14-bioc\R\bin\R.exe CMD build --keep-empty-dirs --no-resave-data Rtreemix
###
##############################################################################
##############################################################################


* checking for file 'Rtreemix/DESCRIPTION' ... OK
* preparing 'Rtreemix':
* checking DESCRIPTION meta-information ... OK
* cleaning src
* installing the package to build vignettes
* creating vignettes ... OK
* cleaning src
* checking for LF line-endings in source and make files and shell scripts
* checking for empty or unneeded directories
* looking to see if a 'data/datalist' file should be added
* building 'Rtreemix_1.55.0.tar.gz'