Index of /checkResults/devel/bioc-LATEST/Rsubread/raw-results/kjohnson3

[ICO]NameLast modifiedSizeDescription

[DIR]Parent Directory  -  
[TXT]buildbin-out.txt18-Jul-2024 00:42 26K 
[   ]buildbin-summary.dcf18-Jul-2024 00:42 536  
[TXT]buildsrc-out.txt18-Jul-2024 00:42 850  
[   ]buildsrc-summary.dcf18-Jul-2024 00:42 431  
[TXT]checksrc-out.txt18-Jul-2024 00:42 4.0K 
[   ]checksrc-summary.dcf18-Jul-2024 00:42 448  
[TXT]install-out.txt18-Jul-2024 00:42 24K 
[   ]install-summary.dcf18-Jul-2024 00:42 271