Back to Multiple platform build/check report for BioC 3.14
ABCDEFGHIJKLMNOPQ[R]STUVWXYZ

All results for package Rsamtools

This page was generated on 2021-06-16 12:04:26 -0400 (Wed, 16 Jun 2021).

Package 1593/1993HostnameOS / ArchINSTALLBUILDCHECKBUILD BIN
Rsamtools 2.9.0  (landing page)
Bioconductor Package Maintainer
Snapshot Date: 2021-06-15 14:50:06 -0400 (Tue, 15 Jun 2021)
URL: https://git.bioconductor.org/packages/Rsamtools
Branch: master
Last Commit: eb6bc00
Last Changed Date: 2021-05-19 11:45:07 -0400 (Wed, 19 May 2021)
nebbiolo2Linux (Ubuntu 20.04.2 LTS) / x86_64  OK    OK    WARNINGS  UNNEEDED, same version is already published
riesling1Windows Server 2019 Standard / x64  OK    OK    WARNINGS    OK  UNNEEDED, same version is already published
merida1macOS 10.14.6 Mojave / x86_64  OK    OK    WARNINGS    OK  UNNEEDED, same version is already published

Results for Bioconductor software packages that depend directly on package Rsamtools

QUICK STATSOS / ArchINSTALLBUILDCHECKBUILD BIN
nebbiolo2Linux (Ubuntu 20.04.2 LTS) / x86_64
01172
025148
0233113
riesling1Windows Server 2019 Standard / x64
01162
011152
1431116
00152
merida1macOS 10.14.6 Mojave / x86_64
01171
027145
0230113
00145
Package 1/173HostnameOS / ArchINSTALLBUILDCHECKBUILD BIN
AllelicImbalance 1.31.0  (landing page)
Jesper R Gadin
Last Commit: b838792
Last Changed Date: 2021-05-19 12:00:58 -0400
nebbiolo2Linux (Ubuntu 20.04.2 LTS) / x86_64  OK    OK    OK  UNNEEDED, same version is already published
riesling1Windows Server 2019 Standard / x64  OK    OK    OK    OK  UNNEEDED, same version is already published
merida1macOS 10.14.6 Mojave / x86_64  OK    OK    OK    OK  UNNEEDED, same version is already published
Package 2/173HostnameOS / ArchINSTALLBUILDCHECKBUILD BIN
alpine 1.19.0  (landing page)
Michael Love
Last Commit: df30590
Last Changed Date: 2021-05-19 12:22:33 -0400
nebbiolo2Linux (Ubuntu 20.04.2 LTS) / x86_64  OK    ERROR  skipped
riesling1Windows Server 2019 Standard / x64  OK    ERROR  skippedskipped
merida1macOS 10.14.6 Mojave / x86_64  OK    ERROR  skippedskipped
Package 3/173HostnameOS / ArchINSTALLBUILDCHECKBUILD BIN
AneuFinder 1.21.0  (landing page)
Aaron Taudt
Last Commit: 887753a
Last Changed Date: 2021-05-19 12:19:05 -0400
nebbiolo2Linux (Ubuntu 20.04.2 LTS) / x86_64  OK    OK    OK  UNNEEDED, same version is already published
riesling1Windows Server 2019 Standard / x64  OK    OK    OK    OK  UNNEEDED, same version is already published
merida1macOS 10.14.6 Mojave / x86_64  OK    OK    OK    OK  UNNEEDED, same version is already published
Package 4/173HostnameOS / ArchINSTALLBUILDCHECKBUILD BIN
annmap 1.35.0  (landing page)
Chris Wirth
Last Commit: 46784b2
Last Changed Date: 2021-05-19 11:52:37 -0400
nebbiolo2Linux (Ubuntu 20.04.2 LTS) / x86_64  OK    OK    WARNINGS  UNNEEDED, same version is already published
riesling1Windows Server 2019 Standard / x64... NOT SUPPORTED ...
merida1macOS 10.14.6 Mojave / x86_64  OK    OK    WARNINGS    OK  UNNEEDED, same version is already published
Package 5/173HostnameOS / ArchINSTALLBUILDCHECKBUILD BIN
AnnotationHubData 1.23.0  (landing page)
Bioconductor Package Maintainer
Last Commit: 18dc885
Last Changed Date: 2021-05-19 12:15:22 -0400
nebbiolo2Linux (Ubuntu 20.04.2 LTS) / x86_64  OK    OK    WARNINGS  UNNEEDED, same version is already published
riesling1Windows Server 2019 Standard / x64  OK    OK    ERROR    OK  
merida1macOS 10.14.6 Mojave / x86_64  OK    OK    WARNINGS    OK  UNNEEDED, same version is already published
Package 6/173HostnameOS / ArchINSTALLBUILDCHECKBUILD BIN
APAlyzer 1.7.0  (landing page)
Ruijia Wang
Last Commit: a136ec6
Last Changed Date: 2021-05-19 12:45:23 -0400
nebbiolo2Linux (Ubuntu 20.04.2 LTS) / x86_64  OK    OK    OK  UNNEEDED, same version is already published
riesling1Windows Server 2019 Standard / x64  OK    OK    OK    OK  UNNEEDED, same version is already published
merida1macOS 10.14.6 Mojave / x86_64  OK    OK    OK    OK  UNNEEDED, same version is already published
Package 7/173HostnameOS / ArchINSTALLBUILDCHECKBUILD BIN
appreci8R 1.11.0  (landing page)
Sarah Sandmann
Last Commit: bcc5c6d
Last Changed Date: 2021-05-19 12:36:42 -0400
nebbiolo2Linux (Ubuntu 20.04.2 LTS) / x86_64  OK    ERROR  skipped
riesling1Windows Server 2019 Standard / x64  OK    ERROR  skippedskipped
merida1macOS 10.14.6 Mojave / x86_64  OK    ERROR  skippedskipped
Package 8/173HostnameOS / ArchINSTALLBUILDCHECKBUILD BIN
ArrayExpressHTS 1.43.0  (landing page)
Angela Goncalves , Andrew Tikhonov
Last Commit: 15a21c2
Last Changed Date: 2021-05-19 11:48:38 -0400
nebbiolo2Linux (Ubuntu 20.04.2 LTS) / x86_64  OK    OK    WARNINGS  UNNEEDED, same version is already published
riesling1Windows Server 2019 Standard / x64... NOT SUPPORTED ...
merida1macOS 10.14.6 Mojave / x86_64  OK    OK    OK    OK  UNNEEDED, same version is already published
Package 9/173HostnameOS / ArchINSTALLBUILDCHECKBUILD BIN
ASpediaFI 1.7.0  (landing page)
Doyeong Yu
Last Commit: a2083d2
Last Changed Date: 2021-05-19 12:47:16 -0400
nebbiolo2Linux (Ubuntu 20.04.2 LTS) / x86_64  OK    OK    OK  UNNEEDED, same version is already published
riesling1Windows Server 2019 Standard / x64  OK    OK    OK    OK  UNNEEDED, same version is already published
merida1macOS 10.14.6 Mojave / x86_64  OK    OK    OK    OK  UNNEEDED, same version is already published
Package 10/173HostnameOS / ArchINSTALLBUILDCHECKBUILD BIN
ASpli 2.3.1  (landing page)
Estefania Mancini
Last Commit: afabc60
Last Changed Date: 2021-05-25 21:35:34 -0400
nebbiolo2Linux (Ubuntu 20.04.2 LTS) / x86_64  OK    OK    OK  UNNEEDED, same version is already published
riesling1Windows Server 2019 Standard / x64  OK    OK    OK    OK  UNNEEDED, same version is already published
merida1macOS 10.14.6 Mojave / x86_64  OK    OK    OK    OK  UNNEEDED, same version is already published
Package 11/173HostnameOS / ArchINSTALLBUILDCHECKBUILD BIN
ATACseqQC 1.17.0  (landing page)
Jianhong Ou
Last Commit: 23fb377
Last Changed Date: 2021-05-19 12:27:43 -0400
nebbiolo2Linux (Ubuntu 20.04.2 LTS) / x86_64  OK    OK    OK  UNNEEDED, same version is already published
riesling1Windows Server 2019 Standard / x64  OK    OK    OK    OK  UNNEEDED, same version is already published
merida1macOS 10.14.6 Mojave / x86_64  OK    OK    OK    OK  UNNEEDED, same version is already published
Package 12/173HostnameOS / ArchINSTALLBUILDCHECKBUILD BIN
BaalChIP 1.19.0  (landing page)
Ines de Santiago
Last Commit: e4e07e7
Last Changed Date: 2021-05-19 12:22:59 -0400
nebbiolo2Linux (Ubuntu 20.04.2 LTS) / x86_64  OK    OK    WARNINGS  UNNEEDED, same version is already published
riesling1Windows Server 2019 Standard / x64  OK    OK    WARNINGS    OK  UNNEEDED, same version is already published
merida1macOS 10.14.6 Mojave / x86_64  OK    OK    WARNINGS    OK  UNNEEDED, same version is already published
Package 13/173HostnameOS / ArchINSTALLBUILDCHECKBUILD BIN
BadRegionFinder 1.21.0  (landing page)
Sarah Sandmann
Last Commit: 0abcd67
Last Changed Date: 2021-05-19 12:19:30 -0400
nebbiolo2Linux (Ubuntu 20.04.2 LTS) / x86_64  OK    OK    OK  UNNEEDED, same version is already published
riesling1Windows Server 2019 Standard / x64  OK    OK    OK    OK  UNNEEDED, same version is already published
merida1macOS 10.14.6 Mojave / x86_64  OK    OK    OK    OK  UNNEEDED, same version is already published
Package 14/173HostnameOS / ArchINSTALLBUILDCHECKBUILD BIN
bambu 1.3.0  (landing page)
Ying Chen
Last Commit: 4dd429b
Last Changed Date: 2021-05-19 12:57:00 -0400
nebbiolo2Linux (Ubuntu 20.04.2 LTS) / x86_64  OK    OK    OK  UNNEEDED, same version is already published
riesling1Windows Server 2019 Standard / x64  OK    ERROR  skippedskipped
merida1macOS 10.14.6 Mojave / x86_64  OK    ERROR  skippedskipped
Package 15/173HostnameOS / ArchINSTALLBUILDCHECKBUILD BIN
BBCAnalyzer 1.23.0  (landing page)
Sarah Sandmann
Last Commit: 9a4ad1e
Last Changed Date: 2021-05-19 12:15:08 -0400
nebbiolo2Linux (Ubuntu 20.04.2 LTS) / x86_64  OK    OK    OK  UNNEEDED, same version is already published
riesling1Windows Server 2019 Standard / x64  OK    OK    WARNINGS    OK  UNNEEDED, same version is already published
merida1macOS 10.14.6 Mojave / x86_64  OK    OK    OK    OK  UNNEEDED, same version is already published
Package 16/173HostnameOS / ArchINSTALLBUILDCHECKBUILD BIN
biovizBase 1.41.0  (landing page)
Michael Lawrence
Last Commit: 5360f11
Last Changed Date: 2021-05-19 11:50:05 -0400
nebbiolo2Linux (Ubuntu 20.04.2 LTS) / x86_64  OK    OK    WARNINGS  UNNEEDED, same version is already published
riesling1Windows Server 2019 Standard / x64  OK    OK    WARNINGS    OK  UNNEEDED, same version is already published
merida1macOS 10.14.6 Mojave / x86_64  OK    OK    WARNINGS    OK  UNNEEDED, same version is already published
Package 17/173HostnameOS / ArchINSTALLBUILDCHECKBUILD BIN
biscuiteer 1.7.0  (landing page)
"Jacob Morrison"
Last Commit: 82108b1
Last Changed Date: 2021-05-19 12:47:26 -0400
nebbiolo2Linux (Ubuntu 20.04.2 LTS) / x86_64  OK    ERROR  skipped
riesling1Windows Server 2019 Standard / x64  OK    ERROR  skippedskipped
merida1macOS 10.14.6 Mojave / x86_64  OK    ERROR  skippedskipped
Package 18/173HostnameOS / ArchINSTALLBUILDCHECKBUILD BIN
BitSeq 1.37.0  (landing page)
Antti Honkela , Panagiotis Papastamoulis
Last Commit: fe3e573
Last Changed Date: 2021-05-19 11:52:00 -0400
nebbiolo2Linux (Ubuntu 20.04.2 LTS) / x86_64  OK    OK    WARNINGS  UNNEEDED, same version is already published
riesling1Windows Server 2019 Standard / x64  OK    OK    WARNINGS    OK  UNNEEDED, same version is already published
merida1macOS 10.14.6 Mojave / x86_64  OK    OK    WARNINGS    OK  UNNEEDED, same version is already published
Package 19/173HostnameOS / ArchINSTALLBUILDCHECKBUILD BIN
breakpointR 1.11.0  (landing page)
David Porubsky
Last Commit: 5fe1388
Last Changed Date: 2021-05-19 12:38:04 -0400
nebbiolo2Linux (Ubuntu 20.04.2 LTS) / x86_64  OK    OK    OK  UNNEEDED, same version is already published
riesling1Windows Server 2019 Standard / x64  OK    OK    OK    OK  UNNEEDED, same version is already published
merida1macOS 10.14.6 Mojave / x86_64  OK    OK    OK    OK  UNNEEDED, same version is already published
Package 20/173HostnameOS / ArchINSTALLBUILDCHECKBUILD BIN
BRGenomics 1.5.0  (landing page)
Mike DeBerardine
Last Commit: 32de9ca
Last Changed Date: 2021-05-19 12:50:48 -0400
nebbiolo2Linux (Ubuntu 20.04.2 LTS) / x86_64  OK    OK    WARNINGS  UNNEEDED, same version is already published
riesling1Windows Server 2019 Standard / x64  OK    OK    WARNINGS    OK  UNNEEDED, same version is already published
merida1macOS 10.14.6 Mojave / x86_64  OK    OK    WARNINGS    OK  UNNEEDED, same version is already published
Package 21/173HostnameOS / ArchINSTALLBUILDCHECKBUILD BIN
BSgenome 1.61.0  (landing page)
H. Pagès
Last Commit: 575ddca
Last Changed Date: 2021-05-19 11:37:32 -0400
nebbiolo2Linux (Ubuntu 20.04.2 LTS) / x86_64  OK    OK    WARNINGS  UNNEEDED, same version is already published
riesling1Windows Server 2019 Standard / x64  OK    OK    WARNINGS    OK  UNNEEDED, same version is already published
merida1macOS 10.14.6 Mojave / x86_64  OK    OK    WARNINGS    OK  UNNEEDED, same version is already published
Package 22/173HostnameOS / ArchINSTALLBUILDCHECKBUILD BIN
CAGEr 1.35.0  (landing page)
Charles Plessy
Last Commit: c9aa75a
Last Changed Date: 2021-05-25 19:51:38 -0400
nebbiolo2Linux (Ubuntu 20.04.2 LTS) / x86_64  OK    OK    OK  UNNEEDED, same version is already published
riesling1Windows Server 2019 Standard / x64  OK    OK    OK    OK  UNNEEDED, same version is already published
merida1macOS 10.14.6 Mojave / x86_64  OK    OK    OK    OK  UNNEEDED, same version is already published
Package 23/173HostnameOS / ArchINSTALLBUILDCHECKBUILD BIN
casper 2.27.0  (landing page)
David Rossell
Last Commit: 7d3d696
Last Changed Date: 2021-05-19 11:57:16 -0400
nebbiolo2Linux (Ubuntu 20.04.2 LTS) / x86_64  OK    OK    WARNINGS  UNNEEDED, same version is already published
riesling1Windows Server 2019 Standard / x64  OK    OK    WARNINGS    OK  UNNEEDED, same version is already published
merida1macOS 10.14.6 Mojave / x86_64  OK    OK    WARNINGS    OK  UNNEEDED, same version is already published
Package 24/173HostnameOS / ArchINSTALLBUILDCHECKBUILD BIN
cellbaseR 1.17.0  (landing page)
Mohammed OE Abdallah
Last Commit: 4f4e596
Last Changed Date: 2021-05-19 12:27:33 -0400
nebbiolo2Linux (Ubuntu 20.04.2 LTS) / x86_64  OK    OK    OK  UNNEEDED, same version is already published
riesling1Windows Server 2019 Standard / x64  OK    OK    OK    OK  UNNEEDED, same version is already published
merida1macOS 10.14.6 Mojave / x86_64  OK    OK    OK    OK  UNNEEDED, same version is already published
Package 25/173HostnameOS / ArchINSTALLBUILDCHECKBUILD BIN
ChIC 1.13.0  (landing page)
Carmen Maria Livi
Last Commit: 1b522b3
Last Changed Date: 2021-05-19 12:35:03 -0400
nebbiolo2Linux (Ubuntu 20.04.2 LTS) / x86_64  OK    OK    OK  UNNEEDED, same version is already published
riesling1Windows Server 2019 Standard / x64... NOT SUPPORTED ...
merida1macOS 10.14.6 Mojave / x86_64  OK    OK    OK    OK  UNNEEDED, same version is already published
Package 26/173HostnameOS / ArchINSTALLBUILDCHECKBUILD BIN
chimeraviz 1.19.0  (landing page)
Stian Lågstad
Last Commit: b410af5
Last Changed Date: 2021-05-19 12:24:46 -0400
nebbiolo2Linux (Ubuntu 20.04.2 LTS) / x86_64  OK    OK    OK  UNNEEDED, same version is already published
riesling1Windows Server 2019 Standard / x64  OK    OK    OK    OK  NO, package depends on 'Rgraphviz' which is not available
merida1macOS 10.14.6 Mojave / x86_64  OK    OK    OK    OK  UNNEEDED, same version is already published
Package 27/173HostnameOS / ArchINSTALLBUILDCHECKBUILD BIN
ChIPComp 1.23.0  (landing page)
Li Chen
Last Commit: 9d2e649
Last Changed Date: 2021-05-19 12:15:10 -0400
nebbiolo2Linux (Ubuntu 20.04.2 LTS) / x86_64  OK    OK    OK  UNNEEDED, same version is already published
riesling1Windows Server 2019 Standard / x64  OK    OK    OK    OK  UNNEEDED, same version is already published
merida1macOS 10.14.6 Mojave / x86_64  OK    OK    OK    OK  UNNEEDED, same version is already published
Package 28/173HostnameOS / ArchINSTALLBUILDCHECKBUILD BIN
ChIPexoQual 1.17.0  (landing page)
Rene Welch
Last Commit: 00a590f
Last Changed Date: 2021-05-19 12:25:27 -0400
nebbiolo2Linux (Ubuntu 20.04.2 LTS) / x86_64  OK    OK    OK  UNNEEDED, same version is already published
riesling1Windows Server 2019 Standard / x64  OK    OK    OK    OK  UNNEEDED, same version is already published
merida1macOS 10.14.6 Mojave / x86_64  OK    OK    OK    OK  UNNEEDED, same version is already published
Package 29/173HostnameOS / ArchINSTALLBUILDCHECKBUILD BIN
ChIPpeakAnno 3.27.0  (landing page)
Jianhong Ou
Last Commit: 3aa31ea
Last Changed Date: 2021-05-19 11:43:39 -0400
nebbiolo2Linux (Ubuntu 20.04.2 LTS) / x86_64  OK    OK    OK  UNNEEDED, same version is already published
riesling1Windows Server 2019 Standard / x64  OK    OK    OK    OK  UNNEEDED, same version is already published
merida1macOS 10.14.6 Mojave / x86_64  OK    OK    OK    OK  UNNEEDED, same version is already published
Package 30/173HostnameOS / ArchINSTALLBUILDCHECKBUILD BIN
ChIPQC 1.29.0  (landing page)
Tom Carroll , Rory Stark
Last Commit: c2f0c81
Last Changed Date: 2021-05-19 12:04:03 -0400
nebbiolo2Linux (Ubuntu 20.04.2 LTS) / x86_64  OK    OK    WARNINGS  UNNEEDED, same version is already published
riesling1Windows Server 2019 Standard / x64  OK    OK    WARNINGS    OK  UNNEEDED, same version is already published
merida1macOS 10.14.6 Mojave / x86_64  OK    OK    WARNINGS    OK  UNNEEDED, same version is already published
Package 31/173HostnameOS / ArchINSTALLBUILDCHECKBUILD BIN
ChromSCape 1.3.0  (landing page)
Pacome Prompsy
Last Commit: 44151b2
Last Changed Date: 2021-05-19 12:56:13 -0400
nebbiolo2Linux (Ubuntu 20.04.2 LTS) / x86_64  OK    OK    OK  UNNEEDED, same version is already published
riesling1Windows Server 2019 Standard / x64  OK    OK    OK    OK  NO, package depends on 'scran' which is not available
merida1macOS 10.14.6 Mojave / x86_64  OK    OK    OK    OK  UNNEEDED, same version is already published
Package 32/173HostnameOS / ArchINSTALLBUILDCHECKBUILD BIN
chromstaR 1.19.0  (landing page)
Aaron Taudt
Last Commit: d307c74
Last Changed Date: 2021-05-19 12:21:16 -0400
nebbiolo2Linux (Ubuntu 20.04.2 LTS) / x86_64  OK    OK    OK  UNNEEDED, same version is already published
riesling1Windows Server 2019 Standard / x64  OK    OK    OK    OK  UNNEEDED, same version is already published
merida1macOS 10.14.6 Mojave / x86_64  OK    OK    OK    OK  UNNEEDED, same version is already published
Package 33/173HostnameOS / ArchINSTALLBUILDCHECKBUILD BIN
chromVAR 1.15.0  (landing page)
Alicia Schep
Last Commit: debe7b3
Last Changed Date: 2021-05-19 12:30:52 -0400
nebbiolo2Linux (Ubuntu 20.04.2 LTS) / x86_64  OK    OK    OK  UNNEEDED, same version is already published
riesling1Windows Server 2019 Standard / x64  OK    OK    OK    OK  UNNEEDED, same version is already published
merida1macOS 10.14.6 Mojave / x86_64  OK    OK    OK    OK  UNNEEDED, same version is already published
Package 34/173HostnameOS / ArchINSTALLBUILDCHECKBUILD BIN
cn.mops 1.39.0  (landing page)
Gundula Povysil
Last Commit: dac2842
Last Changed Date: 2021-05-19 11:50:48 -0400
nebbiolo2Linux (Ubuntu 20.04.2 LTS) / x86_64  OK    OK    OK  UNNEEDED, same version is already published
riesling1Windows Server 2019 Standard / x64  OK    OK    OK    OK  UNNEEDED, same version is already published
merida1macOS 10.14.6 Mojave / x86_64  OK    OK    OK    OK  UNNEEDED, same version is already published
Package 35/173HostnameOS / ArchINSTALLBUILDCHECKBUILD BIN
CNVfilteR 1.7.0  (landing page)
Jose Marcos Moreno-Cabrera
Last Commit: b85ae43
Last Changed Date: 2021-05-19 12:46:51 -0400
nebbiolo2Linux (Ubuntu 20.04.2 LTS) / x86_64  OK    OK    OK  UNNEEDED, same version is already published
riesling1Windows Server 2019 Standard / x64  OK    OK    OK    OK  UNNEEDED, same version is already published
merida1macOS 10.14.6 Mojave / x86_64  OK    OK    OK    OK  UNNEEDED, same version is already published
Package 36/173HostnameOS / ArchINSTALLBUILDCHECKBUILD BIN
CNVPanelizer 1.25.0  (landing page)
Thomas Wolf
Last Commit: 301209c
Last Changed Date: 2021-05-19 12:14:20 -0400
nebbiolo2Linux (Ubuntu 20.04.2 LTS) / x86_64  OK    OK    OK  UNNEEDED, same version is already published
riesling1Windows Server 2019 Standard / x64  OK    OK    OK    OK  UNNEEDED, same version is already published
merida1macOS 10.14.6 Mojave / x86_64  OK    OK    OK    OK  UNNEEDED, same version is already published
Package 37/173HostnameOS / ArchINSTALLBUILDCHECKBUILD BIN
CNVrd2 1.31.0  (landing page)
Hoang Tan Nguyen
Last Commit: e78e202
Last Changed Date: 2021-05-19 12:01:50 -0400
nebbiolo2Linux (Ubuntu 20.04.2 LTS) / x86_64  OK    OK    OK  UNNEEDED, same version is already published
riesling1Windows Server 2019 Standard / x64  OK    OK    OK    OK  UNNEEDED, same version is already published
merida1macOS 10.14.6 Mojave / x86_64  OK    OK    OK    OK  UNNEEDED, same version is already published
Package 38/173HostnameOS / ArchINSTALLBUILDCHECKBUILD BIN
CODEX 1.25.0  (landing page)
Yuchao Jiang
Last Commit: 5e36c3f
Last Changed Date: 2021-05-19 12:10:21 -0400
nebbiolo2Linux (Ubuntu 20.04.2 LTS) / x86_64  OK    OK    OK  UNNEEDED, same version is already published
riesling1Windows Server 2019 Standard / x64  OK    OK    OK    OK  UNNEEDED, same version is already published
merida1macOS 10.14.6 Mojave / x86_64  OK    OK    OK    OK  UNNEEDED, same version is already published
Package 39/173HostnameOS / ArchINSTALLBUILDCHECKBUILD BIN
compEpiTools 1.27.0  (landing page)
Kamal Kishore
Last Commit: b448046
Last Changed Date: 2021-05-19 12:06:54 -0400
nebbiolo2Linux (Ubuntu 20.04.2 LTS) / x86_64  OK    OK    ERROR  
riesling1Windows Server 2019 Standard / x64  OK    OK    ERROR    OK  
merida1macOS 10.14.6 Mojave / x86_64  OK    OK    ERROR    OK  
Package 40/173HostnameOS / ArchINSTALLBUILDCHECKBUILD BIN
consensusDE 1.11.0  (landing page)
Ashley J. Waardenberg
Last Commit: 9a3e586
Last Changed Date: 2021-05-19 12:39:09 -0400
nebbiolo2Linux (Ubuntu 20.04.2 LTS) / x86_64  OK    OK    OK  UNNEEDED, same version is already published
riesling1Windows Server 2019 Standard / x64  OK    OK    OK    OK  UNNEEDED, same version is already published
merida1macOS 10.14.6 Mojave / x86_64  OK    OK    OK    OK  UNNEEDED, same version is already published
Package 41/173HostnameOS / ArchINSTALLBUILDCHECKBUILD BIN
contiBAIT 1.21.0  (landing page)
Kieran O'Neill
Last Commit: 7fe7fc2
Last Changed Date: 2021-05-19 12:17:59 -0400
nebbiolo2Linux (Ubuntu 20.04.2 LTS) / x86_64  OK    OK    WARNINGS  UNNEEDED, same version is already published
riesling1Windows Server 2019 Standard / x64  OK    OK    WARNINGS    OK  UNNEEDED, same version is already published
merida1macOS 10.14.6 Mojave / x86_64  OK    OK    WARNINGS    OK  UNNEEDED, same version is already published
Package 42/173HostnameOS / ArchINSTALLBUILDCHECKBUILD BIN
CopyNumberPlots 1.9.0  (landing page)
Bernat Gel
Last Commit: b121966
Last Changed Date: 2021-05-19 12:43:11 -0400
nebbiolo2Linux (Ubuntu 20.04.2 LTS) / x86_64  OK    ERROR  skipped
riesling1Windows Server 2019 Standard / x64  OK    OK    OK    OK  UNNEEDED, same version is already published
merida1macOS 10.14.6 Mojave / x86_64  OK    ERROR  skippedskipped
Package 43/173HostnameOS / ArchINSTALLBUILDCHECKBUILD BIN
CopywriteR 2.25.0  (landing page)
Oscar Krijgsman
Last Commit: 70d4738
Last Changed Date: 2021-05-19 12:12:51 -0400
nebbiolo2Linux (Ubuntu 20.04.2 LTS) / x86_64  OK    ERROR  skipped
riesling1Windows Server 2019 Standard / x64  OK    ERROR  skippedskipped
merida1macOS 10.14.6 Mojave / x86_64  OK    ERROR  skippedskipped
Package 44/173HostnameOS / ArchINSTALLBUILDCHECKBUILD BIN
CoverageView 1.31.0  (landing page)
Ernesto Lowy
Last Commit: cc166c1
Last Changed Date: 2021-05-19 12:04:24 -0400
nebbiolo2Linux (Ubuntu 20.04.2 LTS) / x86_64  OK    OK    WARNINGS  UNNEEDED, same version is already published
riesling1Windows Server 2019 Standard / x64... NOT SUPPORTED ...
merida1macOS 10.14.6 Mojave / x86_64  OK    OK    WARNINGS    OK  UNNEEDED, same version is already published
Package 45/173HostnameOS / ArchINSTALLBUILDCHECKBUILD BIN
CrispRVariants 1.21.0  (landing page)
Helen Lindsay
Last Commit: 27e4cab
Last Changed Date: 2021-05-19 12:17:13 -0400
nebbiolo2Linux (Ubuntu 20.04.2 LTS) / x86_64  OK    OK    WARNINGS  UNNEEDED, same version is already published
riesling1Windows Server 2019 Standard / x64  OK    OK    WARNINGS    OK  UNNEEDED, same version is already published
merida1macOS 10.14.6 Mojave / x86_64  OK    OK    WARNINGS    OK  UNNEEDED, same version is already published
Package 46/173HostnameOS / ArchINSTALLBUILDCHECKBUILD BIN
csaw 1.27.0  (landing page)
Aaron Lun
Last Commit: 4d51df5
Last Changed Date: 2021-05-19 12:08:51 -0400
nebbiolo2Linux (Ubuntu 20.04.2 LTS) / x86_64  OK    OK    OK  UNNEEDED, same version is already published
riesling1Windows Server 2019 Standard / x64  OK    OK    OK    OK  UNNEEDED, same version is already published
merida1macOS 10.14.6 Mojave / x86_64  OK    OK    OK    OK  UNNEEDED, same version is already published
Package 47/173HostnameOS / ArchINSTALLBUILDCHECKBUILD BIN
CSSQ 1.5.0  (landing page)
Fan Lab at Georgia Institute of Technology
Last Commit: 9ecf996
Last Changed Date: 2021-05-19 12:48:32 -0400
nebbiolo2Linux (Ubuntu 20.04.2 LTS) / x86_64  OK    ERROR  skipped
riesling1Windows Server 2019 Standard / x64  OK    OK    OK    OK  UNNEEDED, same version is already published
merida1macOS 10.14.6 Mojave / x86_64  OK    ERROR  skippedskipped
Package 48/173HostnameOS / ArchINSTALLBUILDCHECKBUILD BIN
customProDB 1.33.0  (landing page)
Xiaojing Wang
Last Commit: 33de0a3
Last Changed Date: 2021-05-19 11:59:12 -0400
nebbiolo2Linux (Ubuntu 20.04.2 LTS) / x86_64  OK    OK    OK  UNNEEDED, same version is already published
riesling1Windows Server 2019 Standard / x64  OK    OK    OK    OK  UNNEEDED, same version is already published
merida1macOS 10.14.6 Mojave / x86_64  OK    OK    OK    OK  UNNEEDED, same version is already published
Package 49/173HostnameOS / ArchINSTALLBUILDCHECKBUILD BIN
DAMEfinder 1.5.0  (landing page)
Stephany Orjuela
Last Commit: 4090e21
Last Changed Date: 2021-05-19 12:49:06 -0400
nebbiolo2Linux (Ubuntu 20.04.2 LTS) / x86_64  OK    OK    OK  UNNEEDED, same version is already published
riesling1Windows Server 2019 Standard / x64  OK    OK    OK    OK  NO, package depends on 'bumphunter' which is not available
merida1macOS 10.14.6 Mojave / x86_64  OK    OK    OK    OK  UNNEEDED, same version is already published
Package 50/173HostnameOS / ArchINSTALLBUILDCHECKBUILD BIN
DegNorm 1.3.3  (landing page)
Ji-Ping Wang
Last Commit: f44ab94
Last Changed Date: 2021-05-20 10:41:22 -0400
nebbiolo2Linux (Ubuntu 20.04.2 LTS) / x86_64  OK    OK    OK  UNNEEDED, same version is already published
riesling1Windows Server 2019 Standard / x64  OK    OK    OK    OK  UNNEEDED, same version is already published
merida1macOS 10.14.6 Mojave / x86_64  OK    OK    OK    OK  UNNEEDED, same version is already published
Package 51/173HostnameOS / ArchINSTALLBUILDCHECKBUILD BIN
derfinder 1.27.0  (landing page)
Leonardo Collado-Torres
Last Commit: cb99b18
Last Changed Date: 2021-05-19 12:08:08 -0400
nebbiolo2Linux (Ubuntu 20.04.2 LTS) / x86_64  OK    OK    OK  UNNEEDED, same version is already published
riesling1Windows Server 2019 Standard / x64  OK    OK    OK    OK  NO, package depends on 'bumphunter' which is not available
merida1macOS 10.14.6 Mojave / x86_64  OK    OK    OK    OK  UNNEEDED, same version is already published
Package 52/173HostnameOS / ArchINSTALLBUILDCHECKBUILD BIN
DEXSeq 1.39.0  (landing page)
Alejandro Reyes
Last Commit: 9f844bd
Last Changed Date: 2021-05-19 11:48:55 -0400
nebbiolo2Linux (Ubuntu 20.04.2 LTS) / x86_64  OK    OK    OK  UNNEEDED, same version is already published
riesling1Windows Server 2019 Standard / x64  OK    OK    OK    OK  UNNEEDED, same version is already published
merida1macOS 10.14.6 Mojave / x86_64  OK    OK    OK    OK  UNNEEDED, same version is already published
Package 53/173HostnameOS / ArchINSTALLBUILDCHECKBUILD BIN
DiffBind 3.3.2  (landing page)
Rory Stark
Last Commit: f74cea2
Last Changed Date: 2021-05-26 09:19:34 -0400
nebbiolo2Linux (Ubuntu 20.04.2 LTS) / x86_64  OK    OK    OK  UNNEEDED, same version is already published
riesling1Windows Server 2019 Standard / x64  OK    OK    OK    OK  UNNEEDED, same version is already published
merida1macOS 10.14.6 Mojave / x86_64  OK    OK    OK    OK  UNNEEDED, same version is already published
Package 54/173HostnameOS / ArchINSTALLBUILDCHECKBUILD BIN
diffHic 1.25.0  (landing page)
Aaron Lun
Last Commit: 872433f
Last Changed Date: 2021-05-19 12:13:21 -0400
nebbiolo2Linux (Ubuntu 20.04.2 LTS) / x86_64  OK    OK    OK  UNNEEDED, same version is already published
riesling1Windows Server 2019 Standard / x64  OK    OK    OK    OK  UNNEEDED, same version is already published
merida1macOS 10.14.6 Mojave / x86_64  OK    OK    OK    OK  UNNEEDED, same version is already published
Package 55/173HostnameOS / ArchINSTALLBUILDCHECKBUILD BIN
easyRNASeq 2.29.0  (landing page)
Nicolas Delhomme
Last Commit: 23e7b94
Last Changed Date: 2021-05-19 11:51:10 -0400
nebbiolo2Linux (Ubuntu 20.04.2 LTS) / x86_64  OK    OK    OK  UNNEEDED, same version is already published
riesling1Windows Server 2019 Standard / x64  OK    OK    OK    OK  UNNEEDED, same version is already published
merida1macOS 10.14.6 Mojave / x86_64  OK    OK    OK    OK  UNNEEDED, same version is already published
Package 56/173HostnameOS / ArchINSTALLBUILDCHECKBUILD BIN
EDASeq 2.27.0  (landing page)
Davide Risso
Last Commit: fc5754f
Last Changed Date: 2021-05-19 11:49:53 -0400
nebbiolo2Linux (Ubuntu 20.04.2 LTS) / x86_64  OK    ERROR  skipped
riesling1Windows Server 2019 Standard / x64  OK    OK    OK    OK  UNNEEDED, same version is already published
merida1macOS 10.14.6 Mojave / x86_64  OK    ERROR  skippedskipped
Package 57/173HostnameOS / ArchINSTALLBUILDCHECKBUILD BIN
ensembldb 2.17.0  (landing page)
Johannes Rainer
Last Commit: d761bac
Last Changed Date: 2021-05-19 12:12:09 -0400
nebbiolo2Linux (Ubuntu 20.04.2 LTS) / x86_64  OK    OK    OK  UNNEEDED, same version is already published
riesling1Windows Server 2019 Standard / x64  OK    OK    OK    OK  UNNEEDED, same version is already published
merida1macOS 10.14.6 Mojave / x86_64  OK    OK    OK    OK  UNNEEDED, same version is already published
Package 58/173HostnameOS / ArchINSTALLBUILDCHECKBUILD BIN
epialleleR 1.1.0  (landing page)
Oleksii Nikolaienko
Last Commit: 97a0141
Last Changed Date: 2021-05-19 13:03:23 -0400
nebbiolo2Linux (Ubuntu 20.04.2 LTS) / x86_64  OK    OK    WARNINGS  UNNEEDED, same version is already published
riesling1Windows Server 2019 Standard / x64  OK    OK    WARNINGS    OK  UNNEEDED, same version is already published
merida1macOS 10.14.6 Mojave / x86_64  OK    OK    OK    OK  UNNEEDED, same version is already published
Package 59/173HostnameOS / ArchINSTALLBUILDCHECKBUILD BIN
epigenomix 1.33.0  (landing page)
Hans-Ulrich Klein
Last Commit: 2c0445b
Last Changed Date: 2021-05-19 11:57:59 -0400
nebbiolo2Linux (Ubuntu 20.04.2 LTS) / x86_64  OK    OK    OK  UNNEEDED, same version is already published
riesling1Windows Server 2019 Standard / x64  OK    OK    OK    OK  UNNEEDED, same version is already published
merida1macOS 10.14.6 Mojave / x86_64  OK    OK    OK    OK  UNNEEDED, same version is already published
Package 60/173HostnameOS / ArchINSTALLBUILDCHECKBUILD BIN
epigraHMM 1.1.2  (landing page)
Pedro Baldoni
Last Commit: 1d21cb1
Last Changed Date: 2021-05-25 17:19:14 -0400
nebbiolo2Linux (Ubuntu 20.04.2 LTS) / x86_64  OK    OK    OK  UNNEEDED, same version is already published
riesling1Windows Server 2019 Standard / x64  OK    OK    OK    OK  UNNEEDED, same version is already published
merida1macOS 10.14.6 Mojave / x86_64  OK    OK    OK    OK  UNNEEDED, same version is already published
Package 61/173HostnameOS / ArchINSTALLBUILDCHECKBUILD BIN
esATAC 1.15.0  (landing page)
Zheng Wei
Last Commit: 9b86d0f
Last Changed Date: 2021-05-19 12:31:59 -0400
nebbiolo2Linux (Ubuntu 20.04.2 LTS) / x86_64  OK    OK    WARNINGS  UNNEEDED, same version is already published
riesling1Windows Server 2019 Standard / x64  OK    OK    WARNINGS    OK  NO, package depends on 'ChIPseeker' which is not available
merida1macOS 10.14.6 Mojave / x86_64  OK    OK    WARNINGS    OK  UNNEEDED, same version is already published
Package 62/173HostnameOS / ArchINSTALLBUILDCHECKBUILD BIN
eudysbiome 1.23.0  (landing page)
Xiaoyuan Zhou
Last Commit: 2f6a05f
Last Changed Date: 2021-05-19 12:14:56 -0400
nebbiolo2Linux (Ubuntu 20.04.2 LTS) / x86_64  OK    OK    OK  UNNEEDED, same version is already published
riesling1Windows Server 2019 Standard / x64  OK    OK    OK    OK  UNNEEDED, same version is already published
merida1macOS 10.14.6 Mojave / x86_64  OK    OK    OK    OK  UNNEEDED, same version is already published
Package 63/173HostnameOS / ArchINSTALLBUILDCHECKBUILD BIN
exomeCopy 1.39.0  (landing page)
Michael Love
Last Commit: 0813333
Last Changed Date: 2021-05-19 11:50:34 -0400
nebbiolo2Linux (Ubuntu 20.04.2 LTS) / x86_64  OK    OK    OK  UNNEEDED, same version is already published
riesling1Windows Server 2019 Standard / x64  OK    OK    OK    OK  UNNEEDED, same version is already published
merida1macOS 10.14.6 Mojave / x86_64  OK    OK    OK    OK  UNNEEDED, same version is already published
Package 64/173HostnameOS / ArchINSTALLBUILDCHECKBUILD BIN
exomePeak2 1.5.0  (landing page)
Zhen Wei
Last Commit: 1edc86c
Last Changed Date: 2021-05-19 12:49:57 -0400
nebbiolo2Linux (Ubuntu 20.04.2 LTS) / x86_64  OK    OK    WARNINGS  UNNEEDED, same version is already published
riesling1Windows Server 2019 Standard / x64  OK    OK    WARNINGS    OK  UNNEEDED, same version is already published
merida1macOS 10.14.6 Mojave / x86_64  OK    OK    WARNINGS    OK  UNNEEDED, same version is already published
Package 65/173HostnameOS / ArchINSTALLBUILDCHECKBUILD BIN
FilterFFPE 1.3.0  (landing page)
Lanying Wei
Last Commit: 7608296
Last Changed Date: 2021-05-19 12:55:31 -0400
nebbiolo2Linux (Ubuntu 20.04.2 LTS) / x86_64  OK    OK    OK  UNNEEDED, same version is already published
riesling1Windows Server 2019 Standard / x64  OK    OK    OK    OK  UNNEEDED, same version is already published
merida1macOS 10.14.6 Mojave / x86_64  OK    OK    OK    OK  UNNEEDED, same version is already published
Package 66/173HostnameOS / ArchINSTALLBUILDCHECKBUILD BIN
FRASER 1.5.0  (landing page)
Christian Mertes
Last Commit: 8ebdd0a
Last Changed Date: 2021-05-19 12:51:54 -0400
nebbiolo2Linux (Ubuntu 20.04.2 LTS) / x86_64  OK    OK    OK  UNNEEDED, same version is already published
riesling1Windows Server 2019 Standard / x64  OK    OK    OK    OK  UNNEEDED, same version is already published
merida1macOS 10.14.6 Mojave / x86_64  OK    OK    OK    OK  UNNEEDED, same version is already published
Package 67/173HostnameOS / ArchINSTALLBUILDCHECKBUILD BIN
FunChIP 1.19.0  (landing page)
Alice Parodi
Last Commit: 2537e35
Last Changed Date: 2021-05-19 12:20:50 -0400
nebbiolo2Linux (Ubuntu 20.04.2 LTS) / x86_64  OK    OK    WARNINGS  UNNEEDED, same version is already published
riesling1Windows Server 2019 Standard / x64  OK    OK    WARNINGS    OK  UNNEEDED, same version is already published
merida1macOS 10.14.6 Mojave / x86_64  OK    OK    WARNINGS    OK  UNNEEDED, same version is already published
Package 68/173HostnameOS / ArchINSTALLBUILDCHECKBUILD BIN
gcapc 1.17.0  (landing page)
Mingxiang Teng
Last Commit: 47bd945
Last Changed Date: 2021-05-19 12:24:48 -0400
nebbiolo2Linux (Ubuntu 20.04.2 LTS) / x86_64  OK    OK    OK  UNNEEDED, same version is already published
riesling1Windows Server 2019 Standard / x64  OK    OK    OK    OK  UNNEEDED, same version is already published
merida1macOS 10.14.6 Mojave / x86_64  OK    OK    OK    OK  UNNEEDED, same version is already published
Package 69/173HostnameOS / ArchINSTALLBUILDCHECKBUILD BIN
GeneGeneInteR 1.19.0  (landing page)
Mathieu Emily
Last Commit: d84c1b0
Last Changed Date: 2021-05-19 12:21:57 -0400
nebbiolo2Linux (Ubuntu 20.04.2 LTS) / x86_64  OK    OK    OK  UNNEEDED, same version is already published
riesling1Windows Server 2019 Standard / x64  OK    OK    OK    OK  NO, package depends on 'snpStats' which is not available
merida1macOS 10.14.6 Mojave / x86_64  OK    OK    OK    OK  UNNEEDED, same version is already published
Package 70/173HostnameOS / ArchINSTALLBUILDCHECKBUILD BIN
GenoGAM 2.11.0  (landing page)
Georg Stricker
Last Commit: 7c8148a
Last Changed Date: 2021-05-19 12:19:19 -0400
nebbiolo2Linux (Ubuntu 20.04.2 LTS) / x86_64  OK    OK    WARNINGS  UNNEEDED, same version is already published
riesling1Windows Server 2019 Standard / x64  OK    OK    WARNINGS    OK  UNNEEDED, same version is already published
merida1macOS 10.14.6 Mojave / x86_64  OK    OK    WARNINGS    OK  UNNEEDED, same version is already published
Package 71/173HostnameOS / ArchINSTALLBUILDCHECKBUILD BIN
genomation 1.25.0  (landing page)
Altuna Akalin , Vedran Franke
Last Commit: 76e4ab2
Last Changed Date: 2021-05-19 12:09:55 -0400
nebbiolo2Linux (Ubuntu 20.04.2 LTS) / x86_64  OK    OK    WARNINGS  UNNEEDED, same version is already published
riesling1Windows Server 2019 Standard / x64  OK    OK    WARNINGS    OK  UNNEEDED, same version is already published
merida1macOS 10.14.6 Mojave / x86_64  OK    OK    WARNINGS    OK  UNNEEDED, same version is already published
Package 72/173HostnameOS / ArchINSTALLBUILDCHECKBUILD BIN
GenomicAlignments 1.29.0  (landing page)
Bioconductor Package Maintainer
Last Commit: 005c0ab
Last Changed Date: 2021-05-19 12:01:54 -0400
nebbiolo2Linux (Ubuntu 20.04.2 LTS) / x86_64  OK    OK    OK  UNNEEDED, same version is already published
riesling1Windows Server 2019 Standard / x64  OK    OK    OK    OK  UNNEEDED, same version is already published
merida1macOS 10.14.6 Mojave / x86_64  OK    OK    OK    OK  UNNEEDED, same version is already published
Package 73/173HostnameOS / ArchINSTALLBUILDCHECKBUILD BIN
GenomicFiles 1.29.0  (landing page)
Bioconductor Package Maintainer
Last Commit: 96a9596
Last Changed Date: 2021-05-19 12:04:46 -0400
nebbiolo2Linux (Ubuntu 20.04.2 LTS) / x86_64  OK    OK    OK  UNNEEDED, same version is already published
riesling1Windows Server 2019 Standard / x64  OK    OK    OK    OK  UNNEEDED, same version is already published
merida1macOS 10.14.6 Mojave / x86_64  OK    OK    OK    OK  UNNEEDED, same version is already published
Package 74/173HostnameOS / ArchINSTALLBUILDCHECKBUILD BIN
GenomicInteractions 1.27.0  (landing page)
Liz Ing-Simmons
Last Commit: b740bb9
Last Changed Date: 2021-05-19 12:07:53 -0400
nebbiolo2Linux (Ubuntu 20.04.2 LTS) / x86_64  OK    OK    OK  UNNEEDED, same version is already published
riesling1Windows Server 2019 Standard / x64  OK    OK    OK    OK  UNNEEDED, same version is already published
merida1macOS 10.14.6 Mojave / x86_64  OK    OK    OK    OK  UNNEEDED, same version is already published
Package 75/173HostnameOS / ArchINSTALLBUILDCHECKBUILD BIN
GenVisR 1.25.0  (landing page)
Zachary Skidmore
Last Commit: 4977ca2
Last Changed Date: 2021-05-19 12:17:38 -0400
nebbiolo2Linux (Ubuntu 20.04.2 LTS) / x86_64  OK    OK    OK  UNNEEDED, same version is already published
riesling1Windows Server 2019 Standard / x64  OK    OK    OK    OK  UNNEEDED, same version is already published
merida1macOS 10.14.6 Mojave / x86_64  OK    OK    OK    OK  UNNEEDED, same version is already published
Package 76/173HostnameOS / ArchINSTALLBUILDCHECKBUILD BIN
ggbio 1.41.0  (landing page)
Michael Lawrence
Last Commit: d3572f3
Last Changed Date: 2021-05-19 11:50:29 -0400
nebbiolo2Linux (Ubuntu 20.04.2 LTS) / x86_64  OK    OK    WARNINGS  UNNEEDED, same version is already published
riesling1Windows Server 2019 Standard / x64  OK    OK    WARNINGS    OK  UNNEEDED, same version is already published
merida1macOS 10.14.6 Mojave / x86_64  OK    OK    WARNINGS    OK  UNNEEDED, same version is already published
Package 77/173HostnameOS / ArchINSTALLBUILDCHECKBUILD BIN
girafe 1.45.0  (landing page)
J. Toedling
Last Commit: d77fdb7
Last Changed Date: 2021-05-19 11:45:04 -0400
nebbiolo2Linux (Ubuntu 20.04.2 LTS) / x86_64  OK    OK    OK  UNNEEDED, same version is already published
riesling1Windows Server 2019 Standard / x64  OK    OK    OK    OK  UNNEEDED, same version is already published
merida1macOS 10.14.6 Mojave / x86_64  OK    OK    OK    OK  UNNEEDED, same version is already published
Package 78/173HostnameOS / ArchINSTALLBUILDCHECKBUILD BIN
gmapR 1.35.0  (landing page)
Michael Lawrence
Last Commit: 43bb861
Last Changed Date: 2021-05-19 11:53:08 -0400
nebbiolo2Linux (Ubuntu 20.04.2 LTS) / x86_64  OK    OK    WARNINGS  UNNEEDED, same version is already published
riesling1Windows Server 2019 Standard / x64... NOT SUPPORTED ...
merida1macOS 10.14.6 Mojave / x86_64  OK    OK    WARNINGS    OK  UNNEEDED, same version is already published
Package 79/173HostnameOS / ArchINSTALLBUILDCHECKBUILD BIN
gmoviz 1.5.0  (landing page)
Kathleen Zeglinski
Last Commit: 88a2d67
Last Changed Date: 2021-05-19 12:50:37 -0400
nebbiolo2Linux (Ubuntu 20.04.2 LTS) / x86_64  OK    OK    OK  UNNEEDED, same version is already published
riesling1Windows Server 2019 Standard / x64  OK    OK    OK    OK  UNNEEDED, same version is already published
merida1macOS 10.14.6 Mojave / x86_64  OK    OK    OK    OK  UNNEEDED, same version is already published
Package 80/173HostnameOS / ArchINSTALLBUILDCHECKBUILD BIN
GOTHiC 1.29.0  (landing page)
Borbala Mifsud
Last Commit: ccf13e9
Last Changed Date: 2021-05-19 12:44:42 -0400
nebbiolo2Linux (Ubuntu 20.04.2 LTS) / x86_64  OK    OK    OK  UNNEEDED, same version is already published
riesling1Windows Server 2019 Standard / x64  OK    OK    OK    OK  UNNEEDED, same version is already published
merida1macOS 10.14.6 Mojave / x86_64  OK    OK    OK    OK  UNNEEDED, same version is already published
Package 81/173HostnameOS / ArchINSTALLBUILDCHECKBUILD BIN
GreyListChIP 1.25.0  (landing page)
Gordon Brown
Last Commit: a621e6a
Last Changed Date: 2021-05-19 12:10:56 -0400
nebbiolo2Linux (Ubuntu 20.04.2 LTS) / x86_64  OK    OK    OK  UNNEEDED, same version is already published
riesling1Windows Server 2019 Standard / x64  OK    OK    OK    OK  UNNEEDED, same version is already published
merida1macOS 10.14.6 Mojave / x86_64  OK    OK    OK    OK  UNNEEDED, same version is already published
Package 82/173HostnameOS / ArchINSTALLBUILDCHECKBUILD BIN
GUIDEseq 1.23.0  (landing page)
Lihua Julie Zhu
Last Commit: ae56235
Last Changed Date: 2021-05-19 12:16:19 -0400
nebbiolo2Linux (Ubuntu 20.04.2 LTS) / x86_64  OK    OK    OK  UNNEEDED, same version is already published
riesling1Windows Server 2019 Standard / x64  OK    OK    OK    OK  UNNEEDED, same version is already published
merida1macOS 10.14.6 Mojave / x86_64  OK    OK    OK    OK  UNNEEDED, same version is already published
Package 83/173HostnameOS / ArchINSTALLBUILDCHECKBUILD BIN
Gviz 1.37.1  (landing page)
Robert Ivanek
Last Commit: f532165
Last Changed Date: 2021-05-29 17:10:13 -0400
nebbiolo2Linux (Ubuntu 20.04.2 LTS) / x86_64  OK    OK    OK  UNNEEDED, same version is already published
riesling1Windows Server 2019 Standard / x64  OK    OK    OK    OK  UNNEEDED, same version is already published
merida1macOS 10.14.6 Mojave / x86_64  OK    OK    OK    OK  UNNEEDED, same version is already published
Package 84/173HostnameOS / ArchINSTALLBUILDCHECKBUILD BIN
h5vc 2.27.1  (landing page)
Paul Theodor Pyl
Last Commit: 9cb53ed
Last Changed Date: 2021-05-20 05:30:33 -0400
nebbiolo2Linux (Ubuntu 20.04.2 LTS) / x86_64  OK    ERROR  skipped
riesling1Windows Server 2019 Standard / x64  OK    OK    WARNINGS    OK  UNNEEDED, same version is already published
merida1macOS 10.14.6 Mojave / x86_64  OK    ERROR  skippedskipped
Package 85/173HostnameOS / ArchINSTALLBUILDCHECKBUILD BIN
HelloRanges 1.19.0  (landing page)
Michael Lawrence
Last Commit: 5c1d41e
Last Changed Date: 2021-05-19 12:23:56 -0400
nebbiolo2Linux (Ubuntu 20.04.2 LTS) / x86_64  OK    ERROR  skipped
riesling1Windows Server 2019 Standard / x64  OK    ERROR  skippedskipped
merida1macOS 10.14.6 Mojave / x86_64  OK    ERROR  skippedskipped
Package 86/173HostnameOS / ArchINSTALLBUILDCHECKBUILD BIN
HTSeqGenie 4.23.0  (landing page)
Jens Reeder
Last Commit: 8385ac5
Last Changed Date: 2021-05-19 11:54:22 -0400
nebbiolo2Linux (Ubuntu 20.04.2 LTS) / x86_64  OK    OK    OK  UNNEEDED, same version is already published
riesling1Windows Server 2019 Standard / x64... NOT SUPPORTED ...
merida1macOS 10.14.6 Mojave / x86_64... NOT SUPPORTED ...
Package 87/173HostnameOS / ArchINSTALLBUILDCHECKBUILD BIN
icetea 1.11.0  (landing page)
Vivek Bhardwaj
Last Commit: 61ed70e
Last Changed Date: 2021-05-19 12:36:20 -0400
nebbiolo2Linux (Ubuntu 20.04.2 LTS) / x86_64  OK    OK    OK  UNNEEDED, same version is already published
riesling1Windows Server 2019 Standard / x64  OK    OK    OK    OK  UNNEEDED, same version is already published
merida1macOS 10.14.6 Mojave / x86_64  OK    OK    OK    OK  UNNEEDED, same version is already published
Package 88/173HostnameOS / ArchINSTALLBUILDCHECKBUILD BIN
IMAS 1.17.0  (landing page)
Seonggyun Han
Last Commit: 13365f6
Last Changed Date: 2021-05-19 12:27:18 -0400
nebbiolo2Linux (Ubuntu 20.04.2 LTS) / x86_64  OK    OK    OK  UNNEEDED, same version is already published
riesling1Windows Server 2019 Standard / x64  OK    OK    OK    OK  UNNEEDED, same version is already published
merida1macOS 10.14.6 Mojave / x86_64  OK    OK    OK    OK  UNNEEDED, same version is already published
Package 89/173HostnameOS / ArchINSTALLBUILDCHECKBUILD BIN
INSPEcT 1.23.0  (landing page)
Stefano de Pretis
Last Commit: 405e197
Last Changed Date: 2021-05-19 12:14:25 -0400
nebbiolo2Linux (Ubuntu 20.04.2 LTS) / x86_64  OK    OK    OK  UNNEEDED, same version is already published
riesling1Windows Server 2019 Standard / x64  OK    OK    OK    OK  UNNEEDED, same version is already published
merida1macOS 10.14.6 Mojave / x86_64  OK    OK    OK    OK  UNNEEDED, same version is already published
Package 90/173HostnameOS / ArchINSTALLBUILDCHECKBUILD BIN
IntEREst 1.17.0  (landing page)
Ali Oghabian , Mikko Frilander
Last Commit: 0a47618
Last Changed Date: 2021-05-19 12:26:24 -0400
nebbiolo2Linux (Ubuntu 20.04.2 LTS) / x86_64  OK    ERROR  skipped
riesling1Windows Server 2019 Standard / x64  OK    OK    OK    OK  UNNEEDED, same version is already published
merida1macOS 10.14.6 Mojave / x86_64  OK    ERROR  skippedskipped
Package 91/173HostnameOS / ArchINSTALLBUILDCHECKBUILD BIN
karyoploteR 1.19.0  (landing page)
Bernat Gel
Last Commit: 8451db6
Last Changed Date: 2021-05-19 12:25:36 -0400
nebbiolo2Linux (Ubuntu 20.04.2 LTS) / x86_64  OK    ERROR  skipped
riesling1Windows Server 2019 Standard / x64  OK    OK    OK    OK  UNNEEDED, same version is already published
merida1macOS 10.14.6 Mojave / x86_64  OK    ERROR  skippedskipped
Package 92/173HostnameOS / ArchINSTALLBUILDCHECKBUILD BIN
ldblock 1.23.0  (landing page)
VJ Carey
Last Commit: f969658
Last Changed Date: 2021-05-19 12:15:17 -0400
nebbiolo2Linux (Ubuntu 20.04.2 LTS) / x86_64  OK    ERROR  skipped
riesling1Windows Server 2019 Standard / x64  OK    OK    OK    OK  NO, package depends on 'snpStats' which is not available
merida1macOS 10.14.6 Mojave / x86_64  OK    ERROR  skippedskipped
Package 93/173HostnameOS / ArchINSTALLBUILDCHECKBUILD BIN
MACPET 1.13.0  (landing page)
Ioannis Vardaxis
Last Commit: f62427e
Last Changed Date: 2021-05-19 12:33:30 -0400
nebbiolo2Linux (Ubuntu 20.04.2 LTS) / x86_64  OK    OK    OK  UNNEEDED, same version is already published
riesling1Windows Server 2019 Standard / x64  OK    OK    OK    OK  UNNEEDED, same version is already published
merida1macOS 10.14.6 Mojave / x86_64  OK    OK    OK    OK  UNNEEDED, same version is already published
Package 94/173HostnameOS / ArchINSTALLBUILDCHECKBUILD BIN
MADSEQ 1.19.0  (landing page)
Yu Kong
Last Commit: 477b68b
Last Changed Date: 2021-05-19 12:20:58 -0400
nebbiolo2Linux (Ubuntu 20.04.2 LTS) / x86_64  OK    ERROR  skipped
riesling1Windows Server 2019 Standard / x64  OK    OK    OK    OK  UNNEEDED, same version is already published
merida1macOS 10.14.6 Mojave / x86_64  OK    ERROR  skippedskipped
Package 95/173HostnameOS / ArchINSTALLBUILDCHECKBUILD BIN
MDTS 1.13.0  (landing page)
Jack M.. Fu
Last Commit: 8ad90ad
Last Changed Date: 2021-05-19 12:33:55 -0400
nebbiolo2Linux (Ubuntu 20.04.2 LTS) / x86_64  OK    ERROR  skipped
riesling1Windows Server 2019 Standard / x64  OK    OK    OK    OK  UNNEEDED, same version is already published
merida1macOS 10.14.6 Mojave / x86_64  OK    ERROR  skippedskipped
Package 96/173HostnameOS / ArchINSTALLBUILDCHECKBUILD BIN
MEDIPS 1.45.0  (landing page)
Lukas Chavez
Last Commit: ad46924
Last Changed Date: 2021-05-19 11:46:46 -0400
nebbiolo2Linux (Ubuntu 20.04.2 LTS) / x86_64  OK    OK    OK  UNNEEDED, same version is already published
riesling1Windows Server 2019 Standard / x64  OK    OK    OK    OK  UNNEEDED, same version is already published
merida1macOS 10.14.6 Mojave / x86_64  OK    OK    OK    OK  UNNEEDED, same version is already published
Package 97/173HostnameOS / ArchINSTALLBUILDCHECKBUILD BIN
metagene 2.25.0  (landing page)
Charles Joly Beauparlant
Last Commit: 0e6f3fc
Last Changed Date: 2021-05-19 12:06:34 -0400
nebbiolo2Linux (Ubuntu 20.04.2 LTS) / x86_64  OK    OK    OK  UNNEEDED, same version is already published
riesling1Windows Server 2019 Standard / x64  OK    OK    OK    OK  UNNEEDED, same version is already published
merida1macOS 10.14.6 Mojave / x86_64  OK    OK    OK    OK  UNNEEDED, same version is already published
Package 98/173HostnameOS / ArchINSTALLBUILDCHECKBUILD BIN
metagene2 1.9.0  (landing page)
Eric Fournier
Last Commit: 99f8cd0
Last Changed Date: 2021-05-19 12:43:35 -0400
nebbiolo2Linux (Ubuntu 20.04.2 LTS) / x86_64  OK    OK    OK  UNNEEDED, same version is already published
riesling1Windows Server 2019 Standard / x64  OK    OK    OK    OK  UNNEEDED, same version is already published
merida1macOS 10.14.6 Mojave / x86_64  OK    OK    OK    OK  UNNEEDED, same version is already published
Package 99/173HostnameOS / ArchINSTALLBUILDCHECKBUILD BIN
metaseqR2 1.5.0  (landing page)
Panagiotis Moulos
Last Commit: 55293ee
Last Changed Date: 2021-05-19 12:52:20 -0400
nebbiolo2Linux (Ubuntu 20.04.2 LTS) / x86_64  OK    OK    OK  UNNEEDED, same version is already published
riesling1Windows Server 2019 Standard / x64  OK    OK    OK    OK  NO, package depends on 'baySeq' which is not available
merida1macOS 10.14.6 Mojave / x86_64  OK    OK    OK    OK  UNNEEDED, same version is already published
Package 100/173HostnameOS / ArchINSTALLBUILDCHECKBUILD BIN
methylKit 1.19.0  (landing page)
Altuna Akalin , Alexander Gosdschan
Last Commit: f44f140
Last Changed Date: 2021-05-19 12:21:44 -0400
nebbiolo2Linux (Ubuntu 20.04.2 LTS) / x86_64  OK    OK    WARNINGS  UNNEEDED, same version is already published
riesling1Windows Server 2019 Standard / x64  OK    OK    WARNINGS    OK  UNNEEDED, same version is already published
merida1macOS 10.14.6 Mojave / x86_64  OK    OK    WARNINGS    OK  UNNEEDED, same version is already published
Package 101/173HostnameOS / ArchINSTALLBUILDCHECKBUILD BIN
methylPipe 1.27.0  (landing page)
Kamal Kishore
Last Commit: bc4d8d8
Last Changed Date: 2021-05-19 12:07:06 -0400
nebbiolo2Linux (Ubuntu 20.04.2 LTS) / x86_64  OK    ERROR  skipped
riesling1Windows Server 2019 Standard / x64  OK    ERROR  skippedskipped
merida1macOS 10.14.6 Mojave / x86_64  OK    ERROR  skippedskipped
Package 102/173HostnameOS / ArchINSTALLBUILDCHECKBUILD BIN
MMAPPR2 1.7.0  (landing page)
Jonathon Hill
Last Commit: 7098157
Last Changed Date: 2021-05-19 12:44:29 -0400
nebbiolo2Linux (Ubuntu 20.04.2 LTS) / x86_64  OK    OK    OK  UNNEEDED, same version is already published
riesling1Windows Server 2019 Standard / x64... NOT SUPPORTED ...
merida1macOS 10.14.6 Mojave / x86_64  OK    OK    OK    OK  UNNEEDED, same version is already published
Package 103/173HostnameOS / ArchINSTALLBUILDCHECKBUILD BIN
MMDiff2 1.21.0  (landing page)
Gabriele Schweikert
Last Commit: c0b38b9
Last Changed Date: 2021-05-19 12:20:25 -0400
nebbiolo2Linux (Ubuntu 20.04.2 LTS) / x86_64  OK    OK    OK  UNNEEDED, same version is already published
riesling1Windows Server 2019 Standard / x64  OK    OK    WARNINGS    OK  UNNEEDED, same version is already published
merida1macOS 10.14.6 Mojave / x86_64  OK    OK    OK    OK  UNNEEDED, same version is already published
Package 104/173HostnameOS / ArchINSTALLBUILDCHECKBUILD BIN
mosaics 2.31.0  (landing page)
Dongjun Chung
Last Commit: 4c6ce44
Last Changed Date: 2021-05-19 11:47:19 -0400
nebbiolo2Linux (Ubuntu 20.04.2 LTS) / x86_64  OK    OK    OK  UNNEEDED, same version is already published
riesling1Windows Server 2019 Standard / x64  OK    OK    OK    OK  UNNEEDED, same version is already published
merida1macOS 10.14.6 Mojave / x86_64  OK    OK    OK    OK  UNNEEDED, same version is already published
Package 105/173HostnameOS / ArchINSTALLBUILDCHECKBUILD BIN
motifmatchr 1.15.0  (landing page)
Alicia Schep
Last Commit: 79f83ad
Last Changed Date: 2021-05-19 12:28:12 -0400
nebbiolo2Linux (Ubuntu 20.04.2 LTS) / x86_64  OK    OK    OK  UNNEEDED, same version is already published
riesling1Windows Server 2019 Standard / x64  OK    OK    OK    OK  UNNEEDED, same version is already published
merida1macOS 10.14.6 Mojave / x86_64  OK    OK    OK    OK  UNNEEDED, same version is already published
Package 106/173HostnameOS / ArchINSTALLBUILDCHECKBUILD BIN
msgbsR 1.17.0  (landing page)
Benjamin Mayne
Last Commit: 612f713
Last Changed Date: 2021-05-19 12:27:53 -0400
nebbiolo2Linux (Ubuntu 20.04.2 LTS) / x86_64  OK    OK    WARNINGS  UNNEEDED, same version is already published
riesling1Windows Server 2019 Standard / x64  OK    OK    WARNINGS    OK  UNNEEDED, same version is already published
merida1macOS 10.14.6 Mojave / x86_64  OK    OK    WARNINGS    OK  UNNEEDED, same version is already published
Package 107/173HostnameOS / ArchINSTALLBUILDCHECKBUILD BIN
NADfinder 1.17.0  (landing page)
Jianhong Ou
Last Commit: f81bba6
Last Changed Date: 2021-05-19 12:26:57 -0400
nebbiolo2Linux (Ubuntu 20.04.2 LTS) / x86_64  OK    OK    OK  UNNEEDED, same version is already published
riesling1Windows Server 2019 Standard / x64  OK    OK    OK    OK  NO, package depends on 'trackViewer' which is not available
merida1macOS 10.14.6 Mojave / x86_64  OK    OK    OK    OK  UNNEEDED, same version is already published
Package 108/173HostnameOS / ArchINSTALLBUILDCHECKBUILD BIN
NanoMethViz 1.3.0  (landing page)
Shian Su
Last Commit: 7f3cc05
Last Changed Date: 2021-05-19 12:57:23 -0400
nebbiolo2Linux (Ubuntu 20.04.2 LTS) / x86_64  OK    OK    OK  UNNEEDED, same version is already published
riesling1Windows Server 2019 Standard / x64  OK    OK    OK    OK  UNNEEDED, same version is already published
merida1macOS 10.14.6 Mojave / x86_64  OK    OK    OK    OK  UNNEEDED, same version is already published
Package 109/173HostnameOS / ArchINSTALLBUILDCHECKBUILD BIN
nearBynding 1.3.1  (landing page)
Veronica Busa
Last Commit: b72d06c
Last Changed Date: 2021-06-01 17:37:24 -0400
nebbiolo2Linux (Ubuntu 20.04.2 LTS) / x86_64  OK    ERROR  skipped
riesling1Windows Server 2019 Standard / x64  OK    OK    ERROR    OK  
merida1macOS 10.14.6 Mojave / x86_64  OK    ERROR  skippedskipped
Package 110/173HostnameOS / ArchINSTALLBUILDCHECKBUILD BIN
nucleR 2.25.0  (landing page)
Alba Sala
Last Commit: 6b364a0
Last Changed Date: 2021-05-19 11:49:18 -0400
nebbiolo2Linux (Ubuntu 20.04.2 LTS) / x86_64  OK    OK    WARNINGS  UNNEEDED, same version is already published
riesling1Windows Server 2019 Standard / x64  OK    OK    WARNINGS    OK  UNNEEDED, same version is already published
merida1macOS 10.14.6 Mojave / x86_64  OK    OK    WARNINGS    OK  UNNEEDED, same version is already published
Package 111/173HostnameOS / ArchINSTALLBUILDCHECKBUILD BIN
ORFik 1.13.5  (landing page)
Haakon Tjeldnes
Last Commit: a5a44e1
Last Changed Date: 2021-06-11 10:12:36 -0400
nebbiolo2Linux (Ubuntu 20.04.2 LTS) / x86_64  OK    OK    OK  UNNEEDED, same version is already published
riesling1Windows Server 2019 Standard / x64  OK    OK    OK    OK  UNNEEDED, same version is already published
merida1macOS 10.14.6 Mojave / x86_64  OK    OK    OK    OK  UNNEEDED, same version is already published
Package 112/173HostnameOS / ArchINSTALLBUILDCHECKBUILD BIN
panelcn.mops 1.15.0  (landing page)
Gundula Povysil
Last Commit: 6a0bb04
Last Changed Date: 2021-05-19 12:30:31 -0400
nebbiolo2Linux (Ubuntu 20.04.2 LTS) / x86_64  OK    OK    OK  UNNEEDED, same version is already published
riesling1Windows Server 2019 Standard / x64  OK    OK    OK    OK  UNNEEDED, same version is already published
merida1macOS 10.14.6 Mojave / x86_64  OK    OK    OK    OK  UNNEEDED, same version is already published
Package 113/173HostnameOS / ArchINSTALLBUILDCHECKBUILD BIN
PICS 2.37.0  (landing page)
Renan Sauteraud
Last Commit: 8302609
Last Changed Date: 2021-05-19 11:45:20 -0400
nebbiolo2Linux (Ubuntu 20.04.2 LTS) / x86_64  OK    ERROR  skipped
riesling1Windows Server 2019 Standard / x64  OK    OK    OK    OK  UNNEEDED, same version is already published
merida1macOS 10.14.6 Mojave / x86_64  OK    ERROR  skippedskipped
Package 114/173HostnameOS / ArchINSTALLBUILDCHECKBUILD BIN
plyranges 1.13.0  (landing page)
Stuart Lee
Last Commit: 4a6fe2e
Last Changed Date: 2021-05-19 19:40:57 -0400
nebbiolo2Linux (Ubuntu 20.04.2 LTS) / x86_64  OK    OK    OK  UNNEEDED, same version is already published
riesling1Windows Server 2019 Standard / x64  OK    OK    OK    OK  UNNEEDED, same version is already published
merida1macOS 10.14.6 Mojave / x86_64  OK    OK    OK    OK  UNNEEDED, same version is already published
Package 115/173HostnameOS / ArchINSTALLBUILDCHECKBUILD BIN
podkat 1.25.0  (landing page)
Ulrich Bodenhofer
Last Commit: 6558098
Last Changed Date: 2021-05-19 12:12:22 -0400
nebbiolo2Linux (Ubuntu 20.04.2 LTS) / x86_64  ERROR    ERROR  skipped
riesling1Windows Server 2019 Standard / x64  ERROR    ERROR  skippedskipped
merida1macOS 10.14.6 Mojave / x86_64  ERROR    ERROR  skippedskipped
Package 116/173HostnameOS / ArchINSTALLBUILDCHECKBUILD BIN
pram 1.9.0  (landing page)
Peng Liu
Last Commit: 4240e6a
Last Changed Date: 2021-05-19 12:41:41 -0400
nebbiolo2Linux (Ubuntu 20.04.2 LTS) / x86_64  OK    OK    OK  UNNEEDED, same version is already published
riesling1Windows Server 2019 Standard / x64  OK    OK    OK    OK  UNNEEDED, same version is already published
merida1macOS 10.14.6 Mojave / x86_64  OK    OK    OK    OK  UNNEEDED, same version is already published
Package 117/173HostnameOS / ArchINSTALLBUILDCHECKBUILD BIN
PureCN 1.23.3  (landing page)
Markus Riester
Last Commit: 76c8787
Last Changed Date: 2021-05-31 00:58:29 -0400
nebbiolo2Linux (Ubuntu 20.04.2 LTS) / x86_64  OK    OK    OK  UNNEEDED, same version is already published
riesling1Windows Server 2019 Standard / x64  OK    OK    OK    OK  UNNEEDED, same version is already published
merida1macOS 10.14.6 Mojave / x86_64  OK    OK    OK    OK  UNNEEDED, same version is already published
Package 118/173HostnameOS / ArchINSTALLBUILDCHECKBUILD BIN
QDNAseq 1.29.0  (landing page)
Daoud Sie
Last Commit: c5ec8c9
Last Changed Date: 2021-05-19 12:03:41 -0400
nebbiolo2Linux (Ubuntu 20.04.2 LTS) / x86_64  OK    OK    OK  UNNEEDED, same version is already published
riesling1Windows Server 2019 Standard / x64  OK    OK    OK    OK  UNNEEDED, same version is already published
merida1macOS 10.14.6 Mojave / x86_64  OK    OK    OK    OK  UNNEEDED, same version is already published
Package 119/173HostnameOS / ArchINSTALLBUILDCHECKBUILD BIN
qsea 1.19.0  (landing page)
Matthias Lienhard
Last Commit: d8d73d9
Last Changed Date: 2021-05-19 12:21:24 -0400
nebbiolo2Linux (Ubuntu 20.04.2 LTS) / x86_64  OK    OK    OK  UNNEEDED, same version is already published
riesling1Windows Server 2019 Standard / x64  OK    OK    OK    OK  UNNEEDED, same version is already published
merida1macOS 10.14.6 Mojave / x86_64  OK    OK    OK    OK  UNNEEDED, same version is already published
Package 120/173HostnameOS / ArchINSTALLBUILDCHECKBUILD BIN
QuasR 1.33.1  (landing page)
Michael Stadler
Last Commit: 0e78ca5
Last Changed Date: 2021-05-25 13:10:01 -0400
nebbiolo2Linux (Ubuntu 20.04.2 LTS) / x86_64  OK    OK    OK  UNNEEDED, same version is already published
riesling1Windows Server 2019 Standard / x64  OK    OK    OK    OK  UNNEEDED, same version is already published
merida1macOS 10.14.6 Mojave / x86_64  OK    OK    OK    OK  UNNEEDED, same version is already published
Package 121/173HostnameOS / ArchINSTALLBUILDCHECKBUILD BIN
r3Cseq 1.39.0  (landing page)
Supat Thongjuea or
Last Commit: 805ee68
Last Changed Date: 2021-05-19 11:50:26 -0400
nebbiolo2Linux (Ubuntu 20.04.2 LTS) / x86_64  OK    OK    OK  UNNEEDED, same version is already published
riesling1Windows Server 2019 Standard / x64  OK    OK    OK    OK  UNNEEDED, same version is already published
merida1macOS 10.14.6 Mojave / x86_64  OK    OK    OK    OK  UNNEEDED, same version is already published
Package 122/173HostnameOS / ArchINSTALLBUILDCHECKBUILD BIN
R453Plus1Toolbox 1.43.0  (landing page)
Hans-Ulrich Klein
Last Commit: dcd8d58
Last Changed Date: 2021-05-19 11:46:41 -0400
nebbiolo2Linux (Ubuntu 20.04.2 LTS) / x86_64  OK    OK    OK  UNNEEDED, same version is already published
riesling1Windows Server 2019 Standard / x64  OK    OK    OK    OK  UNNEEDED, same version is already published
merida1macOS 10.14.6 Mojave / x86_64  OK    OK    OK    OK  UNNEEDED, same version is already published
Package 123/173HostnameOS / ArchINSTALLBUILDCHECKBUILD BIN
ramwas 1.17.0  (landing page)
Andrey A Shabalin
Last Commit: fe445a5
Last Changed Date: 2021-05-19 12:24:59 -0400
nebbiolo2Linux (Ubuntu 20.04.2 LTS) / x86_64  OK    OK    OK  UNNEEDED, same version is already published
riesling1Windows Server 2019 Standard / x64  OK    OK    OK    OK  UNNEEDED, same version is already published
merida1macOS 10.14.6 Mojave / x86_64  OK    OK    OK    OK  UNNEEDED, same version is already published
Package 124/173HostnameOS / ArchINSTALLBUILDCHECKBUILD BIN
Rcade 1.35.0  (landing page)
Jonathan Cairns
Last Commit: e300d5d
Last Changed Date: 2021-05-19 11:54:24 -0400
nebbiolo2Linux (Ubuntu 20.04.2 LTS) / x86_64  OK    OK    OK  UNNEEDED, same version is already published
riesling1Windows Server 2019 Standard / x64  OK    OK    OK    OK  NO, package depends on 'baySeq' which is not available
merida1macOS 10.14.6 Mojave / x86_64  OK    OK    OK    OK  UNNEEDED, same version is already published
Package 125/173HostnameOS / ArchINSTALLBUILDCHECKBUILD BIN
recoup 1.21.0  (landing page)
Panagiotis Moulos
Last Commit: b96db06
Last Changed Date: 2021-05-19 12:19:08 -0400
nebbiolo2Linux (Ubuntu 20.04.2 LTS) / x86_64  OK    OK    OK  UNNEEDED, same version is already published
riesling1Windows Server 2019 Standard / x64  OK    OK    OK    OK  UNNEEDED, same version is already published
merida1macOS 10.14.6 Mojave / x86_64  OK    OK    OK    OK  UNNEEDED, same version is already published
Package 126/173HostnameOS / ArchINSTALLBUILDCHECKBUILD BIN
Repitools 1.39.0  (landing page)
Mark Robinson
Last Commit: 426e950
Last Changed Date: 2021-05-19 11:49:04 -0400
nebbiolo2Linux (Ubuntu 20.04.2 LTS) / x86_64  OK    OK    OK  UNNEEDED, same version is already published
riesling1Windows Server 2019 Standard / x64  OK    OK    OK    OK  UNNEEDED, same version is already published
merida1macOS 10.14.6 Mojave / x86_64  OK    OK    OK    OK  UNNEEDED, same version is already published
Package 127/173HostnameOS / ArchINSTALLBUILDCHECKBUILD BIN
RepViz 1.9.0  (landing page)
Thomas Faux, Asta Laiho
Last Commit: c478ff6
Last Changed Date: 2021-05-19 12:42:56 -0400
nebbiolo2Linux (Ubuntu 20.04.2 LTS) / x86_64  OK    ERROR  skipped
riesling1Windows Server 2019 Standard / x64  OK    OK    WARNINGS    OK  UNNEEDED, same version is already published
merida1macOS 10.14.6 Mojave / x86_64  OK    ERROR  skippedskipped
Package 128/173HostnameOS / ArchINSTALLBUILDCHECKBUILD BIN
ReQON 1.39.0  (landing page)
Christopher Cabanski
Last Commit: 26dda0f
Last Changed Date: 2021-05-19 11:50:37 -0400
nebbiolo2Linux (Ubuntu 20.04.2 LTS) / x86_64  OK    OK    OK  UNNEEDED, same version is already published
riesling1Windows Server 2019 Standard / x64  OK    OK    OK    OK  NO, package depends on 'seqbias' which is not available
merida1macOS 10.14.6 Mojave / x86_64  OK    OK    OK    OK  UNNEEDED, same version is already published
Package 129/173HostnameOS / ArchINSTALLBUILDCHECKBUILD BIN
rfPred 1.31.0  (landing page)
Hugo Varet
Last Commit: 79b494a
Last Changed Date: 2021-05-19 11:59:56 -0400
nebbiolo2Linux (Ubuntu 20.04.2 LTS) / x86_64  OK    OK    OK  UNNEEDED, same version is already published
riesling1Windows Server 2019 Standard / x64  OK    ERROR  skippedskipped
merida1macOS 10.14.6 Mojave / x86_64  OK    OK    OK    OK  UNNEEDED, same version is already published
Package 130/173HostnameOS / ArchINSTALLBUILDCHECKBUILD BIN
RiboDiPA 1.1.0  (landing page)
Ji-Ping Wang
Last Commit: 7a819c5
Last Changed Date: 2021-05-19 12:59:17 -0400
nebbiolo2Linux (Ubuntu 20.04.2 LTS) / x86_64  OK    OK    OK  UNNEEDED, same version is already published
riesling1Windows Server 2019 Standard / x64  OK    OK    OK    OK  UNNEEDED, same version is already published
merida1macOS 10.14.6 Mojave / x86_64  OK    OK    OK    OK  UNNEEDED, same version is already published
Package 131/173HostnameOS / ArchINSTALLBUILDCHECKBUILD BIN
RiboProfiling 1.23.0  (landing page)
A. Popa
Last Commit: 9542bc6
Last Changed Date: 2021-05-19 12:16:23 -0400
nebbiolo2Linux (Ubuntu 20.04.2 LTS) / x86_64  OK    OK    WARNINGS  UNNEEDED, same version is already published
riesling1Windows Server 2019 Standard / x64  OK    OK    WARNINGS    OK  UNNEEDED, same version is already published
merida1macOS 10.14.6 Mojave / x86_64  OK    OK    WARNINGS    OK  UNNEEDED, same version is already published
Package 132/173HostnameOS / ArchINSTALLBUILDCHECKBUILD BIN
riboSeqR 1.27.0  (landing page)
Thomas J. Hardcastle
Last Commit: 5eecc40
Last Changed Date: 2021-05-19 12:05:43 -0400
nebbiolo2Linux (Ubuntu 20.04.2 LTS) / x86_64  OK    OK    OK  UNNEEDED, same version is already published
riesling1Windows Server 2019 Standard / x64  OK    OK    OK    OK  NO, package depends on 'baySeq' which is not available
merida1macOS 10.14.6 Mojave / x86_64  OK    OK    OK    OK  UNNEEDED, same version is already published
Package 133/173HostnameOS / ArchINSTALLBUILDCHECKBUILD BIN
ribosomeProfilingQC 1.5.0  (landing page)
Jianhong Ou
Last Commit: 7503f41
Last Changed Date: 2021-05-19 12:49:46 -0400
nebbiolo2Linux (Ubuntu 20.04.2 LTS) / x86_64  OK    OK    OK  UNNEEDED, same version is already published
riesling1Windows Server 2019 Standard / x64  OK    OK    OK    OK  UNNEEDED, same version is already published
merida1macOS 10.14.6 Mojave / x86_64  OK    OK    OK    OK  UNNEEDED, same version is already published
Package 134/173HostnameOS / ArchINSTALLBUILDCHECKBUILD BIN
RNAmodR 1.7.0  (landing page)
Felix G.M. Ernst
Last Commit: 7036ba9
Last Changed Date: 2021-05-19 12:44:18 -0400
nebbiolo2Linux (Ubuntu 20.04.2 LTS) / x86_64  OK    OK    OK  UNNEEDED, same version is already published
riesling1Windows Server 2019 Standard / x64  OK    ERROR  skippedskipped
merida1macOS 10.14.6 Mojave / x86_64  OK    ERROR  skippedskipped
Package 135/173HostnameOS / ArchINSTALLBUILDCHECKBUILD BIN
RNASeqR 1.11.0  (landing page)
Kuan-Hao Chao
Last Commit: aa3ab85
Last Changed Date: 2021-05-19 12:38:39 -0400
nebbiolo2Linux (Ubuntu 20.04.2 LTS) / x86_64  OK    ERROR  skipped
riesling1Windows Server 2019 Standard / x64... NOT SUPPORTED ...
merida1macOS 10.14.6 Mojave / x86_64  OK    ERROR  skippedskipped
Package 136/173HostnameOS / ArchINSTALLBUILDCHECKBUILD BIN
Rqc 1.27.0  (landing page)
Welliton Souza
Last Commit: 34150ad
Last Changed Date: 2021-05-19 12:09:26 -0400
nebbiolo2Linux (Ubuntu 20.04.2 LTS) / x86_64  OK    ERROR  skipped
riesling1Windows Server 2019 Standard / x64  OK    OK    TIMEOUT    OK  
merida1macOS 10.14.6 Mojave / x86_64  OK    ERROR  skippedskipped
Package 137/173HostnameOS / ArchINSTALLBUILDCHECKBUILD BIN
rtracklayer 1.53.0  (landing page)
Michael Lawrence
Last Commit: b11616f
Last Changed Date: 2021-05-19 11:40:44 -0400
nebbiolo2Linux (Ubuntu 20.04.2 LTS) / x86_64  OK    OK    WARNINGS  UNNEEDED, same version is already published
riesling1Windows Server 2019 Standard / x64  OK    OK    WARNINGS    OK  UNNEEDED, same version is already published
merida1macOS 10.14.6 Mojave / x86_64  OK    OK    WARNINGS    OK  UNNEEDED, same version is already published
Package 138/173HostnameOS / ArchINSTALLBUILDCHECKBUILD BIN
SCOPE 1.5.0  (landing page)
Rujin Wang
Last Commit: 0dda9f4
Last Changed Date: 2021-05-19 12:49:33 -0400
nebbiolo2Linux (Ubuntu 20.04.2 LTS) / x86_64  OK    OK    WARNINGS  UNNEEDED, same version is already published
riesling1Windows Server 2019 Standard / x64  OK    OK    WARNINGS    OK  UNNEEDED, same version is already published
merida1macOS 10.14.6 Mojave / x86_64  OK    OK    WARNINGS    OK  UNNEEDED, same version is already published
Package 139/173HostnameOS / ArchINSTALLBUILDCHECKBUILD BIN
scruff 1.11.0  (landing page)
Zhe Wang
Last Commit: b8dd55b
Last Changed Date: 2021-05-19 12:36:52 -0400
nebbiolo2Linux (Ubuntu 20.04.2 LTS) / x86_64  OK    OK    OK  UNNEEDED, same version is already published
riesling1Windows Server 2019 Standard / x64  OK    OK    OK    OK  UNNEEDED, same version is already published
merida1macOS 10.14.6 Mojave / x86_64  OK    OK    OK    OK  UNNEEDED, same version is already published
Package 140/173HostnameOS / ArchINSTALLBUILDCHECKBUILD BIN
segmentSeq 2.27.0  (landing page)
Thomas J. Hardcastle
Last Commit: 056c7a5
Last Changed Date: 2021-05-19 11:44:54 -0400
nebbiolo2Linux (Ubuntu 20.04.2 LTS) / x86_64  OK    OK    OK  UNNEEDED, same version is already published
riesling1Windows Server 2019 Standard / x64  OK    OK    OK    OK  NO, package depends on 'baySeq' which is not available
merida1macOS 10.14.6 Mojave / x86_64  OK    OK    OK    OK  UNNEEDED, same version is already published
Package 141/173HostnameOS / ArchINSTALLBUILDCHECKBUILD BIN
seqsetvis 1.13.0  (landing page)
Joseph R Boyd
Last Commit: 350fccb
Last Changed Date: 2021-05-19 12:34:35 -0400
nebbiolo2Linux (Ubuntu 20.04.2 LTS) / x86_64  OK    OK    OK  UNNEEDED, same version is already published
riesling1Windows Server 2019 Standard / x64  OK    OK    OK    OK  UNNEEDED, same version is already published
merida1macOS 10.14.6 Mojave / x86_64  OK    OK    OK    OK  UNNEEDED, same version is already published
Package 142/173HostnameOS / ArchINSTALLBUILDCHECKBUILD BIN
SGSeq 1.27.0  (landing page)
Leonard Goldstein
Last Commit: b96f7d4
Last Changed Date: 2021-05-19 12:08:58 -0400
nebbiolo2Linux (Ubuntu 20.04.2 LTS) / x86_64  OK    OK    OK  UNNEEDED, same version is already published
riesling1Windows Server 2019 Standard / x64  OK    OK    OK    OK  UNNEEDED, same version is already published
merida1macOS 10.14.6 Mojave / x86_64  OK    OK    OK    OK  UNNEEDED, same version is already published
Package 143/173HostnameOS / ArchINSTALLBUILDCHECKBUILD BIN
ShortRead 1.51.0  (landing page)
Bioconductor Package Maintainer
Last Commit: fb8723c
Last Changed Date: 2021-05-19 11:40:52 -0400
nebbiolo2Linux (Ubuntu 20.04.2 LTS) / x86_64  OK    OK    WARNINGS  UNNEEDED, same version is already published
riesling1Windows Server 2019 Standard / x64  OK    OK    OK    OK  UNNEEDED, same version is already published
merida1macOS 10.14.6 Mojave / x86_64  OK    OK    OK    OK  UNNEEDED, same version is already published
Package 144/173HostnameOS / ArchINSTALLBUILDCHECKBUILD BIN
SICtools 1.23.0  (landing page)
Xiaobin Xing
Last Commit: 65e7114
Last Changed Date: 2021-05-19 12:16:12 -0400
nebbiolo2Linux (Ubuntu 20.04.2 LTS) / x86_64  OK    ERROR  skipped
riesling1Windows Server 2019 Standard / x64... NOT SUPPORTED ...
merida1macOS 10.14.6 Mojave / x86_64  OK    ERROR  skippedskipped
Package 145/173HostnameOS / ArchINSTALLBUILDCHECKBUILD BIN
SimFFPE 1.5.0  (landing page)
Lanying Wei
Last Commit: c1d0d02
Last Changed Date: 2021-05-19 12:49:03 -0400
nebbiolo2Linux (Ubuntu 20.04.2 LTS) / x86_64  OK    OK    OK  UNNEEDED, same version is already published
riesling1Windows Server 2019 Standard / x64  OK    OK    OK    OK  UNNEEDED, same version is already published
merida1macOS 10.14.6 Mojave / x86_64  OK    OK    OK    OK  UNNEEDED, same version is already published
Package 146/173HostnameOS / ArchINSTALLBUILDCHECKBUILD BIN
sitadela 1.1.0  (landing page)
Panagiotis Moulos
Last Commit: 91e95cc
Last Changed Date: 2021-05-19 13:00:47 -0400
nebbiolo2Linux (Ubuntu 20.04.2 LTS) / x86_64  OK    ERROR  skipped
riesling1Windows Server 2019 Standard / x64  OK    OK    OK    OK  UNNEEDED, same version is already published
merida1macOS 10.14.6 Mojave / x86_64  OK    ERROR  skippedskipped
Package 147/173HostnameOS / ArchINSTALLBUILDCHECKBUILD BIN
SNPhood 1.23.0  (landing page)
Christian Arnold
Last Commit: 43db75b
Last Changed Date: 2021-05-19 12:16:25 -0400
nebbiolo2Linux (Ubuntu 20.04.2 LTS) / x86_64  OK    OK    OK  UNNEEDED, same version is already published
riesling1Windows Server 2019 Standard / x64  OK    OK    OK    OK  UNNEEDED, same version is already published
merida1macOS 10.14.6 Mojave / x86_64  OK    OK    OK    OK  UNNEEDED, same version is already published
Package 148/173HostnameOS / ArchINSTALLBUILDCHECKBUILD BIN
soGGi 1.25.0  (landing page)
Tom Carroll
Last Commit: 948d4ca
Last Changed Date: 2021-05-19 12:13:08 -0400
nebbiolo2Linux (Ubuntu 20.04.2 LTS) / x86_64  OK    OK    OK  UNNEEDED, same version is already published
riesling1Windows Server 2019 Standard / x64  OK    OK    OK    OK  UNNEEDED, same version is already published
merida1macOS 10.14.6 Mojave / x86_64  OK    OK    OK    OK  UNNEEDED, same version is already published
Package 149/173HostnameOS / ArchINSTALLBUILDCHECKBUILD BIN
spiky 0.99.999  (landing page)
Tim Triche
Last Commit: 4808f44
Last Changed Date: 2021-05-13 22:06:38 -0400
nebbiolo2Linux (Ubuntu 20.04.2 LTS) / x86_64  OK    OK    OK  UNNEEDED, same version is already published
riesling1Windows Server 2019 Standard / x64  OK    OK    OK    OK  UNNEEDED, same version is already published
merida1macOS 10.14.6 Mojave / x86_64  OK    OK    OK    OK  UNNEEDED, same version is already published
Package 150/173HostnameOS / ArchINSTALLBUILDCHECKBUILD BIN
SplicingGraphs 1.33.0  (landing page)
H. Pagès
Last Commit: 6f313b4
Last Changed Date: 2021-05-19 11:58:48 -0400
nebbiolo2Linux (Ubuntu 20.04.2 LTS) / x86_64  OK    OK    WARNINGS  UNNEEDED, same version is already published
riesling1Windows Server 2019 Standard / x64  OK    OK    WARNINGS    OK  NO, package depends on 'Rgraphviz' which is not available
merida1macOS 10.14.6 Mojave / x86_64  OK    OK    WARNINGS    OK  UNNEEDED, same version is already published
Package 151/173HostnameOS / ArchINSTALLBUILDCHECKBUILD BIN
srnadiff 1.13.2  (landing page)
Zytnicki Matthias
Last Commit: 4203bcc
Last Changed Date: 2021-06-02 10:18:43 -0400
nebbiolo2Linux (Ubuntu 20.04.2 LTS) / x86_64  OK    OK    OK  UNNEEDED, same version is already published
riesling1Windows Server 2019 Standard / x64  OK    OK    ERROR    OK  
merida1macOS 10.14.6 Mojave / x86_64  OK    OK    OK    OK  UNNEEDED, same version is already published
Package 152/173HostnameOS / ArchINSTALLBUILDCHECKBUILD BIN
ssviz 1.27.0  (landing page)
Diana Low
Last Commit: 07e9a67
Last Changed Date: 2021-05-19 12:05:41 -0400
nebbiolo2Linux (Ubuntu 20.04.2 LTS) / x86_64  OK    OK    OK  UNNEEDED, same version is already published
riesling1Windows Server 2019 Standard / x64  OK    OK    OK    OK  UNNEEDED, same version is already published
merida1macOS 10.14.6 Mojave / x86_64  OK    OK    OK    OK  UNNEEDED, same version is already published
Package 153/173HostnameOS / ArchINSTALLBUILDCHECKBUILD BIN
strandCheckR 1.11.0  (landing page)
Thu-Hien To
Last Commit: 46cbf1f
Last Changed Date: 2021-05-19 12:37:00 -0400
nebbiolo2Linux (Ubuntu 20.04.2 LTS) / x86_64  OK    ERROR  skipped
riesling1Windows Server 2019 Standard / x64  OK    OK    OK    OK  UNNEEDED, same version is already published
merida1macOS 10.14.6 Mojave / x86_64  OK    ERROR  skippedskipped
Package 154/173HostnameOS / ArchINSTALLBUILDCHECKBUILD BIN
systemPipeR 1.27.4  (landing page)
Thomas Girke
Last Commit: aaeddd3
Last Changed Date: 2021-05-29 01:30:45 -0400
nebbiolo2Linux (Ubuntu 20.04.2 LTS) / x86_64  OK    OK    OK  UNNEEDED, same version is already published
riesling1Windows Server 2019 Standard / x64  OK    OK    OK    OK  UNNEEDED, same version is already published
merida1macOS 10.14.6 Mojave / x86_64  OK    OK    OK    OK  UNNEEDED, same version is already published
Package 155/173HostnameOS / ArchINSTALLBUILDCHECKBUILD BIN
TarSeqQC 1.23.0  (landing page)
Gabriela Merino
Last Commit: 6db8d32
Last Changed Date: 2021-05-19 12:15:49 -0400
nebbiolo2Linux (Ubuntu 20.04.2 LTS) / x86_64  OK    OK    OK  UNNEEDED, same version is already published
riesling1Windows Server 2019 Standard / x64  OK    OK    OK    OK  UNNEEDED, same version is already published
merida1macOS 10.14.6 Mojave / x86_64  OK    OK    OK    OK  UNNEEDED, same version is already published
Package 156/173HostnameOS / ArchINSTALLBUILDCHECKBUILD BIN
TCseq 1.17.0  (landing page)
Mengjun Wu
Last Commit: 9503581
Last Changed Date: 2021-05-19 12:25:15 -0400
nebbiolo2Linux (Ubuntu 20.04.2 LTS) / x86_64  OK    OK    OK  UNNEEDED, same version is already published
riesling1Windows Server 2019 Standard / x64  OK    OK    OK    OK  UNNEEDED, same version is already published
merida1macOS 10.14.6 Mojave / x86_64  OK    OK    OK    OK  UNNEEDED, same version is already published
Package 157/173HostnameOS / ArchINSTALLBUILDCHECKBUILD BIN
TEQC 4.15.0  (landing page)
Sarah Bonnin
Last Commit: ca88e25
Last Changed Date: 2021-05-19 11:46:58 -0400
nebbiolo2Linux (Ubuntu 20.04.2 LTS) / x86_64  OK    OK    WARNINGS  UNNEEDED, same version is already published
riesling1Windows Server 2019 Standard / x64  OK    OK    WARNINGS    OK  UNNEEDED, same version is already published
merida1macOS 10.14.6 Mojave / x86_64  OK    OK    WARNINGS    OK  UNNEEDED, same version is already published
Package 158/173HostnameOS / ArchINSTALLBUILDCHECKBUILD BIN
TFutils 1.13.0  (landing page)
Vincent Carey
Last Commit: f415512
Last Changed Date: 2021-05-19 12:34:54 -0400
nebbiolo2Linux (Ubuntu 20.04.2 LTS) / x86_64  OK    ERROR  skipped
riesling1Windows Server 2019 Standard / x64  OK    ERROR  skippedskipped
merida1macOS 10.14.6 Mojave / x86_64  OK    ERROR  skippedskipped
Package 159/173HostnameOS / ArchINSTALLBUILDCHECKBUILD BIN
tracktables 1.27.0  (landing page)
Tom Carroll
Last Commit: 75e5b22
Last Changed Date: 2021-05-19 12:09:16 -0400
nebbiolo2Linux (Ubuntu 20.04.2 LTS) / x86_64  OK    OK    WARNINGS  UNNEEDED, same version is already published
riesling1Windows Server 2019 Standard / x64  OK    OK    WARNINGS    OK  UNNEEDED, same version is already published
merida1macOS 10.14.6 Mojave / x86_64  OK    OK    WARNINGS    OK  UNNEEDED, same version is already published
Package 160/173HostnameOS / ArchINSTALLBUILDCHECKBUILD BIN
trackViewer 1.29.1  (landing page)
Jianhong Ou
Last Commit: cdb4578
Last Changed Date: 2021-05-24 16:32:55 -0400
nebbiolo2Linux (Ubuntu 20.04.2 LTS) / x86_64  OK    OK    OK  UNNEEDED, same version is already published
riesling1Windows Server 2019 Standard / x64  OK    OK    OK    OK  NO, package depends on 'Rgraphviz' which is not available
merida1macOS 10.14.6 Mojave / x86_64  OK    OK    OK    OK  UNNEEDED, same version is already published
Package 161/173HostnameOS / ArchINSTALLBUILDCHECKBUILD BIN
transcriptR 1.21.0  (landing page)
Armen R. Karapetyan
Last Commit: d931d65
Last Changed Date: 2021-05-19 12:17:06 -0400
nebbiolo2Linux (Ubuntu 20.04.2 LTS) / x86_64  OK    OK    OK  UNNEEDED, same version is already published
riesling1Windows Server 2019 Standard / x64  OK    OK    OK    OK  UNNEEDED, same version is already published
merida1macOS 10.14.6 Mojave / x86_64  OK    OK    OK    OK  UNNEEDED, same version is already published
Package 162/173HostnameOS / ArchINSTALLBUILDCHECKBUILD BIN
tRNAscanImport 1.13.0  (landing page)
Felix G.M. Ernst
Last Commit: 9aaabef
Last Changed Date: 2021-05-19 12:33:50 -0400
nebbiolo2Linux (Ubuntu 20.04.2 LTS) / x86_64  OK    OK    OK  UNNEEDED, same version is already published
riesling1Windows Server 2019 Standard / x64  OK    OK    OK    OK  UNNEEDED, same version is already published
merida1macOS 10.14.6 Mojave / x86_64  OK    OK    OK    OK  UNNEEDED, same version is already published
Package 163/173HostnameOS / ArchINSTALLBUILDCHECKBUILD BIN
TSRchitect 1.19.0  (landing page)
R. Taylor Raborn
Last Commit: e79d894
Last Changed Date: 2021-05-19 12:27:50 -0400
nebbiolo2Linux (Ubuntu 20.04.2 LTS) / x86_64  OK    OK    WARNINGS  UNNEEDED, same version is already published
riesling1Windows Server 2019 Standard / x64  OK    OK    WARNINGS    OK  UNNEEDED, same version is already published
merida1macOS 10.14.6 Mojave / x86_64  OK    OK    WARNINGS    OK  UNNEEDED, same version is already published
Package 164/173HostnameOS / ArchINSTALLBUILDCHECKBUILD BIN
TVTB 1.19.0  (landing page)
Kevin Rue-Albrecht
Last Commit: a2c78cd
Last Changed Date: 2021-05-19 12:24:09 -0400
nebbiolo2Linux (Ubuntu 20.04.2 LTS) / x86_64  OK    OK    ERROR  
riesling1Windows Server 2019 Standard / x64... NOT SUPPORTED ...
merida1macOS 10.14.6 Mojave / x86_64  OK    OK    ERROR    OK  
Package 165/173HostnameOS / ArchINSTALLBUILDCHECKBUILD BIN
UMI4Cats 1.3.1  (landing page)
Mireia Ramos-Rodriguez
Last Commit: d3a7908
Last Changed Date: 2021-06-11 08:57:40 -0400
nebbiolo2Linux (Ubuntu 20.04.2 LTS) / x86_64  OK    OK    OK  UNNEEDED, same version is already published
riesling1Windows Server 2019 Standard / x64  OK    OK    OK    OK  UNNEEDED, same version is already published
merida1macOS 10.14.6 Mojave / x86_64  OK    OK    OK    OK  UNNEEDED, same version is already published
Package 166/173HostnameOS / ArchINSTALLBUILDCHECKBUILD BIN
uncoverappLib 1.3.0  (landing page)
Emanuela Iovino
Last Commit: 6de931b
Last Changed Date: 2021-05-19 12:54:28 -0400
nebbiolo2Linux (Ubuntu 20.04.2 LTS) / x86_64  OK    OK    OK  UNNEEDED, same version is already published
riesling1Windows Server 2019 Standard / x64  OK    OK    OK    OK  UNNEEDED, same version is already published
merida1macOS 10.14.6 Mojave / x86_64  OK    OK    OK    OK  UNNEEDED, same version is already published
Package 167/173HostnameOS / ArchINSTALLBUILDCHECKBUILD BIN
VariantAnnotation 1.39.0  (landing page)
Bioconductor Package Maintainer
Last Commit: 2c493d7
Last Changed Date: 2021-05-19 11:49:26 -0400
nebbiolo2Linux (Ubuntu 20.04.2 LTS) / x86_64  OK    OK    OK  UNNEEDED, same version is already published
riesling1Windows Server 2019 Standard / x64  OK    OK    OK    OK  UNNEEDED, same version is already published
merida1macOS 10.14.6 Mojave / x86_64  OK    OK    OK    OK  UNNEEDED, same version is already published
Package 168/173HostnameOS / ArchINSTALLBUILDCHECKBUILD BIN
VariantFiltering 1.29.0  (landing page)
Robert Castelo
Last Commit: 633fbd5
Last Changed Date: 2021-05-19 12:04:28 -0400
nebbiolo2Linux (Ubuntu 20.04.2 LTS) / x86_64  OK    OK    OK  UNNEEDED, same version is already published
riesling1Windows Server 2019 Standard / x64  OK    OK    OK    OK  UNNEEDED, same version is already published
merida1macOS 10.14.6 Mojave / x86_64  OK    OK    OK    OK  UNNEEDED, same version is already published
Package 169/173HostnameOS / ArchINSTALLBUILDCHECKBUILD BIN
VariantTools 1.35.0  (landing page)
Michael Lawrence
Last Commit: cd425a1
Last Changed Date: 2021-05-19 11:54:32 -0400
nebbiolo2Linux (Ubuntu 20.04.2 LTS) / x86_64  OK    OK    WARNINGS  UNNEEDED, same version is already published
riesling1Windows Server 2019 Standard / x64  OK    OK    WARNINGS    OK  UNNEEDED, same version is already published
merida1macOS 10.14.6 Mojave / x86_64  OK    OK    WARNINGS    OK  UNNEEDED, same version is already published
Package 170/173HostnameOS / ArchINSTALLBUILDCHECKBUILD BIN
VaSP 1.5.0  (landing page)
Huihui Yu
Last Commit: c122fbf
Last Changed Date: 2021-05-19 12:49:43 -0400
nebbiolo2Linux (Ubuntu 20.04.2 LTS) / x86_64  OK    OK    OK  UNNEEDED, same version is already published
riesling1Windows Server 2019 Standard / x64  OK    OK    OK    OK  UNNEEDED, same version is already published
merida1macOS 10.14.6 Mojave / x86_64  OK    OK    OK    OK  UNNEEDED, same version is already published
Package 171/173HostnameOS / ArchINSTALLBUILDCHECKBUILD BIN
VCFArray 1.9.0  (landing page)
Qian Liu
Last Commit: b092173
Last Changed Date: 2021-05-19 12:40:01 -0400
nebbiolo2Linux (Ubuntu 20.04.2 LTS) / x86_64  OK    OK    OK  UNNEEDED, same version is already published
riesling1Windows Server 2019 Standard / x64  OK    OK    OK    OK  UNNEEDED, same version is already published
merida1macOS 10.14.6 Mojave / x86_64  OK    OK    OK    OK  UNNEEDED, same version is already published
Package 172/173HostnameOS / ArchINSTALLBUILDCHECKBUILD BIN
VplotR 1.3.0  (landing page)
Jacques Serizay
Last Commit: c7148ce
Last Changed Date: 2021-05-19 12:54:43 -0400
nebbiolo2Linux (Ubuntu 20.04.2 LTS) / x86_64  OK    OK    OK  UNNEEDED, same version is already published
riesling1Windows Server 2019 Standard / x64  OK    OK    OK    OK  UNNEEDED, same version is already published
merida1macOS 10.14.6 Mojave / x86_64  OK    OK    OK    OK  UNNEEDED, same version is already published
Package 173/173HostnameOS / ArchINSTALLBUILDCHECKBUILD BIN
wavClusteR 2.27.0  (landing page)
Federico Comoglio
Last Commit: 7d1b0b9
Last Changed Date: 2021-05-19 12:05:25 -0400
nebbiolo2Linux (Ubuntu 20.04.2 LTS) / x86_64  OK    OK    OK  UNNEEDED, same version is already published
riesling1Windows Server 2019 Standard / x64  OK    OK    OK    OK  UNNEEDED, same version is already published
merida1macOS 10.14.6 Mojave / x86_64  OK    OK    OK    OK  UNNEEDED, same version is already published