Back to Multiple platform build/check report for BioC 3.14
ABCDEFGHIJKLMNOPQ[R]STUVWXYZ

This page was generated on 2021-08-02 12:04:32 -0400 (Mon, 02 Aug 2021).

BUILD results for RpsiXML on nebbiolo2

To the developers/maintainers of the RpsiXML package:
- Please allow up to 24 hours (and sometimes 48 hours) for your latest push to git@git.bioconductor.org:packages/RpsiXML.git to
reflect on this report. See How and When does the builder pull? When will my changes propagate? here for more information.
- Make sure to use the following settings in order to reproduce any error or warning you see on this page.

raw results

Package 1601/2015HostnameOS / ArchINSTALLBUILDCHECKBUILD BIN
RpsiXML 2.35.0  (landing page)
Jitao David Zhang
Snapshot Date: 2021-08-01 14:50:04 -0400 (Sun, 01 Aug 2021)
URL: https://git.bioconductor.org/packages/RpsiXML
Branch: master
Last Commit: 922358c
Last Changed Date: 2021-05-19 11:41:31 -0400 (Wed, 19 May 2021)
nebbiolo2Linux (Ubuntu 20.04.2 LTS) / x86_64  OK    OK    OK  UNNEEDED, same version is already published
riesling1Windows Server 2019 Standard / x64  OK    OK    OK    OK  UNNEEDED, same version is already published
merida1macOS 10.14.6 Mojave / x86_64  OK    OK    OK    OK  UNNEEDED, same version is already published

Summary

Package: RpsiXML
Version: 2.35.0
Command: /home/biocbuild/bbs-3.14-bioc/R/bin/R CMD build --keep-empty-dirs --no-resave-data RpsiXML
StartedAt: 2021-08-01 18:06:54 -0400 (Sun, 01 Aug 2021)
EndedAt: 2021-08-01 18:07:23 -0400 (Sun, 01 Aug 2021)
EllapsedTime: 29.5 seconds
RetCode: 0
Status:   OK  
PackageFile: RpsiXML_2.35.0.tar.gz
PackageFileSize: 2.365 MiB

Command output

##############################################################################
##############################################################################
###
### Running command:
###
###   /home/biocbuild/bbs-3.14-bioc/R/bin/R CMD build --keep-empty-dirs --no-resave-data RpsiXML
###
##############################################################################
##############################################################################


* checking for file ‘RpsiXML/DESCRIPTION’ ... OK
* preparing ‘RpsiXML’:
* checking DESCRIPTION meta-information ... OK
* installing the package to build vignettes
* creating vignettes ... OK
* checking for LF line-endings in source and make files and shell scripts
* checking for empty or unneeded directories
* building ‘RpsiXML_2.35.0.tar.gz’